BEGIN:VCALENDAR
VERSION:2.0
PRODID:-//Department of Medicine - ECPv6.15.18//NONSGML v1.0//EN
CALSCALE:GREGORIAN
METHOD:PUBLISH
X-ORIGINAL-URL:https://www.med.unc.edu/medicine
X-WR-CALDESC:Events for Department of Medicine
REFRESH-INTERVAL;VALUE=DURATION:PT1H
X-Robots-Tag:noindex
X-PUBLISHED-TTL:PT1H
BEGIN:VTIMEZONE
TZID:America/New_York
BEGIN:DAYLIGHT
TZOFFSETFROM:-0500
TZOFFSETTO:-0400
TZNAME:EDT
DTSTART:20190310T070000
END:DAYLIGHT
BEGIN:STANDARD
TZOFFSETFROM:-0400
TZOFFSETTO:-0500
TZNAME:EST
DTSTART:20191103T060000
END:STANDARD
BEGIN:DAYLIGHT
TZOFFSETFROM:-0500
TZOFFSETTO:-0400
TZNAME:EDT
DTSTART:20200308T070000
END:DAYLIGHT
BEGIN:STANDARD
TZOFFSETFROM:-0400
TZOFFSETTO:-0500
TZNAME:EST
DTSTART:20201101T060000
END:STANDARD
BEGIN:DAYLIGHT
TZOFFSETFROM:-0500
TZOFFSETTO:-0400
TZNAME:EDT
DTSTART:20210314T070000
END:DAYLIGHT
BEGIN:STANDARD
TZOFFSETFROM:-0400
TZOFFSETTO:-0500
TZNAME:EST
DTSTART:20211107T060000
END:STANDARD
END:VTIMEZONE
BEGIN:VEVENT
DTSTART;TZID=America/New_York:20200430T120000
DTEND;TZID=America/New_York:20200430T130000
DTSTAMP:20260421T174612
CREATED:20200327T201346Z
LAST-MODIFIED:20200424T214253Z
UID:10001224-1588248000-1588251600@www.med.unc.edu
SUMMARY:Medicine Grand Rounds - Virtual Presentation -  Joe Eron\, MD\, & David Weber\, MD\, MPH -  "Update on Coronavirus"
DESCRIPTION:Joe Eron\, MD\, and David Weber\, MD\nJoe Eron\, MD\, and David Weber\, MD\, MPH\, will be providing up to date Coronavirus information. Dr. Eron will provide updated information about treatments\, and Dr. Weber will provide an overview of the current state of COVID-19\, epidemiology and hospital responses. \n 
URL:https://www.med.unc.edu/medicine/event/medicine-grand-rounds-virtual-presentation-dr-joe-eron-md-dr-david-weber-md-mph-coronavirus-update/
LOCATION:Room 4008 Old Clinic Auditorium\, Chapel Hill\, NC\, United States
CATEGORIES:Medicine Grand Rounds
ATTACH;FMTTYPE=image/png:https://www.med.unc.edu/medicine/wp-content/uploads/sites/945/2020/03/covid-19-image.png
END:VEVENT
END:VCALENDAR