BEGIN:VCALENDAR
VERSION:2.0
PRODID:-//Department of Medicine - ECPv6.15.18//NONSGML v1.0//EN
CALSCALE:GREGORIAN
METHOD:PUBLISH
X-ORIGINAL-URL:https://www.med.unc.edu/medicine
X-WR-CALDESC:Events for Department of Medicine
REFRESH-INTERVAL;VALUE=DURATION:PT1H
X-Robots-Tag:noindex
X-PUBLISHED-TTL:PT1H
BEGIN:VTIMEZONE
TZID:America/New_York
BEGIN:DAYLIGHT
TZOFFSETFROM:-0500
TZOFFSETTO:-0400
TZNAME:EDT
DTSTART:20150308T070000
END:DAYLIGHT
BEGIN:STANDARD
TZOFFSETFROM:-0400
TZOFFSETTO:-0500
TZNAME:EST
DTSTART:20151101T060000
END:STANDARD
BEGIN:DAYLIGHT
TZOFFSETFROM:-0500
TZOFFSETTO:-0400
TZNAME:EDT
DTSTART:20160313T070000
END:DAYLIGHT
BEGIN:STANDARD
TZOFFSETFROM:-0400
TZOFFSETTO:-0500
TZNAME:EST
DTSTART:20161106T060000
END:STANDARD
BEGIN:DAYLIGHT
TZOFFSETFROM:-0500
TZOFFSETTO:-0400
TZNAME:EDT
DTSTART:20170312T070000
END:DAYLIGHT
BEGIN:STANDARD
TZOFFSETFROM:-0400
TZOFFSETTO:-0500
TZNAME:EST
DTSTART:20171105T060000
END:STANDARD
END:VTIMEZONE
BEGIN:VEVENT
DTSTART;TZID=America/New_York:20160204T120000
DTEND;TZID=America/New_York:20160204T130000
DTSTAMP:20260421T003623
CREATED:20160204T170000Z
LAST-MODIFIED:20190307T202516Z
UID:10000773-1454587200-1454590800@www.med.unc.edu
SUMMARY:Medicine Grand Rounds - Drs. John Buse & Deborah Tate: "Obesity Management"
DESCRIPTION:
URL:https://www.med.unc.edu/medicine/event/february-4/
CATEGORIES:Medicine Grand Rounds
END:VEVENT
BEGIN:VEVENT
DTSTART;TZID=America/New_York:20160211T120000
DTEND;TZID=America/New_York:20160211T130000
DTSTAMP:20260421T003623
CREATED:20160211T170000Z
LAST-MODIFIED:20190307T202514Z
UID:10000775-1455192000-1455195600@www.med.unc.edu
SUMMARY:Medicine Grand Rounds M & M - Drs. Andrew Greganti and Francis Gilliam: "Sudden Cardiac Death"
DESCRIPTION:
URL:https://www.med.unc.edu/medicine/event/february-11/
CATEGORIES:Medicine Grand Rounds
END:VEVENT
BEGIN:VEVENT
DTSTART;TZID=America/New_York:20160218T120000
DTEND;TZID=America/New_York:20160218T130000
DTSTAMP:20260421T003623
CREATED:20160218T170000Z
LAST-MODIFIED:20190307T202512Z
UID:10000777-1455796800-1455800400@www.med.unc.edu
SUMMARY:Medicine Grand Rounds - Dr. Richard Loeser: "Osteoarthritis – Epidemiology\, Pathogenesis & Therapeutic Alternatives"
DESCRIPTION:
URL:https://www.med.unc.edu/medicine/event/february-18/
CATEGORIES:Medicine Grand Rounds
END:VEVENT
BEGIN:VEVENT
DTSTART;TZID=America/New_York:20160225T120000
DTEND;TZID=America/New_York:20160225T130000
DTSTAMP:20260421T003623
CREATED:20160225T170000Z
LAST-MODIFIED:20190307T202510Z
UID:10000779-1456401600-1456405200@www.med.unc.edu
SUMMARY:Medicine Grand Rounds - Dr. William Applegate - "Hypertension in the Elderly: From SHEP to SPRINT"
DESCRIPTION:
URL:https://www.med.unc.edu/medicine/event/february-25/
CATEGORIES:Medicine Grand Rounds
END:VEVENT
END:VCALENDAR