BEGIN:VCALENDAR
VERSION:2.0
PRODID:-//Department of Medicine - ECPv6.15.18//NONSGML v1.0//EN
CALSCALE:GREGORIAN
METHOD:PUBLISH
X-ORIGINAL-URL:https://www.med.unc.edu/medicine
X-WR-CALDESC:Events for Department of Medicine
REFRESH-INTERVAL;VALUE=DURATION:PT1H
X-Robots-Tag:noindex
X-PUBLISHED-TTL:PT1H
BEGIN:VTIMEZONE
TZID:America/New_York
BEGIN:DAYLIGHT
TZOFFSETFROM:-0500
TZOFFSETTO:-0400
TZNAME:EDT
DTSTART:20160313T070000
END:DAYLIGHT
BEGIN:STANDARD
TZOFFSETFROM:-0400
TZOFFSETTO:-0500
TZNAME:EST
DTSTART:20161106T060000
END:STANDARD
BEGIN:DAYLIGHT
TZOFFSETFROM:-0500
TZOFFSETTO:-0400
TZNAME:EDT
DTSTART:20170312T070000
END:DAYLIGHT
BEGIN:STANDARD
TZOFFSETFROM:-0400
TZOFFSETTO:-0500
TZNAME:EST
DTSTART:20171105T060000
END:STANDARD
BEGIN:DAYLIGHT
TZOFFSETFROM:-0500
TZOFFSETTO:-0400
TZNAME:EDT
DTSTART:20180311T070000
END:DAYLIGHT
BEGIN:STANDARD
TZOFFSETFROM:-0400
TZOFFSETTO:-0500
TZNAME:EST
DTSTART:20181104T060000
END:STANDARD
END:VTIMEZONE
BEGIN:VEVENT
DTSTART;TZID=America/New_York:20170105T120000
DTEND;TZID=America/New_York:20170105T130000
DTSTAMP:20260420T222532
CREATED:20170105T170000Z
LAST-MODIFIED:20190307T201643Z
UID:10000838-1483617600-1483621200@www.med.unc.edu
SUMMARY:Medicine Grand Rounds\, Raj Kasthuri and Jian Liu\, "Heparins: Into the Second Century"
DESCRIPTION:Dr. Raj Kasthuri is Associate Professor of Medicine in the Division of Hematology and Oncology and is the Director of the UNC HHT Center of Excellence. Dr. Kasthuri earned his medical degree from the Kasturba Medical College in India. He completed his fellowship in Hematology and Medical Oncology at the University of Minnesota. He is a member of the UNC Hemophilia and Thrombosis Center and the UNC McAllister Heart Institute. Dr. Kasthuri’s clinical and research interests are in bleeding and clotting disorders\, and HHT. \nDr. Jian Liu is the John & Deborah McNeill\, Jr. Distinguished Professor in the UNC Eshelman School of Pharmacy. He has been working with heparin for more than 25 years. His expertise is in structural characterization of heparin and heparan sulfate\, biosynthetic mechanism of heparin and enzymatic synthesis of heparin.  He has invented an enzyme-based method to prepare heparin and heparan sulfate from bacteria polysaccharides.  His method could potentially manufacture heparin in a confined facility to improve the safety of heparin drug.
URL:https://www.med.unc.edu/medicine/event/jan-5/
CATEGORIES:Medicine Grand Rounds
ATTACH;FMTTYPE=image/jpeg:https://www.med.unc.edu/medicine/wp-content/uploads/sites/945/2018/12/raj-kasthuri.jpeg
END:VEVENT
BEGIN:VEVENT
DTSTART;TZID=America/New_York:20170112T120000
DTEND;TZID=America/New_York:20170112T130000
DTSTAMP:20260420T222532
CREATED:20170112T170000Z
LAST-MODIFIED:20190307T201641Z
UID:10000841-1484222400-1484226000@www.med.unc.edu
SUMMARY:Medicine Grand Rounds\, Melina Kibbe\, "Sex Bias in Biomedical and Clinical Research"
DESCRIPTION:Melina R. Kibbe is the Zack D. Owens Distinguished Professor and Chair of the Department of Surgery.  She also is an Adjunct Professor in the Department of Biomedical Engineering.  Prior to UNC\, Dr. Kibbe was faculty at Northwestern University for 13 years where she also served as the Vice Chair of Research in the Department of Surgery and as Deputy Director of the Simpson Querrey Institute for BioNanotechnology. Clinically\, Dr. Kibbe has significant experience with both open and endovascular surgery\, including the treatment of carotid stenosis\, peripheral vascular disease\, and abdominal aortic aneurysms. She is board certified in general and vascular surgery and is RVT and RPVI certified by ARDMS. \nDr. Kibbe has been a strong advocate for sex inclusion in biomedical research. She was interviewed by Leslie Stahl for 60 Minutes in February 2014 on this topic\, and later appeared on The Colbert Report.  Her publications on the presence of sex bias in surgical research gained much media attention nationally and internationally\, and resulted in policy development with the National Institutes of Health\, the Government Accountability Organization (GAO)\, and the FDA.  In addition\, a bill has been introduced into the House\, “Research for All Act of 2015\,” which hopefully will be voted into law.
URL:https://www.med.unc.edu/medicine/event/jan-12/
CATEGORIES:Medicine Grand Rounds
ATTACH;FMTTYPE=image/jpeg:https://www.med.unc.edu/medicine/wp-content/uploads/sites/945/2018/12/melina-kibbe.jpeg
END:VEVENT
BEGIN:VEVENT
DTSTART;TZID=America/New_York:20170119T120000
DTEND;TZID=America/New_York:20170119T130000
DTSTAMP:20260420T222532
CREATED:20170119T170000Z
LAST-MODIFIED:20190307T201638Z
UID:10000843-1484827200-1484830800@www.med.unc.edu
SUMMARY:Medicine Grand Rounds\, Marie Demay\, "FGF23 in Normal Physiology and Disease"
DESCRIPTION:FGF23 was initially identified by linkage analysis of a rare genetic disorder characterized by rickets and hypophosphatemia. Subsequent investigations identified FGF23 as a major regulator of mineral ion homeostasis under normal physiological conditions. Increased levels of FGF23 contribute to the pathology observed in numerous disease states\, including chronic kidney disease. This lecture will discuss the physiologic role of FGF23 and its contributions to disease pathology. \nMarie Demay is Professor of Medicine at Harvard Medical School. Her clinical interests include calcium disorders\, endocrinology\, and osteomalacia. Her current research projects include the role of the vitamin D receptor in keratinocyte stem-cell function and the role of mineral ions and hormones on growth-plate development and maturation using a model of X-linked hypophosphatemia.
URL:https://www.med.unc.edu/medicine/event/jan-19/
CATEGORIES:Medicine Grand Rounds
ATTACH;FMTTYPE=image/jpeg:https://www.med.unc.edu/medicine/wp-content/uploads/sites/945/2018/12/marie-demay.jpeg
END:VEVENT
BEGIN:VEVENT
DTSTART;TZID=America/New_York:20170126T120000
DTEND;TZID=America/New_York:20170126T130000
DTSTAMP:20260420T222532
CREATED:20170126T170000Z
LAST-MODIFIED:20190307T201636Z
UID:10000845-1485432000-1485435600@www.med.unc.edu
SUMMARY:Medicine Grand Rounds\, David Weber and Sarah McGill\, "Clostridium Difficile Infection"
DESCRIPTION:Drs. Weber and McGill will discuss Clostridium difficile\, often called C. diff\, a bacterium that can cause symptoms ranging from diarrhea to life-threatening inflammation of the colon. Illness from C. difficile most commonly affects older adults in hospitals or in long term care facilities and typically occurs after use of antibiotic medications. \nIn recent years\, C. difficile infections have become more frequent\, more severe and more difficult to treat. Each year\, tens of thousands of people in the United States get sick from C. difficile\, including some otherwise healthy people who aren’t hospitalized or taking antibiotics. \nTreatment of C. difficile infections costs more than $3 billion per year in the U.S. alone. C. diff is one of the most dangerous drug-resistant infections. As a result\, it’s classified as an “urgent threat” by the Centers for Disease Control and Prevention\, making it a top priority for microbial researchers. Fecal microbiota transplantation is an effective treatment for recurrent C. difficile positive diarrhea.  The Food and Drug Administration allows fecal transplantation to be performed in patients whose C. difficile infection has not responded to standard therapies. \nThrough his roles as medical director of hospital epidemiology and associate chief medical officer of UNC Health Care\, Dr. Weber works to prevent hospital-acquired infections in patients and staff at UNC Hospitals. Dr. McGill cares for patients with recurrent C. difficile colitis and performs fecal transplant. She will examine the indications for fecal transplantation and how it is performed at UNC.
URL:https://www.med.unc.edu/medicine/event/jan-26/
CATEGORIES:Medicine Grand Rounds
ATTACH;FMTTYPE=image/jpeg:https://www.med.unc.edu/medicine/wp-content/uploads/sites/945/2018/12/david-j-weber.jpeg
END:VEVENT
BEGIN:VEVENT
DTSTART;TZID=America/New_York:20170130T120000
DTEND;TZID=America/New_York:20170130T130000
DTSTAMP:20260420T222532
CREATED:20160927T233500Z
LAST-MODIFIED:20190307T201633Z
UID:10000740-1485777600-1485781200@www.med.unc.edu
SUMMARY:Grand Rounds: Akinniran Abisogun\, MD
DESCRIPTION:Speaker: Akinniran Abisogun\, MD\, UNC Cardiology Fellow\, Topic: “Management and Outcomes of Non-ST Elevation Myocardial Infarction in Patients Hospitalized for Non-Cardiac Conditions.”
URL:https://www.med.unc.edu/medicine/event/grand-rounds-akinniran-abisogun-md/
CATEGORIES:Medicine Grand Rounds
END:VEVENT
END:VCALENDAR