BEGIN:VCALENDAR
VERSION:2.0
PRODID:-//Department of Medicine - ECPv6.15.18//NONSGML v1.0//EN
CALSCALE:GREGORIAN
METHOD:PUBLISH
X-ORIGINAL-URL:https://www.med.unc.edu/medicine
X-WR-CALDESC:Events for Department of Medicine
REFRESH-INTERVAL;VALUE=DURATION:PT1H
X-Robots-Tag:noindex
X-PUBLISHED-TTL:PT1H
BEGIN:VTIMEZONE
TZID:America/New_York
BEGIN:DAYLIGHT
TZOFFSETFROM:-0500
TZOFFSETTO:-0400
TZNAME:EDT
DTSTART:20160313T070000
END:DAYLIGHT
BEGIN:STANDARD
TZOFFSETFROM:-0400
TZOFFSETTO:-0500
TZNAME:EST
DTSTART:20161106T060000
END:STANDARD
BEGIN:DAYLIGHT
TZOFFSETFROM:-0500
TZOFFSETTO:-0400
TZNAME:EDT
DTSTART:20170312T070000
END:DAYLIGHT
BEGIN:STANDARD
TZOFFSETFROM:-0400
TZOFFSETTO:-0500
TZNAME:EST
DTSTART:20171105T060000
END:STANDARD
BEGIN:DAYLIGHT
TZOFFSETFROM:-0500
TZOFFSETTO:-0400
TZNAME:EDT
DTSTART:20180311T070000
END:DAYLIGHT
BEGIN:STANDARD
TZOFFSETFROM:-0400
TZOFFSETTO:-0500
TZNAME:EST
DTSTART:20181104T060000
END:STANDARD
END:VTIMEZONE
BEGIN:VEVENT
DTSTART;TZID=America/New_York:20171102T120000
DTEND;TZID=America/New_York:20171102T130000
DTSTAMP:20260420T185920
CREATED:20171102T160000Z
LAST-MODIFIED:20190307T185814Z
UID:10000939-1509624000-1509627600@www.med.unc.edu
SUMMARY:Medicine Grand Rounds\, Maya Styner "Is Fat in the Marrow Harmful to Bone Health?"
DESCRIPTION:Dr. Styner conducts translational experiments applying running exercise in obese as well as calorie-restricted mice to understand the relationship between bone fat and bone quantity. Her background in Endocrinology and skeletal biology\, combined with an interest in exercise physiology\, makes this an exciting venue for research into diet and exercise\, which may be the most challenging issues facing the modern world. \nDr. Styner is Assistant Professor of Medicine in the Division of Endocrinology & Metabolism. She is an expert in the relationship of bone fat\, or marrow fat\, and bone health. It is this topic that she has published substantially on in the journals Endocrinology\, Journal of Bone and Mineral Research and Bone.
URL:https://www.med.unc.edu/medicine/event/nov-2/
CATEGORIES:Medicine Grand Rounds
ATTACH;FMTTYPE=image/jpeg:https://www.med.unc.edu/medicine/wp-content/uploads/sites/945/2018/12/maya-styner.jpeg
END:VEVENT
BEGIN:VEVENT
DTSTART;TZID=America/New_York:20171106T120000
DTEND;TZID=America/New_York:20171106T130000
DTSTAMP:20260420T185920
CREATED:20171106T170000Z
LAST-MODIFIED:20190307T185812Z
UID:10000941-1509969600-1509973200@www.med.unc.edu
SUMMARY:Cardiovascular Grand Rounds: Craig R. Lee\, PharmD\, PhD\, Clinical outcomes and sustainability of using CYP2C19 genotype-guided antiplatelet therapy after percutaneous coronary intervention
DESCRIPTION:Speaker: Craig R. Lee\, Pharm.D.\, Ph.D.\, FCCP\, FAHA. Associate Professor of Pharmacy\, Division of Pharmacotherapy and Experimental Therapeutics\, UNC Eshelman School of PharmacyTopic: Clinical outcomes and sustainability of using CYP2C19 genotype-guided antiplatelet therapy after percutaneous coronary intervention
URL:https://www.med.unc.edu/medicine/event/cardiovascular-grand-rounds-craig-r-lee-pharmd-phd-clinical-outcomes-and-sustainability-of-using-cyp2c19-genotype-guided-antiplatelet-therapy-after-percutaneous-coronary-intervention/
CATEGORIES:Medicine Grand Rounds
END:VEVENT
BEGIN:VEVENT
DTSTART;TZID=America/New_York:20171107T140000
DTEND;TZID=America/New_York:20171107T150000
DTSTAMP:20260420T185920
CREATED:20171107T190000Z
LAST-MODIFIED:20190307T185810Z
UID:10000944-1510063200-1510066800@www.med.unc.edu
SUMMARY:McAllister Heart Institute Seminar Series: Hong Chen\, PhD\, Molecular Mechanisms Regulating VEGF Receptor Trafficking
DESCRIPTION:Speaker: Hong Chen\, PhD\, Associate Professor Dept. of Surgery\, Harvard Medical School\, Boston Children’s HospitalTopic: Molecular Mechanisms Regulating VEGF Receptor Trafficking
URL:https://www.med.unc.edu/medicine/event/mcallister-heart-institute-seminar-series-hong-chen-phd/
CATEGORIES:Medicine Grand Rounds
END:VEVENT
BEGIN:VEVENT
DTSTART;TZID=America/New_York:20171109T120000
DTEND;TZID=America/New_York:20171109T130000
DTSTAMP:20260420T185920
CREATED:20171109T170000Z
LAST-MODIFIED:20190307T185807Z
UID:10000831-1510228800-1510232400@www.med.unc.edu
SUMMARY:Medicine Grand Rounds\, Roy Williams\, "Leadership"
DESCRIPTION:Roy Williams is entering his 15th season as head coach of the Tar Heels. He has achieved great success on the court\, winning his third NCAA title in 2017\, appearing in nine Final Fours (five with UNC) and earning eight Atlantic Coast Conference regular-season titles. Even greater is the impact he makes on the lives of the young men he coaches. \nRoy Williams received the Nell and John Wooden Leadership in Coaching Award on October 12\, 2017. This award\, named after legendary UCLA basketball coach John Wooden and his wife\, Nell\, was created in 2012 to recognize coaches who exemplify Wooden’s “Pyramid of Success” teachings both on and off the court. \nThe numbers and list of Williams’ accomplishments unquestionably place him among the finest coaches in basketball history. Williams is one of six coaches to win three or more national championships with John Wooden\, Mike Krzyzewski\, Jim Calhoun\, Bob Knight and Adolph Rupp; fourth in Final Fours (9) behind only Wooden\, Krzyzewski and Dean Smith; second in NCAA Tournament wins (76) and games (100); second in NCAA Tournament history in No. 1 seeds (12); third in NCAA Tournament winning percentage (.760) among coaches with at least 50 games; first to win three national championships at his alma mater; eighth all-time in Division I wins (816) and reached 800 wins in fewer seasons and the second-fewest games in NCAA history; and sixth all-time in career winning percentage (.791)
URL:https://www.med.unc.edu/medicine/event/nov-9/
CATEGORIES:Medicine Grand Rounds
ATTACH;FMTTYPE=image/jpeg:https://www.med.unc.edu/medicine/wp-content/uploads/sites/945/2018/12/roy-williams.jpeg
END:VEVENT
BEGIN:VEVENT
DTSTART;TZID=America/New_York:20171114T140000
DTEND;TZID=America/New_York:20171114T150000
DTSTAMP:20260420T185920
CREATED:20171114T190000Z
LAST-MODIFIED:20190307T185805Z
UID:10000833-1510668000-1510671600@www.med.unc.edu
SUMMARY:McAllister Heart Institute Seminar Series: Jeffery Holmes\, MD\, PhD\, Scar Formation after Myocardial Infarction
DESCRIPTION:Speaker: Jeff Holmes\, M.D.\, Ph.D.Professor of Biomedical Engineering & Medicine\, University of VirginiaTopic: Scar Formation After Myocardial Infarction: What Happens\, Why does it Matter\, and What Can We Do about It?”
URL:https://www.med.unc.edu/medicine/event/mcallister-heart-institute-seminar-series-jeffery-holmes-md-phd-1/
CATEGORIES:Medicine Grand Rounds
END:VEVENT
BEGIN:VEVENT
DTSTART;TZID=America/New_York:20171116T120000
DTEND;TZID=America/New_York:20171116T130000
DTSTAMP:20260420T185920
CREATED:20171116T170000Z
LAST-MODIFIED:20190307T185803Z
UID:10000835-1510833600-1510837200@www.med.unc.edu
SUMMARY:Medicine Grand Rounds\, Stacy Wood "Medicine + Marketing: The New Role of Consumer Theory in Patient-Centric Care"
DESCRIPTION:As the healthcare environment changes\, patients increasingly see more personal control in their choice of doctors\, therapies\, and systems of care.  From new models of tele-health to the ubiquitous direct-to-consumer pharmaceutical ads on TV\, patients are shifting to a “customer mind-set” when they make health decisions and this has sweeping ramifications for healthcare providers. \nIn this lecture\, internationally-recognized scholar in consumer theory and President-Elect of the Association for Consumer Research\, Dr. Stacy Wood (the Langdon Distinguished University Professor of Marketing and  Executive Director of the Consumer Innovation Collaborative\, NC State University) will give a practical introduction into how consumer theory can be used by medical practitioners to improve patient choice environments\, patient adherence\, and patient satisfaction.  Based on her research with physicians\, she will discuss common pitfalls to avoid and exciting new arenas that combine the best of medicine with the best of marketing to promote patient well-being.
URL:https://www.med.unc.edu/medicine/event/nov-16/
CATEGORIES:Medicine Grand Rounds
ATTACH;FMTTYPE=image/jpeg:https://www.med.unc.edu/medicine/wp-content/uploads/sites/945/2018/12/stacy-wood.jpeg
END:VEVENT
BEGIN:VEVENT
DTSTART;TZID=America/New_York:20171121T140000
DTEND;TZID=America/New_York:20171121T150000
DTSTAMP:20260420T185920
CREATED:20171121T190000Z
LAST-MODIFIED:20190307T185801Z
UID:10000837-1511272800-1511276400@www.med.unc.edu
SUMMARY:McAllister Heart Institute Seminar Series: Francis Miller\, MD\, Role of Smooth Muscle Cell NADPH Oxidase in Vascular Disease
DESCRIPTION:Speaker: Francis J. Miller\, MD\, Professor of Medicine\, Dept. of Internal Medicine\, Division of Cardiology\, Duke University School of MedicineTopic: Role of Smooth Muscle Cell NADPH Oxidase in Vascular Disease \nInformation from Dr. Miller on his lecture:The primary goal of my research program is to understand the molecular and cellular mechanisms that contribute to the generation of reactive oxygen species and pathophysiology of vascular disease. The objectives of my seminar are:1) Describe the role of inflammation and oxidative stress in the development of vascular disease.2) Describe the structure and function of the vascular NADPH oxidases in the blood vessel.3) Discuss the role of phosphorylation and endocytosis in activation of the Nox1 NAPDH oxidase.4) Discuss the regulation of Nox4 NADPH oxidase by miRNA and its role in smooth muscle cell differentiation.Describe novel approaches for targeting smooth muscle cell Nox1 in vascular disease.
URL:https://www.med.unc.edu/medicine/event/mcallister-heart-institute-seminar-series-jeffery-holmes-md-phd/
CATEGORIES:Medicine Grand Rounds
END:VEVENT
BEGIN:VEVENT
DTSTART;TZID=America/New_York:20171130T120000
DTEND;TZID=America/New_York:20171130T130000
DTSTAMP:20260420T185920
CREATED:20171130T170000Z
LAST-MODIFIED:20190307T185759Z
UID:10000839-1512043200-1512046800@www.med.unc.edu
SUMMARY:Medicine Grand Rounds\, Joseph Rossi and William Powers\, "PFO Closure to Reduce Stroke Risk -- How Compelling Is the Evidence?"
DESCRIPTION:Recent clinical trials have investigated the efficacy of mechanical closure of patent foramen ovale (PFO) for prevention of recurrent stroke. We will review the epidemiological evidence linking PFO and stroke\, the methodology and results of clinical trials of secondary stroke prevention in patients with PFO\, and the techniques for mechanical closure of PFO. \nWilliam J. Powers\, MD\, is an expert on cerebral blood flow and metabolism\, as well as stroke treatment and prevention. Powers has dedicated his career to improving the outcome of patients with stroke and cerebrovascular disease. His early work helped establish concepts of blood pressure auto-regulation and acute blood pressure management in stroke\, influential on the choice and timing of anti-hypertensive therapies and the consideration of acute vs. chronic blood pressure control. He later identified patterns of blood pressure control in intracerebral hemorrhage and noted that the tissue surrounding the hemorrhage is not ischemic. Powers spearheaded studies suggesting chronic hemodynamic impairment from occlusive cerebrovascular disease. He is the H. Houston Merritt Distinguished Professor and chair of the Department of Neurology. \nJoseph Rossi\, MD\, MSCI\, FACC\, FSCAI\, is director of the Cardiac Catheterization Lab and Program Director of the Interventional Cardiology Fellowship. He specializes in interventional cardiology.
URL:https://www.med.unc.edu/medicine/event/nov-30/
CATEGORIES:Medicine Grand Rounds
ATTACH;FMTTYPE=image/jpeg:https://www.med.unc.edu/medicine/wp-content/uploads/sites/945/2018/12/william-powers.jpeg
END:VEVENT
END:VCALENDAR