BEGIN:VCALENDAR
VERSION:2.0
PRODID:-//Department of Medicine - ECPv6.15.18//NONSGML v1.0//EN
CALSCALE:GREGORIAN
METHOD:PUBLISH
X-ORIGINAL-URL:https://www.med.unc.edu/medicine
X-WR-CALDESC:Events for Department of Medicine
REFRESH-INTERVAL;VALUE=DURATION:PT1H
X-Robots-Tag:noindex
X-PUBLISHED-TTL:PT1H
BEGIN:VTIMEZONE
TZID:America/New_York
BEGIN:DAYLIGHT
TZOFFSETFROM:-0500
TZOFFSETTO:-0400
TZNAME:EDT
DTSTART:20170312T070000
END:DAYLIGHT
BEGIN:STANDARD
TZOFFSETFROM:-0400
TZOFFSETTO:-0500
TZNAME:EST
DTSTART:20171105T060000
END:STANDARD
BEGIN:DAYLIGHT
TZOFFSETFROM:-0500
TZOFFSETTO:-0400
TZNAME:EDT
DTSTART:20180311T070000
END:DAYLIGHT
BEGIN:STANDARD
TZOFFSETFROM:-0400
TZOFFSETTO:-0500
TZNAME:EST
DTSTART:20181104T060000
END:STANDARD
BEGIN:DAYLIGHT
TZOFFSETFROM:-0500
TZOFFSETTO:-0400
TZNAME:EDT
DTSTART:20190310T070000
END:DAYLIGHT
BEGIN:STANDARD
TZOFFSETFROM:-0400
TZOFFSETTO:-0500
TZNAME:EST
DTSTART:20191103T060000
END:STANDARD
END:VTIMEZONE
BEGIN:VEVENT
DTSTART;TZID=America/New_York:20180104T120000
DTEND;TZID=America/New_York:20180104T130000
DTSTAMP:20260422T165700
CREATED:20180104T170000Z
LAST-MODIFIED:20190307T185354Z
UID:10000848-1515067200-1515070800@www.med.unc.edu
SUMMARY:Medicine Grand Rounds Cancelled Due to Adverse Weather
DESCRIPTION:
URL:https://www.med.unc.edu/medicine/event/jan-4/
CATEGORIES:Medicine Grand Rounds
END:VEVENT
BEGIN:VEVENT
DTSTART;TZID=America/New_York:20180109T140000
DTEND;TZID=America/New_York:20180109T150000
DTSTAMP:20260422T165700
CREATED:20180109T190000Z
LAST-MODIFIED:20190307T185352Z
UID:10000946-1515506400-1515510000@www.med.unc.edu
SUMMARY:McAllister Heart Institute Seminar Series: Nenad Bursac\, PhD\, “Engineering Excitable Tissues for Experimental Studies and Regenerative Therapy”
DESCRIPTION:Speaker: Nenad Bursac\, PhD\, Professor of Biomedical Engineering\, Duke UniversityTopic: Engineering Excitable Tissues for Experimental Studies and Regenerative Therapy \nPresentation Preview: In this talk\, I will present our recent progress on engineering of human excitable tissues using primary\, stem cell-derived\, and genetically engineered cell sources. I will first describe scalable methodology for engineering of functional human cardiac tissues for use in medium-throughput in vitro studies and treatment of cardiac injury. Then I will describe how building on our work with rat cells\, we for the first time engineered electrically and chemically responsive\, contractile human skeletal muscle tissues made of primary cells isolated from standard muscle biopsies and induced pluripotent stem cells. Finally\, I will describe methods to convert human unexcitable fibroblasts into an autonomous source of electrically excitable and actively conducting cells using forced expression of prokaryotic and mammalian ion channels. Together\, these results open doors to new studies of human excitable tissue function\, disease\, and regeneration\, and provide preclinical assays for testing of novel therapeutics.
URL:https://www.med.unc.edu/medicine/event/copy3_of_mcallister-heart-institute-seminar-series-hossein-ardehali-md-phd-role-of-iron-in-cardiovascular-disease/
CATEGORIES:Medicine Grand Rounds
END:VEVENT
BEGIN:VEVENT
DTSTART;TZID=America/New_York:20180111T120000
DTEND;TZID=America/New_York:20180111T130000
DTSTAMP:20260422T165700
CREATED:20180111T170000Z
LAST-MODIFIED:20190307T185350Z
UID:10000950-1515672000-1515675600@www.med.unc.edu
SUMMARY:Medicine Grand Rounds\, Balfour Sartor and Edward Barnes\, "Post-Operative Crohn’s Disease: Current and Future Management"
DESCRIPTION:Rescheduled from January 4 — In this lecture\, Drs. Sartor and Barnes will summarize an evidence-based approach to the management of post-operative Crohn’s disease\, and describe the future landscape based on novel molecular and microbial predictors of risk of recurrence. This topic is clinically important because the majority of patients with Crohn’s disease eventually undergo surgical resection for refractory disease or complications (obstruction or abscess/fistulae)\, and experience recurrent disease after resection. There are important advances in the field\, but the goal of preventing recurrence after surgery has not yet been achieved; this goal will require innovative approaches. \nBalfour Sartor is a gastroenterologist and mucosal immunologist with a long-standing interest in mechanisms by which commensal microbiota induce chronic intestinal inflammation vs. mucosal homeostasis. He specializes in inflammatory bowel diseases (IBD) and co-directs the UNC Multidisciplinary IBD Center. \nEdward Barnes is assistant professor of Medicine in the Division of Gastroenterology and Hepatology. Dr. Barnes’ interests include evaluation of clinical outcomes related to differing treatment strategies among patients with Inflammatory Bowel Disease\, as well as the effects that these strategies have on cost and resource utilization.
URL:https://www.med.unc.edu/medicine/event/jan-11/
CATEGORIES:Medicine Grand Rounds
ATTACH;FMTTYPE=image/jpeg:https://www.med.unc.edu/medicine/wp-content/uploads/sites/945/2018/12/balfour-sartor.jpeg
END:VEVENT
BEGIN:VEVENT
DTSTART;TZID=America/New_York:20180118T120000
DTEND;TZID=America/New_York:20180118T130000
DTSTAMP:20260422T165700
CREATED:20180118T170000Z
LAST-MODIFIED:20190307T185348Z
UID:10000953-1516276800-1516280400@www.med.unc.edu
SUMMARY:Medicine Grand Rounds Cancelled Due to Adverse Weather
DESCRIPTION:
URL:https://www.med.unc.edu/medicine/event/jan-18/
CATEGORIES:Medicine Grand Rounds
END:VEVENT
BEGIN:VEVENT
DTSTART;TZID=America/New_York:20180118T140000
DTEND;TZID=America/New_York:20180118T150000
DTSTAMP:20260422T165700
CREATED:20180118T190000Z
LAST-MODIFIED:20190307T185346Z
UID:10000954-1516284000-1516287600@www.med.unc.edu
SUMMARY:McAllister Heart Institute Seminar Series: Didier Stainier\, PhD\, “Cardiovascular development and regeneration in zebrafish”
DESCRIPTION:Speaker: Didier Stainier\, PhD\, Director of the Max Planck Institute for Heart & Lung Research in Bad Nauheim\, GermanyTopic: Cardiovascular development and regeneration in zebrafish
URL:https://www.med.unc.edu/medicine/event/copy2_of_mcallister-heart-institute-seminar-series-hossein-ardehali-md-phd-role-of-iron-in-cardiovascular-disease/
CATEGORIES:Medicine Grand Rounds
END:VEVENT
BEGIN:VEVENT
DTSTART;TZID=America/New_York:20180123T140000
DTEND;TZID=America/New_York:20180123T150000
DTSTAMP:20260422T165700
CREATED:20180123T190000Z
LAST-MODIFIED:20190307T185344Z
UID:10000955-1516716000-1516719600@www.med.unc.edu
SUMMARY:McAllister Heart Institute Seminar Series: Wolfgang Bergmeier\, PhD\, “Platelets at the vascular interface: finding the right balance between too little and too much activation”
DESCRIPTION:Speaker: Wolfgang Bergmeier\, PhD\, Associate Professor of Biochemistry & Biophysics\, UNCTopic: Platelets at the vascular interface: finding the right balance between too little and too much activation \nPresentation Preview: Platelets are small anucleated cells that constantly patrol the cardiovascular system to preserve its integrity and prevent excessive blood loss where the vessel lining is breached. Their key challenge is to form a hemostatic plug under conditions of high shear forces. To do so\, platelets have evolved a molecular machinery that enables them to sense trace amounts of signals at the site of damage and to rapidly shift from a non-adhesive to a pro-adhesive state. However\, this highly efficient molecular machinery can also lead to unintended platelet activation and cause clinical complications such as thrombocytopenia and thrombosis. Thus\, several checkpoints are in place to tightly control platelet activation and adhesiveness in space and time. In this talk I will discuss the major molecular mechanisms controlling platelet activation in circulation and at sites of vascular injury\, with a particular focus on signaling by the small GTPase Rap1.
URL:https://www.med.unc.edu/medicine/event/copy_of_mcallister-heart-institute-seminar-series-hossein-ardehali-md-phd-role-of-iron-in-cardiovascular-disease/
CATEGORIES:Medicine Grand Rounds
END:VEVENT
BEGIN:VEVENT
DTSTART;TZID=America/New_York:20180125T120000
DTEND;TZID=America/New_York:20180125T130000
DTSTAMP:20260422T165700
CREATED:20180125T170000Z
LAST-MODIFIED:20190307T185341Z
UID:10000956-1516881600-1516885200@www.med.unc.edu
SUMMARY:Medicine Grand Rounds\, Amy Shaheen "Quality Improvement -- Value of Learners in a Clinic Setting"
DESCRIPTION:The LCME and ACGME require that learners participate and demonstrate competency in quality improvement activities. However\, learners are not always welcome to do these activities in clinical settings due to perceived burdens on productivity\, time\, and resources. Dr. Shaeen will demonstrate the learner activities as beneficial to the practice and health system. \nAmy W. Shaheen is an Associate Professor of Medicine in the Division of General Medicine and Clinical Epidemiology. Her clinical expertise is in general internal medicine\, and quality improvement in the care of people with acute and chronic illness. She is co-director of the Community Based Longitudinal Care Course that places medical students in primary care practices. She helps design the curriculum around primary care\, quality and safety\, and end of life issues. She also works as subject matter expert\, developing tools to improve the care of patients with COPD.
URL:https://www.med.unc.edu/medicine/event/jan-25/
CATEGORIES:Medicine Grand Rounds
ATTACH;FMTTYPE=image/jpeg:https://www.med.unc.edu/medicine/wp-content/uploads/sites/945/2018/12/amy-shaheen.jpeg
END:VEVENT
BEGIN:VEVENT
DTSTART;TZID=America/New_York:20180129T120000
DTEND;TZID=America/New_York:20180129T130000
DTSTAMP:20260422T165700
CREATED:20180129T170000Z
LAST-MODIFIED:20190307T185339Z
UID:10000957-1517227200-1517230800@www.med.unc.edu
SUMMARY:Cardiovascular Grand Rounds: Dr. Shivanshu Madan\, Cardiac MRI in the Modern Era
DESCRIPTION:Speaker: Shivanshu Madan\, MD\, UNC Cardiology FellowTopic: Cardiac MRI in the Modern Era
URL:https://www.med.unc.edu/medicine/event/cardiovascular-grand-rounds-dr-shivanshu-madan/
CATEGORIES:Medicine Grand Rounds
END:VEVENT
BEGIN:VEVENT
DTSTART;TZID=America/New_York:20180130T140000
DTEND;TZID=America/New_York:20180130T150000
DTSTAMP:20260422T165700
CREATED:20180130T190000Z
LAST-MODIFIED:20190307T185337Z
UID:10000958-1517320800-1517324400@www.med.unc.edu
SUMMARY:McAllister Heart Institute Seminar Series: Hossein Ardehali\, MD\, PhD\, "Role of Iron in Cardiovascular Disease"
DESCRIPTION:Speaker: Hossein Ardehali\, MD\, PhD\, Director of the Center for Molecular Cardiology & the Medical Scientists Program at Northwestern UniversityTopic: Role of Iron in Cardiovascular Disease
URL:https://www.med.unc.edu/medicine/event/mcallister-heart-institute-seminar-series-hossein-ardehali-md-phd-role-of-iron-in-cardiovascular-disease/
CATEGORIES:Medicine Grand Rounds
END:VEVENT
END:VCALENDAR