BEGIN:VCALENDAR
VERSION:2.0
PRODID:-//Department of Medicine - ECPv6.15.18//NONSGML v1.0//EN
CALSCALE:GREGORIAN
METHOD:PUBLISH
X-ORIGINAL-URL:https://www.med.unc.edu/medicine
X-WR-CALDESC:Events for Department of Medicine
REFRESH-INTERVAL;VALUE=DURATION:PT1H
X-Robots-Tag:noindex
X-PUBLISHED-TTL:PT1H
BEGIN:VTIMEZONE
TZID:America/New_York
BEGIN:DAYLIGHT
TZOFFSETFROM:-0500
TZOFFSETTO:-0400
TZNAME:EDT
DTSTART:20170312T070000
END:DAYLIGHT
BEGIN:STANDARD
TZOFFSETFROM:-0400
TZOFFSETTO:-0500
TZNAME:EST
DTSTART:20171105T060000
END:STANDARD
BEGIN:DAYLIGHT
TZOFFSETFROM:-0500
TZOFFSETTO:-0400
TZNAME:EDT
DTSTART:20180311T070000
END:DAYLIGHT
BEGIN:STANDARD
TZOFFSETFROM:-0400
TZOFFSETTO:-0500
TZNAME:EST
DTSTART:20181104T060000
END:STANDARD
BEGIN:DAYLIGHT
TZOFFSETFROM:-0500
TZOFFSETTO:-0400
TZNAME:EDT
DTSTART:20190310T070000
END:DAYLIGHT
BEGIN:STANDARD
TZOFFSETFROM:-0400
TZOFFSETTO:-0500
TZNAME:EST
DTSTART:20191103T060000
END:STANDARD
END:VTIMEZONE
BEGIN:VEVENT
DTSTART;TZID=America/New_York:20180301T120000
DTEND;TZID=America/New_York:20180301T130000
DTSTAMP:20260422T005116
CREATED:20180301T170000Z
LAST-MODIFIED:20190307T184830Z
UID:10000969-1519905600-1519909200@www.med.unc.edu
SUMMARY:Medicine Grand Rounds\, Ana Felix "A Rational Approach to the Painful Back"
DESCRIPTION:Busy clinicians need a focused clinical approach to both the diagnostic and imaging challenges of diagnosis in patients presenting with back pain and neurological symptoms. \nAna Felix is an Assistant Professor of Medicine in the Division of General Medicine and Clinical Epidemiology. She is an expert neurologist\, seeing patients who have MS and a variety of other neurological conditions. Dr. Felix is particularly interested in stroke\, TIA in adults and children\, vascular neurology\, vascular ultrasound\, stroke in the young and in women\, and hypercoagulable disorders associated with stroke.
URL:https://www.med.unc.edu/medicine/event/mar-1/
CATEGORIES:Medicine Grand Rounds
ATTACH;FMTTYPE=image/jpeg:https://www.med.unc.edu/medicine/wp-content/uploads/sites/945/2018/12/ana-felix.jpeg
END:VEVENT
BEGIN:VEVENT
DTSTART;TZID=America/New_York:20180306T140000
DTEND;TZID=America/New_York:20180306T150000
DTSTAMP:20260422T005116
CREATED:20180306T190000Z
LAST-MODIFIED:20190307T184828Z
UID:10000971-1520344800-1520348400@www.med.unc.edu
SUMMARY:McAllister Heart Institute Seminar Series: James F. Martin\, MD\, PhD\, "Hippo Signaling in Heart Regeneration"
DESCRIPTION:Speaker: James F. Martin\, MD\, PhD\, Vivian L. Smith Professor in Regenerative Medicine\, Baylor College of Medicine; Director\, Cardiomyocyte Renewal Lab\, Texas Heart InstituteTopic: “Hippo Signaling in Heart Regeneration” \nSeminar Synopsis: Dr. Martin is an internationally recognized developmental and regenerative biologist who has made fundamental contributions to our understanding of development\, disease\, and regeneration. He has authored more than 135 peer-reviewed papers in top journals such as Nature\, Science\, Cell\, Developmental Cell\, Plos Genetics\, Development\, and PNAS. His recent groundbreaking work on the Hippo pathway in heart size regulation is a landmark study that led to the insight that the Hippo pathway is an inhibitor of adult heart muscle regeneration. Dr. Martin’s insights revealed new avenues for treatment of human heart failure. Dr. Martin has made fundamental insights into the role of the transcription factor Pitx2 in atrial fibrillation\, the most common sustained arrhythmia in the human population. He made use of the mouse model to investigate Pitx2 in atrial homeostasis but also in left right asymmetric morphogenesis that is essential for human development. Dr. Martin’s studies investigating Pitx2 function in craniofacial development provided insight into the molecular basis of Rieger syndrome. He uncovered a pivotal function for Bmp signaling in endothelial-mesenchymal transition and cardiac valve development. Dr. Martin’s studies uncovered a novel role for canonical Wnt signaling in cardiac progenitor cell diversification. He found the first microRNA implicated in orofacial clefting. Dr. Martin’s studies are highly cited and also reported on by the lay media.
URL:https://www.med.unc.edu/medicine/event/mcallister-heart-institute-seminar-series-james-f-martin-md-phd-hippo-signaling-in-heart-regeneration/
CATEGORIES:Medicine Grand Rounds
END:VEVENT
BEGIN:VEVENT
DTSTART;TZID=America/New_York:20180307T000000
DTEND;TZID=America/New_York:20180309T000000
DTSTAMP:20260422T005116
CREATED:20180307T050000Z
LAST-MODIFIED:20190307T184825Z
UID:10000974-1520380800-1520553600@www.med.unc.edu
SUMMARY:42nd Annual Internal Medicine Conference
DESCRIPTION:
URL:https://www.med.unc.edu/medicine/event/42nd-annual-internal-medicine-conference/
CATEGORIES:Medicine Grand Rounds
END:VEVENT
BEGIN:VEVENT
DTSTART;TZID=America/New_York:20180308T120000
DTEND;TZID=America/New_York:20180308T130000
DTSTAMP:20260422T005116
CREATED:20180308T170000Z
LAST-MODIFIED:20190307T184823Z
UID:10000976-1520510400-1520514000@www.med.unc.edu
SUMMARY:Medicine Grand Rounds\, Anne Peery "Diverticulitis -- A Medical Perspective"
DESCRIPTION:Dr. Peery focuses on benign conditions of the colon\, including diverticular disease and hemorrhoids. Despite the extremely common nature of these conditions\, there is little scientifically-based evidence to guide the care of patients with these commonly-encountered conditions. Indeed\, most of the algorithms of care for these diseases are governed by opinions and best guesses as to good practice rather than hard evidence. Dr. Peery’s research has challenged long-held beliefs about risk factors for uncomplicated diverticulosis and raised new questions about a long neglected disease. She recently served as a content expert and co-authored the guideline for the management of acute diverticulitis for the American Gastroenterological Association. She also co-authored a commentary that addressed a controversial recommendation generated by the guideline. \nDr. Peery recently received a career development award by the National Institutes of Health to study the effectiveness\, benefits\, and harms of antibiotics for acute diverticulitis. In addition\, this award will allow her to develop a novel patient-reported outcome measure for acute diverticulitis. Her group is also studying the utilization of surgery for non-malignant colorectal diseases.
URL:https://www.med.unc.edu/medicine/event/mar-8/
CATEGORIES:Medicine Grand Rounds
ATTACH;FMTTYPE=image/jpeg:https://www.med.unc.edu/medicine/wp-content/uploads/sites/945/2018/12/anne-peery.jpeg
END:VEVENT
BEGIN:VEVENT
DTSTART;TZID=America/New_York:20180310T070000
DTEND;TZID=America/New_York:20180310T121500
DTSTAMP:20260422T005116
CREATED:20180310T120000Z
LAST-MODIFIED:20190307T184821Z
UID:10000978-1520665200-1520684100@www.med.unc.edu
SUMMARY:Integrated Care of Patients with Atrial Fibrillation: A Satellite Symposium
DESCRIPTION:Course Description – Integrated Care of Patients with Atrial Fibrillation: A Satellite Symposium – March 10\, 2018 (7:00am – 12:15pm)Atrial Fibrillation is best managed by treating it as a “chronic disease” with episodic symptoms which can be successfully managed through a coordinated multidisciplinary model. This symposium will provide education to primary care providers and cardiologists on the importance of an integrated model of care for AF and strategies for implementing such an approach. This event will be held at the The Friday Center in Chapel Hill on March 10\, 2018. \nAgenda Highlights: \n•Patient perspective: My life with Atrial Fibrillation – Marcia Van Riper\, RN\, PhD \n•Integrated care of Atrial Fibrillation: What is it and how do we get there? Anil Gehi\, MD \n•The importance of shared decision-making in discussions about anticoagulation and stroke prophylaxis – Zack Deyo\, PharmD \n•Addressing obesity/physical inactivity – Sriram Machineni\, MD
URL:https://www.med.unc.edu/medicine/event/integrated-care-of-patients-with-atrial-fibrillation-a-satellite-symposium/
CATEGORIES:Medicine Grand Rounds
END:VEVENT
BEGIN:VEVENT
DTSTART;TZID=America/New_York:20180313T090000
DTEND;TZID=America/New_York:20180313T170000
DTSTAMP:20260422T005116
CREATED:20180313T130000Z
LAST-MODIFIED:20190307T184819Z
UID:10000980-1520931600-1520960400@www.med.unc.edu
SUMMARY:2018 McAllister Heart Institute/Integrative Vascular Biology Research Symposium
DESCRIPTION:UNC’s Integrative Vascular Biology (IVB) Training Program and the McAllister Heart Institute (MHI) jointly announce their Annual Research Symposium on Tuesday\, March 13\, 2018. This year’s event will be held from 9AM – 5PM at the George Watts Hill Alumni Center on the UNC campus (150 Stadium Drive\, Chapel Hill\, NC 27514). The symposium highlights research from graduate students\, postdocs\, and medical fellows within the cardiovascular community at UNC and the greater Chapel Hill area and promotes multi-disciplinary collaborative research in this important field. This year’s keynote speakers will be Caroline and Geoffrey Burns (Harvard University) who will jointly present a talk entitled “New insights into zebrafish cardiovascular development and regeneration” and Karen Hirschi (Yale University) who will present a talk entitled “Regulation of endothelial cell specification”. \nAbstract submission – For those who wish to present data at the symposium\, the abstract submission deadline is Monday\, February 26th. Abstracts should include a title and all authors and are limited to 250 words (not including the title\, etc). Note that you will need to have your abstract on hand during the registration process\, and please indicate whether you wish to be considered for a limited number of oral presentations. Poster board dimensions are 3ft high by 4ft wide. For more information please contact Hannah Perrin (hjperrin@email.unc.edu). \nThe registration deadline for those not presenting is March 8th.
URL:https://www.med.unc.edu/medicine/event/2018-mcallister-heart-institute-integrative-vascular-biology-research-symposium/
CATEGORIES:Medicine Grand Rounds
END:VEVENT
BEGIN:VEVENT
DTSTART;TZID=America/New_York:20180315T120000
DTEND;TZID=America/New_York:20180315T130000
DTSTAMP:20260422T005116
CREATED:20180315T160000Z
LAST-MODIFIED:20190307T184817Z
UID:10000982-1521115200-1521118800@www.med.unc.edu
SUMMARY:Medicine Grand Rounds\, Brad Drummond "Chronic Obstructive Pulmonary Disease -- Where We Are in 2018"
DESCRIPTION:Chronic obstructive pulmonary disease (COPD) is the umbrella term for the group of tobacco-related lung diseases including emphysema and chronic bronchitis. COPD is the third leading cause of death in the United States\, with an estimated 650\,000 North Carolinians living with COPD.  Recent guidelines have proposed a multidimensional assessment to define disease control and inform appropriate inhaler selection. With more than 18 FDA-approved maintenance inhalers available for COPD\, including multiple delivery devices\, selection of appropriate inhaler and device can be complex. Dr. Drummond will review the recent updates to the COPD management guidelines\, as well as discuss emerging evidence regarding the role of peak inspiratory flow measurements to inform optimal inhaler selection for COPD patients. \nDr. Drummond is an Associate Professor of Medicine in the Division of Pulmonary Diseases and Critical Care Medicine. He is the Director of the UNC Obstructive Lung Diseases Clinical and Translational Research Center located at the Meadowmont Facility. Dr. Drummond’s research interests include characterizing the mechanisms for development of chronic lung disease in individuals at-risk or with COPD\, with a focus on high-risk populations including persons living with HIV or those in rural residences.
URL:https://www.med.unc.edu/medicine/event/mar-15/
CATEGORIES:Medicine Grand Rounds
ATTACH;FMTTYPE=image/jpeg:https://www.med.unc.edu/medicine/wp-content/uploads/sites/945/2018/12/brad-drummond-e1622158061623.jpeg
END:VEVENT
BEGIN:VEVENT
DTSTART;TZID=America/New_York:20180319T120000
DTEND;TZID=America/New_York:20180319T130000
DTSTAMP:20260422T005116
CREATED:20180319T160000Z
LAST-MODIFIED:20190307T184815Z
UID:10000985-1521460800-1521464400@www.med.unc.edu
SUMMARY:Cardiovascular Grand Rounds: Dr. Joshua Vega\, “UNC Project Health for Leon: A Joint Mission for Global Health”
DESCRIPTION:Speaker: Joshua Vega\, UNC Cardiology FellowTopic: “UNC Project Health for Leon: A Joint Mission for Global Health”
URL:https://www.med.unc.edu/medicine/event/cardiovascular-grand-rounds-dr-joshua-vega/
CATEGORIES:Medicine Grand Rounds
END:VEVENT
BEGIN:VEVENT
DTSTART;TZID=America/New_York:20180320T140000
DTEND;TZID=America/New_York:20180320T150000
DTSTAMP:20260422T005116
CREATED:20180320T180000Z
LAST-MODIFIED:20190307T184813Z
UID:10000987-1521554400-1521558000@www.med.unc.edu
SUMMARY:McAllister Heart Institute Seminar Series: James F. Martin\, MD\, PhD\, “Hippo Signaling in Heart Regeneration”
DESCRIPTION:Speaker: Joan Taylor\, PhD\, Professor and Vice Chair for Research in Pathology and Lab Medicine\, UNC School of MedicineTopic: “GRAFs mind the GAP between muscle fate and function” \nSeminar Synopsis: The overall goal of our research is to characterize the intracellular signaling pathways that govern normal and aberrant growth responses in the cardiovascular and musculoskeletal system.  For this seminar\, I will focus on the role of GRAF family member RhoGAPs in muscle fate and function.  We originally identified GRAF1 (GTPase-regulator for RhoA associated with FAK) in an un-biased screen for Focal Adhesion Kinase binding partners and over the past several years we have shown that GRAF1 (Arhgap26) and it’s family members GRAF2 (Arhgap10) and -3 (Arhgap42) are critical for limiting RhoA activity in muscle (cardiac\, skeletal and smooth) wherein they play unique roles in co-regulating actin and membrane dynamics. In this seminar\, I will highlight our latest studies on GRAF3 which indicate a critical role for this protein in the development and pathogenesis of human hypertension. Moreover\, I will present new evidence to suggest that GRAF1 and GRAF2 may be equally as important for maintaining cardiac and skeletal muscle homeostasis respectively by novel mechanisms that involve mitochondrial quality control. Collectively\, our findings support the possibility that targeting GRAFs might provide promising therapeutic strategies to limit hypertension and striated muscle degeneration.
URL:https://www.med.unc.edu/medicine/event/mcallister-heart-institute-seminar-series-james-f-martin-md-phd-201chippo-signaling-in-heart-regeneration201d/
CATEGORIES:Medicine Grand Rounds
END:VEVENT
BEGIN:VEVENT
DTSTART;TZID=America/New_York:20180322T000000
DTEND;TZID=America/New_York:20180322T130000
DTSTAMP:20260422T005116
CREATED:20180322T040000Z
LAST-MODIFIED:20190307T184811Z
UID:10000988-1521676800-1521723600@www.med.unc.edu
SUMMARY:Medicine Grand Rounds\, Edwin Kim "Drug Allergies Affecting the Care of Inpatients"
DESCRIPTION:Drug allergies–in particular allergy to beta-lactam antibiotics–affects as many as 15% of all hospitalized patients. There is a growing pool of data demonstrating the significant effect a drug allergy diagnosis can have on morbidity and mortality of the hospitalized patient\, as well as the immense cost it can add to the health care system. A simple skin-based testing procedure has been commercially available since 2009; data on its use has shown that the vast majority of penicillin-allergic patients are no longer allergic at the time of testing. However\, far too few patients receive this testing. Dr. Kim will review data showing the scope of the drug allergy problem. This will include the diagnostic and therapeutic options for these patients\, with a focus on the pilot UNC allergy and immunology inpatient penicillin allergy testing program. \nEdwin Kim is specifically interested in the use of immunotherapy in the treatment of food allergy. He is the director of the UNC Allergy and Immunology Fellowship Training Program as well as of the UNC Food Allergy Initiative.
URL:https://www.med.unc.edu/medicine/event/mar-22/
CATEGORIES:Medicine Grand Rounds
ATTACH;FMTTYPE=image/jpeg:https://www.med.unc.edu/medicine/wp-content/uploads/sites/945/2018/12/edwin-kim.jpeg
END:VEVENT
BEGIN:VEVENT
DTSTART;TZID=America/New_York:20180326T120000
DTEND;TZID=America/New_York:20180326T130000
DTSTAMP:20260422T005116
CREATED:20180326T160000Z
LAST-MODIFIED:20190307T184809Z
UID:10000989-1522065600-1522069200@www.med.unc.edu
SUMMARY:Cardiovascular Grand Rounds: Jason Doherty\, PhD & Chris Morrison
DESCRIPTION:Speakers: Jason Doherty\, PhD\, Clinical Assistant Professor\, Kenan-Flagler Business School and Chris Morrison from ViaVerus\, LLC\, Topic: “Tapping the Entrepreneurial Spirit”
URL:https://www.med.unc.edu/medicine/event/cardiovascular-grand-rounds-jason-doherty-phd-chris-morrison/
CATEGORIES:Medicine Grand Rounds
END:VEVENT
BEGIN:VEVENT
DTSTART;TZID=America/New_York:20180327T140000
DTEND;TZID=America/New_York:20180327T150000
DTSTAMP:20260422T005116
CREATED:20180327T180000Z
LAST-MODIFIED:20190307T184807Z
UID:10000990-1522159200-1522162800@www.med.unc.edu
SUMMARY:McAllister Seminar Series: Kenneth Walsh\, PhD
DESCRIPTION:Speaker: Kenneth Walsh\, PhD\, Lockhart B. McGuire Professor\, Director of Hematovascular Biology Center\, University of VirginiaTopic: “Clonal Hematopoiesis and Cardiovascular Disease: New Mechanisms\, New Therapeutic Opportunities”
URL:https://www.med.unc.edu/medicine/event/mhi-seminar-series-kenneth-walsh-phd/
CATEGORIES:Medicine Grand Rounds
END:VEVENT
BEGIN:VEVENT
DTSTART;TZID=America/New_York:20180329T120000
DTEND;TZID=America/New_York:20180329T130000
DTSTAMP:20260422T005116
CREATED:20180329T160000Z
LAST-MODIFIED:20190307T184804Z
UID:10000991-1522324800-1522328400@www.med.unc.edu
SUMMARY:Medicine Grand Rounds\, James Evans\, "Precision Medicine in the Clinic and in Public Health -- A Genomic Perspective"
DESCRIPTION:Dr. Evans will discuss the realistic uses of massively parallel sequencing\, including genome scale sequencing\, in clinical medicine and public health. \nJim Evans\, MD\, PhD\, is the Bryson Distinguished Professor of Genetics and Medicine at The University of North Carolina at Chapel Hill. He directs Adult and Cancer Genetics Services and is clinically active in Medical Genetics and General Internal Medicine. He is Editor in Chief of Genetics in Medicine\, the preeminent clinically focused Medical Genetics Journal and the official journal of The American College of Genetics and Genomics.
URL:https://www.med.unc.edu/medicine/event/mar-29/
CATEGORIES:Medicine Grand Rounds
ATTACH;FMTTYPE=image/jpeg:https://www.med.unc.edu/medicine/wp-content/uploads/sites/945/2018/12/Evansweb.jpg
END:VEVENT
END:VCALENDAR