BEGIN:VCALENDAR
VERSION:2.0
PRODID:-//Department of Medicine - ECPv6.15.18//NONSGML v1.0//EN
CALSCALE:GREGORIAN
METHOD:PUBLISH
X-ORIGINAL-URL:https://www.med.unc.edu/medicine
X-WR-CALDESC:Events for Department of Medicine
REFRESH-INTERVAL;VALUE=DURATION:PT1H
X-Robots-Tag:noindex
X-PUBLISHED-TTL:PT1H
BEGIN:VTIMEZONE
TZID:America/New_York
BEGIN:DAYLIGHT
TZOFFSETFROM:-0500
TZOFFSETTO:-0400
TZNAME:EDT
DTSTART:20190310T070000
END:DAYLIGHT
BEGIN:STANDARD
TZOFFSETFROM:-0400
TZOFFSETTO:-0500
TZNAME:EST
DTSTART:20191103T060000
END:STANDARD
BEGIN:DAYLIGHT
TZOFFSETFROM:-0500
TZOFFSETTO:-0400
TZNAME:EDT
DTSTART:20200308T070000
END:DAYLIGHT
BEGIN:STANDARD
TZOFFSETFROM:-0400
TZOFFSETTO:-0500
TZNAME:EST
DTSTART:20201101T060000
END:STANDARD
BEGIN:DAYLIGHT
TZOFFSETFROM:-0500
TZOFFSETTO:-0400
TZNAME:EDT
DTSTART:20210314T070000
END:DAYLIGHT
BEGIN:STANDARD
TZOFFSETFROM:-0400
TZOFFSETTO:-0500
TZNAME:EST
DTSTART:20211107T060000
END:STANDARD
END:VTIMEZONE
BEGIN:VEVENT
DTSTART;TZID=America/New_York:20200507T120000
DTEND;TZID=America/New_York:20200507T130000
DTSTAMP:20260419T235106
CREATED:20200430T193906Z
LAST-MODIFIED:20200506T205325Z
UID:10001227-1588852800-1588856400@www.med.unc.edu
SUMMARY:Medicine Grand Rounds - Virtual Presentation - Larry Klein\, MD & Joseph Sivak\, MD\, FACC - "Chest Pain Evaluation in 2020: The Emerging Role of Coronary CTA"
DESCRIPTION:Dr. Klein is an active clinician with roles as an invasive cardiologist and advanced cardiac imager (cardiac CT\, MRI\, nuclear medicine).  Administratively\, he serves as co-medical director of the cardiology clinic.  He is active in the informatics area as an Epic Lead Informatics Physician\, a physician liaison to the Carolina Data Warehouse and as the director of cardiology informatics for the healthcare system. \n  \nJoseph A. Sivak\, MD is an assistant professor of medicine in the division of cardiology. He completed his cardiology fellowship at Duke in 2016\, including a year of advanced imaging training. His specialty focus is in valvular heart disease and cardiac imaging.
URL:https://www.med.unc.edu/medicine/event/medicine-grand-rounds-virtual-presentation-larry-klein-md-joseph-sivak-md-facc-chest-pain-evaluation-in-2020-the-emerging-role-of-coronary-cta/
LOCATION:Room 4008 Old Clinic Auditorium\, Chapel Hill\, NC\, United States
CATEGORIES:Medicine Grand Rounds
ATTACH;FMTTYPE=image/jpeg:https://www.med.unc.edu/medicine/wp-content/uploads/sites/945/2020/04/SivakKlein-1.jpg
END:VEVENT
BEGIN:VEVENT
DTSTART;TZID=America/New_York:20200514T120000
DTEND;TZID=America/New_York:20200514T130000
DTSTAMP:20260419T235106
CREATED:20200506T180737Z
LAST-MODIFIED:20200511T151220Z
UID:10001228-1589457600-1589461200@www.med.unc.edu
SUMMARY:Virtual Medicine Grand Rounds - Tim Harlan\, MD - "Culinary Medicine in Clinical Practice"
DESCRIPTION:Introduction by Dr. Tom Keyserling \n45 minute presentation by Dr. Tim Harlan (George Washington University) \n15 minute Q&A with Dr. Alice Ammerman \n  \nTimothy S. Harlan\, MD\, FACP\, CCMS\n  \nTimothy S. Harlan practices internal medicine in New Orleans.  His love of food began as a teenager working in the restaurant business.  Starting as a dishwasher\, he worked his way up to managing his first restaurant by the age of eighteen and owning his first restaurant at twenty-two. After operating Le Petit Café as a chef/owner he closed the restaurant to return to school.  Dr. Harlan originally intended to pursue a degree in hotel and restaurant management but events led him toward medicine and the decision to become a physician. \nAfter finishing an undergraduate degree in Anthropology Dr. Harlan went on to study medicine at Emory University.  Working as a caterer throughout school\, he continued to be involved with food and cooking but noticed a lack of knowledge in the medical field around food\, eating healthy and eating well.  Neither patients nor health care providers understood much about a healthy diet.  Patients\, it seemed\, were usually told not what they could eat but\, rather\, what they could not eat. \n  \nIn medical school\, Dr. Harlan wrote It’s Heartly Fare a food manual for patients with cardiovascular disease.  Since then he has published numerous books focusing on translating evidence based diet and nutrition information for the lay public.  He is publisher of the popular Web site DrGourmet.com where information from the Mediterranean diet literature is translated in a practical way for the American kitchen. \n  \nHe served as Associate Dean for Clinical Services at Tulane University School of Medicine is the Executive Director of the Goldring Center for Culinary Medicine\, the first of its kind teaching kitchen operated by a medical school.  The center offers an innovative program teaching medical students about diet and lifestyle that bridges the gap between the basic sciences\, clinical medicine\, the community and culinary education.  Medical students work side-by-side in the kitchen with culinary students to teach each other and\, most importantly\, teach the community and patients how to return to their kitchens and transform their health.
URL:https://www.med.unc.edu/medicine/event/virtual-medicine-grand-rounds-tim-harlan-md-facp-ccms-health-meets-food/
LOCATION:Room 4008 Old Clinic Auditorium\, Chapel Hill\, NC\, United States
CATEGORIES:Educational Conferences,Medicine Grand Rounds
END:VEVENT
BEGIN:VEVENT
DTSTART;TZID=America/New_York:20200521T120000
DTEND;TZID=America/New_York:20200521T130000
DTSTAMP:20260419T235106
CREATED:20200506T183045Z
LAST-MODIFIED:20200514T192103Z
UID:10001229-1590062400-1590066000@www.med.unc.edu
SUMMARY:Virtual Medicine Grand Rounds - Shannon Carson\, MD\, Jenny Flythe\, MD\, & Nigel Key\, MB ChB\, - "Complications of COVID19 Infection"
DESCRIPTION:  \nThis will be a multi-department presentation about the effects of COVID19. \n\n15 minutes – Shannon Carson\, “Pulmonary Complications”\n15 minutes – Nigel Key\, “COVID Coagulopathy – A Novel\nEndotheliopathy”\n15 minutes – Jenny Flythe\, “Renal Complications”\n\nThere will be a 15 minute Q&A session to follow.
URL:https://www.med.unc.edu/medicine/event/virtual-medicine-grand-rounds-shannon-carson-md-jenny-flythe-md-mph-nigel-key-mb-chb-frcp-complications-of-covid19-infection/
LOCATION:Room 4008 Old Clinic Auditorium\, Chapel Hill\, NC\, United States
CATEGORIES:Educational Conferences,Medicine Grand Rounds
END:VEVENT
BEGIN:VEVENT
DTSTART;TZID=America/New_York:20200528T120000
DTEND;TZID=America/New_York:20200528T130000
DTSTAMP:20260419T235106
CREATED:20200506T202630Z
LAST-MODIFIED:20200506T202630Z
UID:10001230-1590667200-1590670800@www.med.unc.edu
SUMMARY:Virtual Medicine Grand Rounds - Chief Resident Lecture - "Year in Review"
DESCRIPTION:2019 Chief Residents
URL:https://www.med.unc.edu/medicine/event/virtual-medicine-grand-rounds-chief-resident-lecture-year-in-review/
LOCATION:Room 4008 Old Clinic Auditorium\, Chapel Hill\, NC\, United States
CATEGORIES:Educational Conferences,Medicine Grand Rounds,Residency
END:VEVENT
END:VCALENDAR