BEGIN:VCALENDAR
VERSION:2.0
PRODID:-//Department of Medicine - ECPv6.15.18//NONSGML v1.0//EN
CALSCALE:GREGORIAN
METHOD:PUBLISH
X-ORIGINAL-URL:https://www.med.unc.edu/medicine
X-WR-CALDESC:Events for Department of Medicine
REFRESH-INTERVAL;VALUE=DURATION:PT1H
X-Robots-Tag:noindex
X-PUBLISHED-TTL:PT1H
BEGIN:VTIMEZONE
TZID:America/New_York
BEGIN:DAYLIGHT
TZOFFSETFROM:-0500
TZOFFSETTO:-0400
TZNAME:EDT
DTSTART:20150308T070000
END:DAYLIGHT
BEGIN:STANDARD
TZOFFSETFROM:-0400
TZOFFSETTO:-0500
TZNAME:EST
DTSTART:20151101T060000
END:STANDARD
BEGIN:DAYLIGHT
TZOFFSETFROM:-0500
TZOFFSETTO:-0400
TZNAME:EDT
DTSTART:20160313T070000
END:DAYLIGHT
BEGIN:STANDARD
TZOFFSETFROM:-0400
TZOFFSETTO:-0500
TZNAME:EST
DTSTART:20161106T060000
END:STANDARD
BEGIN:DAYLIGHT
TZOFFSETFROM:-0500
TZOFFSETTO:-0400
TZNAME:EDT
DTSTART:20170312T070000
END:DAYLIGHT
BEGIN:STANDARD
TZOFFSETFROM:-0400
TZOFFSETTO:-0500
TZNAME:EST
DTSTART:20171105T060000
END:STANDARD
END:VTIMEZONE
BEGIN:VEVENT
DTSTART;TZID=America/New_York:20160127T130000
DTEND;TZID=America/New_York:20160127T133000
DTSTAMP:20260422T214949
CREATED:20160127T180000Z
LAST-MODIFIED:20190307T203657Z
UID:10000766-1453899600-1453901400@www.med.unc.edu
SUMMARY:SMART Enrollment @ 1pm
DESCRIPTION:
URL:https://www.med.unc.edu/medicine/event/smart-enrollment-1pm/
END:VEVENT
BEGIN:VEVENT
DTSTART;TZID=America/New_York:20160128T110000
DTEND;TZID=America/New_York:20160128T113000
DTSTAMP:20260422T214949
CREATED:20160128T160000Z
LAST-MODIFIED:20190307T203644Z
UID:10000768-1453978800-1453980600@www.med.unc.edu
SUMMARY:SMART Enrollment @ 11am
DESCRIPTION:
URL:https://www.med.unc.edu/medicine/event/smart-enrollment-11am/
END:VEVENT
BEGIN:VEVENT
DTSTART;TZID=America/New_York:20160128T120000
DTEND;TZID=America/New_York:20160128T130000
DTSTAMP:20260422T214949
CREATED:20151231T004500Z
LAST-MODIFIED:20190307T203223Z
UID:10000758-1453982400-1453986000@www.med.unc.edu
SUMMARY:Medicine Grand Rounds - Dr. George (Rick) Stouffer: "In-Hospital STEMI"
DESCRIPTION:
URL:https://www.med.unc.edu/medicine/event/january-28/
CATEGORIES:Medicine Grand Rounds
END:VEVENT
BEGIN:VEVENT
DTSTART;TZID=America/New_York:20160130T160000
DTEND;TZID=America/New_York:20160130T190000
DTSTAMP:20260422T214949
CREATED:20160130T210000Z
LAST-MODIFIED:20190307T202518Z
UID:10000770-1454169600-1454180400@www.med.unc.edu
SUMMARY:UNC vs. Boston College
DESCRIPTION:
URL:https://www.med.unc.edu/medicine/event/unc-vs-boston-college/
CATEGORIES:Medicine Grand Rounds
END:VEVENT
END:VCALENDAR