BEGIN:VCALENDAR
VERSION:2.0
PRODID:-//Department of Medicine - ECPv6.15.18//NONSGML v1.0//EN
CALSCALE:GREGORIAN
METHOD:PUBLISH
X-ORIGINAL-URL:https://www.med.unc.edu/medicine
X-WR-CALDESC:Events for Department of Medicine
REFRESH-INTERVAL;VALUE=DURATION:PT1H
X-Robots-Tag:noindex
X-PUBLISHED-TTL:PT1H
BEGIN:VTIMEZONE
TZID:America/New_York
BEGIN:DAYLIGHT
TZOFFSETFROM:-0500
TZOFFSETTO:-0400
TZNAME:EDT
DTSTART:20160313T070000
END:DAYLIGHT
BEGIN:STANDARD
TZOFFSETFROM:-0400
TZOFFSETTO:-0500
TZNAME:EST
DTSTART:20161106T060000
END:STANDARD
BEGIN:DAYLIGHT
TZOFFSETFROM:-0500
TZOFFSETTO:-0400
TZNAME:EDT
DTSTART:20170312T070000
END:DAYLIGHT
BEGIN:STANDARD
TZOFFSETFROM:-0400
TZOFFSETTO:-0500
TZNAME:EST
DTSTART:20171105T060000
END:STANDARD
BEGIN:DAYLIGHT
TZOFFSETFROM:-0500
TZOFFSETTO:-0400
TZNAME:EDT
DTSTART:20180311T070000
END:DAYLIGHT
BEGIN:STANDARD
TZOFFSETFROM:-0400
TZOFFSETTO:-0500
TZNAME:EST
DTSTART:20181104T060000
END:STANDARD
END:VTIMEZONE
BEGIN:VEVENT
DTSTART;TZID=America/New_York:20170119T120000
DTEND;TZID=America/New_York:20170119T130000
DTSTAMP:20260419T163053
CREATED:20170119T170000Z
LAST-MODIFIED:20190307T201638Z
UID:10000843-1484827200-1484830800@www.med.unc.edu
SUMMARY:Medicine Grand Rounds\, Marie Demay\, "FGF23 in Normal Physiology and Disease"
DESCRIPTION:FGF23 was initially identified by linkage analysis of a rare genetic disorder characterized by rickets and hypophosphatemia. Subsequent investigations identified FGF23 as a major regulator of mineral ion homeostasis under normal physiological conditions. Increased levels of FGF23 contribute to the pathology observed in numerous disease states\, including chronic kidney disease. This lecture will discuss the physiologic role of FGF23 and its contributions to disease pathology. \nMarie Demay is Professor of Medicine at Harvard Medical School. Her clinical interests include calcium disorders\, endocrinology\, and osteomalacia. Her current research projects include the role of the vitamin D receptor in keratinocyte stem-cell function and the role of mineral ions and hormones on growth-plate development and maturation using a model of X-linked hypophosphatemia.
URL:https://www.med.unc.edu/medicine/event/jan-19/
CATEGORIES:Medicine Grand Rounds
ATTACH;FMTTYPE=image/jpeg:https://www.med.unc.edu/medicine/wp-content/uploads/sites/945/2018/12/marie-demay.jpeg
END:VEVENT
END:VCALENDAR