BEGIN:VCALENDAR
VERSION:2.0
PRODID:-//Department of Medicine - ECPv6.15.18//NONSGML v1.0//EN
CALSCALE:GREGORIAN
METHOD:PUBLISH
X-ORIGINAL-URL:https://www.med.unc.edu/medicine
X-WR-CALDESC:Events for Department of Medicine
REFRESH-INTERVAL;VALUE=DURATION:PT1H
X-Robots-Tag:noindex
X-PUBLISHED-TTL:PT1H
BEGIN:VTIMEZONE
TZID:America/New_York
BEGIN:DAYLIGHT
TZOFFSETFROM:-0500
TZOFFSETTO:-0400
TZNAME:EDT
DTSTART:20160313T070000
END:DAYLIGHT
BEGIN:STANDARD
TZOFFSETFROM:-0400
TZOFFSETTO:-0500
TZNAME:EST
DTSTART:20161106T060000
END:STANDARD
BEGIN:DAYLIGHT
TZOFFSETFROM:-0500
TZOFFSETTO:-0400
TZNAME:EDT
DTSTART:20170312T070000
END:DAYLIGHT
BEGIN:STANDARD
TZOFFSETFROM:-0400
TZOFFSETTO:-0500
TZNAME:EST
DTSTART:20171105T060000
END:STANDARD
BEGIN:DAYLIGHT
TZOFFSETFROM:-0500
TZOFFSETTO:-0400
TZNAME:EDT
DTSTART:20180311T070000
END:DAYLIGHT
BEGIN:STANDARD
TZOFFSETFROM:-0400
TZOFFSETTO:-0500
TZNAME:EST
DTSTART:20181104T060000
END:STANDARD
END:VTIMEZONE
BEGIN:VEVENT
DTSTART;TZID=America/New_York:20170126T120000
DTEND;TZID=America/New_York:20170126T130000
DTSTAMP:20260419T204117
CREATED:20170126T170000Z
LAST-MODIFIED:20190307T201636Z
UID:10000845-1485432000-1485435600@www.med.unc.edu
SUMMARY:Medicine Grand Rounds\, David Weber and Sarah McGill\, "Clostridium Difficile Infection"
DESCRIPTION:Drs. Weber and McGill will discuss Clostridium difficile\, often called C. diff\, a bacterium that can cause symptoms ranging from diarrhea to life-threatening inflammation of the colon. Illness from C. difficile most commonly affects older adults in hospitals or in long term care facilities and typically occurs after use of antibiotic medications. \nIn recent years\, C. difficile infections have become more frequent\, more severe and more difficult to treat. Each year\, tens of thousands of people in the United States get sick from C. difficile\, including some otherwise healthy people who aren’t hospitalized or taking antibiotics. \nTreatment of C. difficile infections costs more than $3 billion per year in the U.S. alone. C. diff is one of the most dangerous drug-resistant infections. As a result\, it’s classified as an “urgent threat” by the Centers for Disease Control and Prevention\, making it a top priority for microbial researchers. Fecal microbiota transplantation is an effective treatment for recurrent C. difficile positive diarrhea.  The Food and Drug Administration allows fecal transplantation to be performed in patients whose C. difficile infection has not responded to standard therapies. \nThrough his roles as medical director of hospital epidemiology and associate chief medical officer of UNC Health Care\, Dr. Weber works to prevent hospital-acquired infections in patients and staff at UNC Hospitals. Dr. McGill cares for patients with recurrent C. difficile colitis and performs fecal transplant. She will examine the indications for fecal transplantation and how it is performed at UNC.
URL:https://www.med.unc.edu/medicine/event/jan-26/
CATEGORIES:Medicine Grand Rounds
ATTACH;FMTTYPE=image/jpeg:https://www.med.unc.edu/medicine/wp-content/uploads/sites/945/2018/12/david-j-weber.jpeg
END:VEVENT
END:VCALENDAR