BEGIN:VCALENDAR
VERSION:2.0
PRODID:-//Department of Medicine - ECPv6.15.18//NONSGML v1.0//EN
CALSCALE:GREGORIAN
METHOD:PUBLISH
X-ORIGINAL-URL:https://www.med.unc.edu/medicine
X-WR-CALDESC:Events for Department of Medicine
REFRESH-INTERVAL;VALUE=DURATION:PT1H
X-Robots-Tag:noindex
X-PUBLISHED-TTL:PT1H
BEGIN:VTIMEZONE
TZID:America/New_York
BEGIN:DAYLIGHT
TZOFFSETFROM:-0500
TZOFFSETTO:-0400
TZNAME:EDT
DTSTART:20160313T070000
END:DAYLIGHT
BEGIN:STANDARD
TZOFFSETFROM:-0400
TZOFFSETTO:-0500
TZNAME:EST
DTSTART:20161106T060000
END:STANDARD
BEGIN:DAYLIGHT
TZOFFSETFROM:-0500
TZOFFSETTO:-0400
TZNAME:EDT
DTSTART:20170312T070000
END:DAYLIGHT
BEGIN:STANDARD
TZOFFSETFROM:-0400
TZOFFSETTO:-0500
TZNAME:EST
DTSTART:20171105T060000
END:STANDARD
BEGIN:DAYLIGHT
TZOFFSETFROM:-0500
TZOFFSETTO:-0400
TZNAME:EDT
DTSTART:20180311T070000
END:DAYLIGHT
BEGIN:STANDARD
TZOFFSETFROM:-0400
TZOFFSETTO:-0500
TZNAME:EST
DTSTART:20181104T060000
END:STANDARD
END:VTIMEZONE
BEGIN:VEVENT
DTSTART;TZID=America/New_York:20170313T120000
DTEND;TZID=America/New_York:20170313T130000
DTSTAMP:20260420T105310
CREATED:20170313T160000Z
LAST-MODIFIED:20190307T192436Z
UID:10000859-1489406400-1489410000@www.med.unc.edu
SUMMARY:Grand Rounds: David Weber\, MD\, MPH
DESCRIPTION:Speaker: David Weber\, MD\, MPH\, Medical Director of UNC’s Department of Hospital Epidemiology and Occupational Health ServiceTopic: “Non-Tuberculous Mycobacteria: Outbreak Related to Heater-Cooler Units.”
URL:https://www.med.unc.edu/medicine/event/grand-rounds-david-weber-md-mph/
CATEGORIES:Medicine Grand Rounds
END:VEVENT
BEGIN:VEVENT
DTSTART;TZID=America/New_York:20170316T120000
DTEND;TZID=America/New_York:20170316T130000
DTSTAMP:20260420T105310
CREATED:20170316T160000Z
LAST-MODIFIED:20190307T192432Z
UID:10000860-1489665600-1489669200@www.med.unc.edu
SUMMARY:Medicine Grand Rounds\, Evan Dellon "Eosinophilic Gastrointestinal Diseases"
DESCRIPTION:The eosinophilic gastrointestinal diseases (EGIDs) represent a spectrum of conditions where high numbers of eosinophils infiltrate the GI mucosa and cause pathologic changes and clinical symptoms.  They are classified by where the eosinophilic infiltration predominates. Eosinophilic esophagitis (EoE) is the most common and well-studied\, and now represents a substantial cause of upper GI morbidity. In contrast\, eosinophilic gastritis (EG)\, gastroenteritis (EGE)\, and colitis (EC) are rare and relatively little is known about them. This talk will review current understanding of EGIDs\, including their diagnosis\, epidemiology\, treatment\, outcomes\, and challenges\, and will highlight research advances. \nDr. Evan Dellon is Associate Professor of Medicine and Epidemiology in the Division of Gastroenterology and Hepatology. He also directs the UNC Center for Esophageal Diseases and Swallowing. His research interests are in esophageal diseases\, and eosinophilic esophagitis in particular. He has multiple active protocols studying the epidemiology\, diagnosis\, pathogenesis\, and treatment of EoE. He collaborates with allergists\, pediatric gastroenterologists\, pathologists\, and epidemiologists at UNC\, throughout the US\, and around the world. \n“When you can look back at pathology samples from the 70’s\, 80’s\, and 90’s\, you just don’t see the level of inflammation in the esophagus\, with eosinophils. People didn’t see the findings in the esophagus when they did endoscopies in the 1980’s. Something has clearly changed. The incidence is increasing. It’s becoming more and more common.”
URL:https://www.med.unc.edu/medicine/event/mar-16/
CATEGORIES:Medicine Grand Rounds
ATTACH;FMTTYPE=image/jpeg:https://www.med.unc.edu/medicine/wp-content/uploads/sites/945/2018/12/evan-dellon.jpeg
END:VEVENT
BEGIN:VEVENT
DTSTART;TZID=America/New_York:20170316T120000
DTEND;TZID=America/New_York:20170316T130000
DTSTAMP:20260420T105310
CREATED:20170316T160000Z
LAST-MODIFIED:20190307T192434Z
UID:10000861-1489665600-1489669200@www.med.unc.edu
SUMMARY:Medicine Grand Rounds - "Eosinophilic Gastrointestinal Diseases" with Dr. Evan Dellon
DESCRIPTION:The eosinophilic gastrointestinal diseases (EGIDs) represent a spectrum of conditions where high numbers of eosinophils infiltrate the GI mucosa and cause pathologic changes and clinicalsymptoms. They are classified by where the eosinophilic infiltration predominates. Eosinophilic esophagitis (EoE) is the most common and well-studied\, and now represents a substantial cause of upper GI morbidity. In contrast\, eosinophilic gastritis (EG)\, gastroenteritis (EGE)\, and colitis (EC) are rare and relatively little is known about them. This talk will review current understanding of EGIDs\, including their diagnosis\, epidemiology\, treatment\, outcomes\, and challenges\, and will highlight research advances. \nDr. Evan Dellon is Associate Professor of Medicine and Epidemiology in the Division of Gastroenterology and Hepatology. He also directs the UNC Center for Esophageal Diseases and Swallowing. His research interests are in esophageal diseases\, and eosinophilic esophagitis in particular. He has multiple active protocols studying the epidemiology\, diagnosis\, pathogenesis\, and treatment of EoE. He collaborates with allergists\, pediatric gastroenterologists\, pathologists\, and epidemiologists at UNC\, throughout the US\, and around the world. \n“When you can look back at pathology samples from the 70’s\, 80’s\, and 90’s\, you just don’t see the level of inflammation in the esophagus\, with eosinophils. People didn’t see the findings in the esophagus when they did endoscopies in the 1980’s. Something has clearly changed. The incidence is increasing. It’s becoming more and more common.”
URL:https://www.med.unc.edu/medicine/event/medicine-grand-rounds-eosinophilic-gastrointestinal-diseases-with-dr-evan-dellon/
CATEGORIES:Medicine Grand Rounds
ATTACH;FMTTYPE=image/jpeg:https://www.med.unc.edu/medicine/wp-content/uploads/sites/945/2018/12/eea098c5424648df9c0a00cb4a0b2f0f.jpeg
END:VEVENT
BEGIN:VEVENT
DTSTART;TZID=America/New_York:20170316T163000
DTEND;TZID=America/New_York:20170316T173000
DTSTAMP:20260420T105310
CREATED:20170316T203000Z
LAST-MODIFIED:20190307T192430Z
UID:10000862-1489681800-1489685400@www.med.unc.edu
SUMMARY:CGIBD Research Seminar - "Translational Research in IBD: Year in Review"
DESCRIPTION:Stream online:  https://meetings.webex.com/collabs/meetings/join?uuid=M5RXAAYEB6V25IX0KLDM6C9ZSK-12JV
URL:https://www.med.unc.edu/medicine/event/cgibd-research-seminar-translational-research-in-ibd-year-in-review/
CATEGORIES:Medicine Grand Rounds
ATTACH;FMTTYPE=image/png:https://www.med.unc.edu/medicine/wp-content/uploads/sites/945/2018/12/sylvester0316.png
END:VEVENT
BEGIN:VEVENT
DTSTART;TZID=America/New_York:20170318T080000
DTEND;TZID=America/New_York:20170318T123000
DTSTAMP:20260420T105310
CREATED:20170318T120000Z
LAST-MODIFIED:20190307T192428Z
UID:10000863-1489824000-1489840200@www.med.unc.edu
SUMMARY:Arrhythmias & Heart Failure 2017: Practical Approaches to Patient Management (a Mountain Area Heath Education Center symposium)
DESCRIPTION:Arrhythmias & Heart Failure 2017: Practical Approaches to Patient Management: A symposium for cardiologists and general internists addressing practical approaches to the management of patients with cardiac failure and complex arrhythmias. The program will ascertain how\, and if\, cardiac electrophysiologists and cardiac failure specialists should interface with specialist and generalist colleagues to optimize patient care.
URL:https://www.med.unc.edu/medicine/event/arrhythmias-heart-failure-2017-practical-approaches-to-patient-management-a-mountain-area-heath-education-center-symposium/
CATEGORIES:Medicine Grand Rounds
END:VEVENT
END:VCALENDAR