BEGIN:VCALENDAR
VERSION:2.0
PRODID:-//Department of Medicine - ECPv6.15.18//NONSGML v1.0//EN
CALSCALE:GREGORIAN
METHOD:PUBLISH
X-ORIGINAL-URL:https://www.med.unc.edu/medicine
X-WR-CALDESC:Events for Department of Medicine
REFRESH-INTERVAL;VALUE=DURATION:PT1H
X-Robots-Tag:noindex
X-PUBLISHED-TTL:PT1H
BEGIN:VTIMEZONE
TZID:America/New_York
BEGIN:DAYLIGHT
TZOFFSETFROM:-0500
TZOFFSETTO:-0400
TZNAME:EDT
DTSTART:20160313T070000
END:DAYLIGHT
BEGIN:STANDARD
TZOFFSETFROM:-0400
TZOFFSETTO:-0500
TZNAME:EST
DTSTART:20161106T060000
END:STANDARD
BEGIN:DAYLIGHT
TZOFFSETFROM:-0500
TZOFFSETTO:-0400
TZNAME:EDT
DTSTART:20170312T070000
END:DAYLIGHT
BEGIN:STANDARD
TZOFFSETFROM:-0400
TZOFFSETTO:-0500
TZNAME:EST
DTSTART:20171105T060000
END:STANDARD
BEGIN:DAYLIGHT
TZOFFSETFROM:-0500
TZOFFSETTO:-0400
TZNAME:EDT
DTSTART:20180311T070000
END:DAYLIGHT
BEGIN:STANDARD
TZOFFSETFROM:-0400
TZOFFSETTO:-0500
TZNAME:EST
DTSTART:20181104T060000
END:STANDARD
END:VTIMEZONE
BEGIN:VEVENT
DTSTART;TZID=America/New_York:20170410T120000
DTEND;TZID=America/New_York:20170410T130000
DTSTAMP:20260419T155328
CREATED:20170403T195810Z
LAST-MODIFIED:20190307T192358Z
UID:10000881-1491825600-1491829200@www.med.unc.edu
SUMMARY:Grand Rounds: Donald Lynch\, MD
DESCRIPTION:Speaker: Donald Lynch\, MD\, Assistant Professor\, Interventional Cardiology & Vascular Medicine\, University of CincinnatiTopic: Thromboinflammatory Response Following Transcatheter Valve Interventions
URL:https://www.med.unc.edu/medicine/event/grand-rounds-donald-lynch-md/
CATEGORIES:Medicine Grand Rounds
END:VEVENT
BEGIN:VEVENT
DTSTART;TZID=America/New_York:20170412T160000
DTEND;TZID=America/New_York:20170412T170000
DTSTAMP:20260419T155328
CREATED:20170412T200000Z
LAST-MODIFIED:20190307T192220Z
UID:10000888-1492012800-1492016400@www.med.unc.edu
SUMMARY:GI Epi Conference - "Challenges in clinical trial design for EoE" with Evan Dellon\, MD\, MPH and "DDW Practice Talk: A multivariable model predicts complete histologic response to topical steroids in EoE" with Swathi Eluri MD
DESCRIPTION:
URL:https://www.med.unc.edu/medicine/event/gi-epi-conference-challenges-in-clinical-trial-design-for-eoe-with-evan-dellon-md-mph-and-ddw-practice-talk-a-multivariable-model-predicts-complete-histologic-response-to-topical-steroids-in-eoe-with/
CATEGORIES:Medicine Grand Rounds
ATTACH;FMTTYPE=image/png:https://www.med.unc.edu/medicine/wp-content/uploads/sites/945/2018/12/copy3_of_image001.png
END:VEVENT
BEGIN:VEVENT
DTSTART;TZID=America/New_York:20170413T120000
DTEND;TZID=America/New_York:20170413T130000
DTSTAMP:20260419T155328
CREATED:20170413T160000Z
LAST-MODIFIED:20190307T192218Z
UID:10000889-1492084800-1492088400@www.med.unc.edu
SUMMARY:Medicine Grand Rounds\, Ronald Falk\, "Perspective on Autoimmunity: A View from the ANCA Vasculitis Looking Glass"
DESCRIPTION:Dr. Ronald Falk’s lifelong career has been the study of autoimmune kidney disease and ANCA vasculitis. His research has led to a deeper understanding of the causes and conditions that may lead to the development of ANCA vasculitis in an effort to improve the lives of those patients afflicted with vasculitis and autoimmune kidney diseases. \nDr. Falk received the prestigious NIH Astute Clinician Award and presented this topic at the NIH. Nominated by the NIH community\, the Astute Clinician Award recognizes the scientist’s contributions and exemplifies how astute clinical observations lead to innovative research. NIH Astute Clinicians are scientists who observed an unusual clinical occurrence and\, by investigating it\, opened up an important new avenue of research. Through this lecture series\, the NIH works to keep researchers abreast of the latest and most important research in the United States and beyond.
URL:https://www.med.unc.edu/medicine/event/apr-13/
CATEGORIES:Medicine Grand Rounds
ATTACH;FMTTYPE=image/png:https://www.med.unc.edu/medicine/wp-content/uploads/sites/945/2018/12/perspective-on-autoimmunity.png
END:VEVENT
BEGIN:VEVENT
DTSTART;TZID=America/New_York:20170413T163000
DTEND;TZID=America/New_York:20170413T173000
DTSTAMP:20260419T155328
CREATED:20170413T203000Z
LAST-MODIFIED:20190307T192215Z
UID:10000890-1492101000-1492104600@www.med.unc.edu
SUMMARY:CGIBD Research Seminar - "Intestinal Stem Cells: Regulation and Dynamics" with Dr. Vincent Yang
DESCRIPTION:Watch the seminar online:  https://meetings.webex.com/collabs/meetings/join?uuid=M5RXAAYEB6V25IX0KLDM6C9ZSK-12JV
URL:https://www.med.unc.edu/medicine/event/cgibd-research-seminar-with-dr-vincent-yang/
CATEGORIES:Medicine Grand Rounds
ATTACH;FMTTYPE=image/png:https://www.med.unc.edu/medicine/wp-content/uploads/sites/945/2018/12/yank413big.png
END:VEVENT
END:VCALENDAR