BEGIN:VCALENDAR
VERSION:2.0
PRODID:-//Department of Medicine - ECPv6.15.18//NONSGML v1.0//EN
CALSCALE:GREGORIAN
METHOD:PUBLISH
X-ORIGINAL-URL:https://www.med.unc.edu/medicine
X-WR-CALDESC:Events for Department of Medicine
REFRESH-INTERVAL;VALUE=DURATION:PT1H
X-Robots-Tag:noindex
X-PUBLISHED-TTL:PT1H
BEGIN:VTIMEZONE
TZID:America/New_York
BEGIN:DAYLIGHT
TZOFFSETFROM:-0500
TZOFFSETTO:-0400
TZNAME:EDT
DTSTART:20160313T070000
END:DAYLIGHT
BEGIN:STANDARD
TZOFFSETFROM:-0400
TZOFFSETTO:-0500
TZNAME:EST
DTSTART:20161106T060000
END:STANDARD
BEGIN:DAYLIGHT
TZOFFSETFROM:-0500
TZOFFSETTO:-0400
TZNAME:EDT
DTSTART:20170312T070000
END:DAYLIGHT
BEGIN:STANDARD
TZOFFSETFROM:-0400
TZOFFSETTO:-0500
TZNAME:EST
DTSTART:20171105T060000
END:STANDARD
BEGIN:DAYLIGHT
TZOFFSETFROM:-0500
TZOFFSETTO:-0400
TZNAME:EDT
DTSTART:20180311T070000
END:DAYLIGHT
BEGIN:STANDARD
TZOFFSETFROM:-0400
TZOFFSETTO:-0500
TZNAME:EST
DTSTART:20181104T060000
END:STANDARD
END:VTIMEZONE
BEGIN:VEVENT
DTSTART;TZID=America/New_York:20170508T120000
DTEND;TZID=America/New_York:20170508T130000
DTSTAMP:20260419T114629
CREATED:20170508T160000Z
LAST-MODIFIED:20190307T192157Z
UID:10000802-1494244800-1494248400@www.med.unc.edu
SUMMARY:Grand Rounds: Rita Jermyn\, MD\, CardioMEMS-- What's New and Exciting?
DESCRIPTION:Speaker: Rita Jermyn\, MD. Director\, Heart Failure Program\, St. Francis Hospital\, Roslyn\, NY.Topic: Cardiomems– What’s New and Exciting?
URL:https://www.med.unc.edu/medicine/event/grand-rounds-rita-jermyn-md/
CATEGORIES:Medicine Grand Rounds
END:VEVENT
BEGIN:VEVENT
DTSTART;TZID=America/New_York:20170511T120000
DTEND;TZID=America/New_York:20170511T130000
DTSTAMP:20260419T114629
CREATED:20170511T160000Z
LAST-MODIFIED:20190307T192155Z
UID:10000806-1494504000-1494507600@www.med.unc.edu
SUMMARY:Medicine Grand Rounds\, John Vavalle and Thomas Caranasos "Leading the Charge: A New Era in the Treatment of Valvular Heart Disease"
DESCRIPTION:In 2014\, Dr. Vavalle and Dr. Caranasos successfully performed the first TAVR procedure here at UNC. The TAVR program recently completed its 100th procedure; it is quickly growing into one of the busiest programs in North Carolina. Transcatheter aortic valve replacement (TAVR) is a new technology that provides a treatment option for many patients with aortic valve stenosis who previously had no other treatment option\, or were at high risk for standard open surgical valve replacement due to advanced age\, frailty\, or co-morbid illness.  \n\nDr. Vavalle also leads the UNC Heart Valve Clinic where a multi-disciplinary team of cardiac surgeons\, cardiologists\, and advanced practice providers evaluate patients with valvular heart disease to determine the best treatment options available. Dr. Caranasos serves as a co-director of the TAVR Program along with Dr. Vavalle and Dr. Michael Yeung.  He is director of Adult Cardiac Surgery.
URL:https://www.med.unc.edu/medicine/event/may-11/
CATEGORIES:Medicine Grand Rounds
ATTACH;FMTTYPE=image/jpeg:https://www.med.unc.edu/medicine/wp-content/uploads/sites/945/2018/12/tavr-team.jpeg
END:VEVENT
BEGIN:VEVENT
DTSTART;TZID=America/New_York:20170511T120000
DTEND;TZID=America/New_York:20170511T130000
DTSTAMP:20260419T114629
CREATED:20170511T160000Z
LAST-MODIFIED:20190612T143332Z
UID:10000804-1494504000-1494507600@www.med.unc.edu
SUMMARY:Medicine Grand Rounds: Drs. John Vavalle and Thomas Caranasos. Leading the Charge: A New Era in the Treatment of Valvular Heart Disease
DESCRIPTION:Speaker: Dr. John Vavalle  and Dr. Thomas CaranasosTopic: Leading the Charge: A New Era in the Treatment of Valvular Heart Disease
URL:https://www.med.unc.edu/medicine/event/medicine-grand-rounds-dr-john-vavalle-update-on-tavr/
CATEGORIES:Medicine Grand Rounds
END:VEVENT
BEGIN:VEVENT
DTSTART;TZID=America/New_York:20170511T163000
DTEND;TZID=America/New_York:20170511T173000
DTSTAMP:20260419T114629
CREATED:20170511T203000Z
LAST-MODIFIED:20190307T192151Z
UID:10000808-1494520200-1494523800@www.med.unc.edu
SUMMARY:CGIBD Research Seminar with Dr. Diana Arsene
DESCRIPTION:Watch the seminar online:  https://meetings.webex.com/collabs/meetings/join?uuid=M5RXAAYEB6V25IX0KLDM6C9ZSK-12JV
URL:https://www.med.unc.edu/medicine/event/cgibd-research-seminar-with-dr-diana-arsene/
CATEGORIES:Medicine Grand Rounds
END:VEVENT
END:VCALENDAR