BEGIN:VCALENDAR
VERSION:2.0
PRODID:-//Department of Medicine - ECPv6.15.18//NONSGML v1.0//EN
CALSCALE:GREGORIAN
METHOD:PUBLISH
X-ORIGINAL-URL:https://www.med.unc.edu/medicine
X-WR-CALDESC:Events for Department of Medicine
REFRESH-INTERVAL;VALUE=DURATION:PT1H
X-Robots-Tag:noindex
X-PUBLISHED-TTL:PT1H
BEGIN:VTIMEZONE
TZID:America/New_York
BEGIN:DAYLIGHT
TZOFFSETFROM:-0500
TZOFFSETTO:-0400
TZNAME:EDT
DTSTART:20160313T070000
END:DAYLIGHT
BEGIN:STANDARD
TZOFFSETFROM:-0400
TZOFFSETTO:-0500
TZNAME:EST
DTSTART:20161106T060000
END:STANDARD
BEGIN:DAYLIGHT
TZOFFSETFROM:-0500
TZOFFSETTO:-0400
TZNAME:EDT
DTSTART:20170312T070000
END:DAYLIGHT
BEGIN:STANDARD
TZOFFSETFROM:-0400
TZOFFSETTO:-0500
TZNAME:EST
DTSTART:20171105T060000
END:STANDARD
BEGIN:DAYLIGHT
TZOFFSETFROM:-0500
TZOFFSETTO:-0400
TZNAME:EDT
DTSTART:20180311T070000
END:DAYLIGHT
BEGIN:STANDARD
TZOFFSETFROM:-0400
TZOFFSETTO:-0500
TZNAME:EST
DTSTART:20181104T060000
END:STANDARD
END:VTIMEZONE
BEGIN:VEVENT
DTSTART;TZID=America/New_York:20171121T140000
DTEND;TZID=America/New_York:20171121T150000
DTSTAMP:20260420T023214
CREATED:20171121T190000Z
LAST-MODIFIED:20190307T185801Z
UID:10000837-1511272800-1511276400@www.med.unc.edu
SUMMARY:McAllister Heart Institute Seminar Series: Francis Miller\, MD\, Role of Smooth Muscle Cell NADPH Oxidase in Vascular Disease
DESCRIPTION:Speaker: Francis J. Miller\, MD\, Professor of Medicine\, Dept. of Internal Medicine\, Division of Cardiology\, Duke University School of MedicineTopic: Role of Smooth Muscle Cell NADPH Oxidase in Vascular Disease \nInformation from Dr. Miller on his lecture:The primary goal of my research program is to understand the molecular and cellular mechanisms that contribute to the generation of reactive oxygen species and pathophysiology of vascular disease. The objectives of my seminar are:1) Describe the role of inflammation and oxidative stress in the development of vascular disease.2) Describe the structure and function of the vascular NADPH oxidases in the blood vessel.3) Discuss the role of phosphorylation and endocytosis in activation of the Nox1 NAPDH oxidase.4) Discuss the regulation of Nox4 NADPH oxidase by miRNA and its role in smooth muscle cell differentiation.Describe novel approaches for targeting smooth muscle cell Nox1 in vascular disease.
URL:https://www.med.unc.edu/medicine/event/mcallister-heart-institute-seminar-series-jeffery-holmes-md-phd/
CATEGORIES:Medicine Grand Rounds
END:VEVENT
END:VCALENDAR