BEGIN:VCALENDAR
VERSION:2.0
PRODID:-//Department of Medicine - ECPv6.15.18//NONSGML v1.0//EN
CALSCALE:GREGORIAN
METHOD:PUBLISH
X-ORIGINAL-URL:https://www.med.unc.edu/medicine
X-WR-CALDESC:Events for Department of Medicine
REFRESH-INTERVAL;VALUE=DURATION:PT1H
X-Robots-Tag:noindex
X-PUBLISHED-TTL:PT1H
BEGIN:VTIMEZONE
TZID:America/New_York
BEGIN:DAYLIGHT
TZOFFSETFROM:-0500
TZOFFSETTO:-0400
TZNAME:EDT
DTSTART:20190310T070000
END:DAYLIGHT
BEGIN:STANDARD
TZOFFSETFROM:-0400
TZOFFSETTO:-0500
TZNAME:EST
DTSTART:20191103T060000
END:STANDARD
BEGIN:DAYLIGHT
TZOFFSETFROM:-0500
TZOFFSETTO:-0400
TZNAME:EDT
DTSTART:20200308T070000
END:DAYLIGHT
BEGIN:STANDARD
TZOFFSETFROM:-0400
TZOFFSETTO:-0500
TZNAME:EST
DTSTART:20201101T060000
END:STANDARD
BEGIN:DAYLIGHT
TZOFFSETFROM:-0500
TZOFFSETTO:-0400
TZNAME:EDT
DTSTART:20210314T070000
END:DAYLIGHT
BEGIN:STANDARD
TZOFFSETFROM:-0400
TZOFFSETTO:-0500
TZNAME:EST
DTSTART:20211107T060000
END:STANDARD
END:VTIMEZONE
BEGIN:VEVENT
DTSTART;TZID=America/New_York:20200130T120000
DTEND;TZID=America/New_York:20200130T130000
DTSTAMP:20260423T160604
CREATED:20200113T181347Z
LAST-MODIFIED:20200127T035059Z
UID:10001043-1580385600-1580389200@www.med.unc.edu
SUMMARY:Medicine Grand Rounds - Spencer Dorn\, MD\, MPH\, MHA - "Internists Without Borders: Using Virtual Care to Reach Beyond the Clinic Walls"
DESCRIPTION:Spencer Dorn\, MD\, MPH\, MHA\nAs Vice Chair of Medicine\, Spencer Dorn works to develop care models that best support clinicians and meet patients’ needs. As Vice Chief of Gastroenterology & Hepatology\, he oversees the division’s clinical strategy and operations. He also serves as a UNC Lead Informatics Physician\, conducts clinical trials for functional GI disorders\, and examines the broad forces shaping gastroenterology practice.
URL:https://www.med.unc.edu/medicine/event/medicine-grand-rounds-spencer-dorn/
LOCATION:Room 4008 Old Clinic Auditorium\, Chapel Hill\, NC\, United States
CATEGORIES:Medicine Grand Rounds
ATTACH;FMTTYPE=image/jpeg:https://www.med.unc.edu/medicine/wp-content/uploads/sites/945/2020/01/dornspence1-1-scaled.jpg
END:VEVENT
END:VCALENDAR