BEGIN:VCALENDAR
VERSION:2.0
PRODID:-//Department of Medicine - ECPv6.15.18//NONSGML v1.0//EN
CALSCALE:GREGORIAN
METHOD:PUBLISH
X-ORIGINAL-URL:https://www.med.unc.edu/medicine
X-WR-CALDESC:Events for Department of Medicine
REFRESH-INTERVAL;VALUE=DURATION:PT1H
X-Robots-Tag:noindex
X-PUBLISHED-TTL:PT1H
BEGIN:VTIMEZONE
TZID:America/New_York
BEGIN:DAYLIGHT
TZOFFSETFROM:-0500
TZOFFSETTO:-0400
TZNAME:EDT
DTSTART:20190310T070000
END:DAYLIGHT
BEGIN:STANDARD
TZOFFSETFROM:-0400
TZOFFSETTO:-0500
TZNAME:EST
DTSTART:20191103T060000
END:STANDARD
BEGIN:DAYLIGHT
TZOFFSETFROM:-0500
TZOFFSETTO:-0400
TZNAME:EDT
DTSTART:20200308T070000
END:DAYLIGHT
BEGIN:STANDARD
TZOFFSETFROM:-0400
TZOFFSETTO:-0500
TZNAME:EST
DTSTART:20201101T060000
END:STANDARD
BEGIN:DAYLIGHT
TZOFFSETFROM:-0500
TZOFFSETTO:-0400
TZNAME:EDT
DTSTART:20210314T070000
END:DAYLIGHT
BEGIN:STANDARD
TZOFFSETFROM:-0400
TZOFFSETTO:-0500
TZNAME:EST
DTSTART:20211107T060000
END:STANDARD
END:VTIMEZONE
BEGIN:VEVENT
DTSTART;TZID=America/New_York:20200316T120000
DTEND;TZID=America/New_York:20200316T130000
DTSTAMP:20260422T073005
CREATED:20200305T153334Z
LAST-MODIFIED:20200316T174743Z
UID:10001221-1584360000-1584363600@www.med.unc.edu
SUMMARY:Canceled - Cardiovascular Grand Rounds: Lindsey Rosman\, PhD - “Using Big Data and Digital Health Tech to Improve Risk Factors\, Care Delivery and Outcomes of Patients with Arrhythmias and Implanted Cardiac Devices”
DESCRIPTION:Lunch provided. \nView event flyer.
URL:https://www.med.unc.edu/medicine/event/cardiovascular-grand-rounds-lindsey-rosman/
LOCATION:G100 Bondurant Hall
CATEGORIES:Cardiology
ORGANIZER;CN="Barbara Reid-Mills":MAILTO:barbara_reid-mills@med.unc.edu
END:VEVENT
BEGIN:VEVENT
DTSTART;TZID=America/New_York:20200319T120000
DTEND;TZID=America/New_York:20200319T130000
DTSTAMP:20260422T073005
CREATED:20200302T162429Z
LAST-MODIFIED:20200316T154838Z
UID:10001219-1584619200-1584622800@www.med.unc.edu
SUMMARY:Medicine Grand Rounds - PRESENTATION HAS BEEN CANCELLED FOR MARCH 19\, 2020
DESCRIPTION:The Medicine Grand Rounds virtual presentation has been cancelled for Thursday\, March 19\, 2020.
URL:https://www.med.unc.edu/medicine/event/medicine-grand-rounds-alan-jacobs-memorial-lecture-raj-panjabi-md-harvard-university-no-patient-out-of-reach-extending-healthcare-to-the-places-that-need-it-the-most/
LOCATION:Room 4008 Old Clinic Auditorium\, Chapel Hill\, NC\, United States
CATEGORIES:Medicine Grand Rounds
END:VEVENT
END:VCALENDAR