BEGIN:VCALENDAR
VERSION:2.0
PRODID:-//Department of Medicine - ECPv6.15.18//NONSGML v1.0//EN
CALSCALE:GREGORIAN
METHOD:PUBLISH
X-ORIGINAL-URL:https://www.med.unc.edu/medicine
X-WR-CALDESC:Events for Department of Medicine
REFRESH-INTERVAL;VALUE=DURATION:PT1H
X-Robots-Tag:noindex
X-PUBLISHED-TTL:PT1H
BEGIN:VTIMEZONE
TZID:America/New_York
BEGIN:DAYLIGHT
TZOFFSETFROM:-0500
TZOFFSETTO:-0400
TZNAME:EDT
DTSTART:20190310T070000
END:DAYLIGHT
BEGIN:STANDARD
TZOFFSETFROM:-0400
TZOFFSETTO:-0500
TZNAME:EST
DTSTART:20191103T060000
END:STANDARD
BEGIN:DAYLIGHT
TZOFFSETFROM:-0500
TZOFFSETTO:-0400
TZNAME:EDT
DTSTART:20200308T070000
END:DAYLIGHT
BEGIN:STANDARD
TZOFFSETFROM:-0400
TZOFFSETTO:-0500
TZNAME:EST
DTSTART:20201101T060000
END:STANDARD
BEGIN:DAYLIGHT
TZOFFSETFROM:-0500
TZOFFSETTO:-0400
TZNAME:EDT
DTSTART:20210314T070000
END:DAYLIGHT
BEGIN:STANDARD
TZOFFSETFROM:-0400
TZOFFSETTO:-0500
TZNAME:EST
DTSTART:20211107T060000
END:STANDARD
END:VTIMEZONE
BEGIN:VEVENT
DTSTART;TZID=America/New_York:20200604T120000
DTEND;TZID=America/New_York:20200604T130000
DTSTAMP:20260421T020516
CREATED:20200506T204550Z
LAST-MODIFIED:20200602T134313Z
UID:10001231-1591272000-1591275600@www.med.unc.edu
SUMMARY:Virtual Medicine Grand Rounds - Matthew Cavender\, MD\, & Amy Mottl\, MD\,  - "SGLT2i as Cardiorenal Protection"
DESCRIPTION:  \nDr. Cavender is an active interventional cardiologist with a focus on catheter based interventions for coronary artery disease\, aortic and mitral valve disease\, peripheral vascular disease\, and cardiogenic shock. In addition to his clinical interests\, he has an active research program with an emphasis on improving the quality of health care delivery and understanding the clinical effectiveness of pharmacological and device based therapies for patients with coronary artery disease\, diabetes\, peripheral arterial disease\, and valvular heart disease. \n  \nDr. Mottl’s research has involved investigation of genetic and epidemiologic risk factors of chronic kidney disease\, with an emphasis on diabetic kidney disease. She is especially interested in pathogenic mechanisms of diabetic nephropathy and how these may vary between those with and without proteinuria. She is being funded through 2017\, by a career development award from the National Institute of Diabetes and Digestive and Kidney Diseases (NIDDK) to study whether there are different pathologic and clinical manifestations of diabetes on the kidney and how these relate to diabetic complications of the eye. Dr. Mottl is a renal consultant to the multicenter\, NIH and CDC funded study: ‘SEARCH for Diabetes in Youth’ which is an epidemiologic cohort of children with type 1 or 2 diabetes. One of the fundamental aims of this study is to track the incidence\, risk factors and natural history of microvascular complications of diabetes diagnosed during childhood. Dr. Mottl’s long-term goal is to elucidate pathogenic mechanisms in diabetic microvascular complications for the purpose of targeting novel therapies.
URL:https://www.med.unc.edu/medicine/event/virtual-medicine-grand-rounds-matthew-cavender-md-mph-facc-amy-mottl-md-mph-fasn-sglt2i-as-cardiorenal-protection/
LOCATION:Room 4008 Old Clinic Auditorium\, Chapel Hill\, NC\, United States
CATEGORIES:Medicine Grand Rounds
END:VEVENT
END:VCALENDAR