BEGIN:VCALENDAR
VERSION:2.0
PRODID:-//Department of Medicine - ECPv6.15.18//NONSGML v1.0//EN
CALSCALE:GREGORIAN
METHOD:PUBLISH
X-ORIGINAL-URL:https://www.med.unc.edu/medicine
X-WR-CALDESC:Events for Department of Medicine
REFRESH-INTERVAL;VALUE=DURATION:PT1H
X-Robots-Tag:noindex
X-PUBLISHED-TTL:PT1H
BEGIN:VTIMEZONE
TZID:America/New_York
BEGIN:DAYLIGHT
TZOFFSETFROM:-0500
TZOFFSETTO:-0400
TZNAME:EDT
DTSTART:20190310T070000
END:DAYLIGHT
BEGIN:STANDARD
TZOFFSETFROM:-0400
TZOFFSETTO:-0500
TZNAME:EST
DTSTART:20191103T060000
END:STANDARD
BEGIN:DAYLIGHT
TZOFFSETFROM:-0500
TZOFFSETTO:-0400
TZNAME:EDT
DTSTART:20200308T070000
END:DAYLIGHT
BEGIN:STANDARD
TZOFFSETFROM:-0400
TZOFFSETTO:-0500
TZNAME:EST
DTSTART:20201101T060000
END:STANDARD
BEGIN:DAYLIGHT
TZOFFSETFROM:-0500
TZOFFSETTO:-0400
TZNAME:EDT
DTSTART:20210314T070000
END:DAYLIGHT
BEGIN:STANDARD
TZOFFSETFROM:-0400
TZOFFSETTO:-0500
TZNAME:EST
DTSTART:20211107T060000
END:STANDARD
END:VTIMEZONE
BEGIN:VEVENT
DTSTART;TZID=America/New_York:20200618T120000
DTEND;TZID=America/New_York:20200618T130000
DTSTAMP:20260419T203324
CREATED:20200612T130308Z
LAST-MODIFIED:20200612T152247Z
UID:10001233-1592481600-1592485200@www.med.unc.edu
SUMMARY:Virtual Medicine Grand Rounds - E. Nathan Thomas\, PhD - "COVID-19 and Making Culturally Relevant Decisions "
DESCRIPTION:E. Nathan Thomas\, PhD\nDr. Thomas is the Vice Dean for Diversity\, Equity\, and Inclusion (DEI) at the University of North Carolina\, School of Medicine. He has more than 25 years of experience in working with leaders in secondary and higher education\, and is especially skilled at developing and implementing diversity\, mentoring and leadership initiatives. Dr. Thomas has served as an executive DEI leader at the University of Missouri Kansas City (UMKC) School of Medicine\, the University of Kansas\, and at the University of South Florida Polytechnic. He is recognized for his Thomas Principles\, a mentoring model designed to increase college student progression and graduation rates. In 2018\, Dr. Thomas with Dr\, Arredondo received a $3.2 million grant to pipeline students from disadvantage communities to UMKC health science professional schools and he helped the UMKC School of Medicine achieve national recognition by receiving the Higher Education Excellence in Diversity (HEED) Award
URL:https://www.med.unc.edu/medicine/event/virtual-medicine-grand-rounds-e-nathan-thomas-phd-cultural-disparity-and-covid19/
LOCATION:Old Clinic Auditorium
CATEGORIES:Educational Conferences,Medicine Grand Rounds
END:VEVENT
END:VCALENDAR