BEGIN:VCALENDAR
VERSION:2.0
PRODID:-//Department of Medicine - ECPv6.15.18//NONSGML v1.0//EN
CALSCALE:GREGORIAN
METHOD:PUBLISH
X-ORIGINAL-URL:https://www.med.unc.edu/medicine
X-WR-CALDESC:Events for Department of Medicine
REFRESH-INTERVAL;VALUE=DURATION:PT1H
X-Robots-Tag:noindex
X-PUBLISHED-TTL:PT1H
BEGIN:VTIMEZONE
TZID:America/New_York
BEGIN:DAYLIGHT
TZOFFSETFROM:-0500
TZOFFSETTO:-0400
TZNAME:EDT
DTSTART:20200308T070000
END:DAYLIGHT
BEGIN:STANDARD
TZOFFSETFROM:-0400
TZOFFSETTO:-0500
TZNAME:EST
DTSTART:20201101T060000
END:STANDARD
BEGIN:DAYLIGHT
TZOFFSETFROM:-0500
TZOFFSETTO:-0400
TZNAME:EDT
DTSTART:20210314T070000
END:DAYLIGHT
BEGIN:STANDARD
TZOFFSETFROM:-0400
TZOFFSETTO:-0500
TZNAME:EST
DTSTART:20211107T060000
END:STANDARD
BEGIN:DAYLIGHT
TZOFFSETFROM:-0500
TZOFFSETTO:-0400
TZNAME:EDT
DTSTART:20220313T070000
END:DAYLIGHT
BEGIN:STANDARD
TZOFFSETFROM:-0400
TZOFFSETTO:-0500
TZNAME:EST
DTSTART:20221106T060000
END:STANDARD
END:VTIMEZONE
BEGIN:VEVENT
DTSTART;TZID=America/New_York:20211202T120000
DTEND;TZID=America/New_York:20211202T130000
DTSTAMP:20260424T124206
CREATED:20211129T175356Z
LAST-MODIFIED:20211129T175356Z
UID:10001420-1638446400-1638450000@www.med.unc.edu
SUMMARY:Medicine Grand Rounds\, Spencer Dorn\, MD\, MPH\, MHA: "Academic Medicine in a Personalized\, Distributed World."
DESCRIPTION:Spencer Dorn\, MD\, MPH\, MHA\n\nDr. Spencer Dorn arrived at UNC as a fellow in 2005\, joined faculty in 2009\, was appointed Vice Chief of Gastroenterology & Hepatology in 2012\, and Vice Chair of Medicine for Care Innovation in 2019. In his current role\, he focuses on enhancing existing care processes and models – while developing new ones – that support the department’s 600-plus physicians and advanced practice providers and that better meet the needs of the various patient populations they serve. \nDr. Dorn’s clinical practice focuses on functional GI and motility disorders\, for which he has served as an investigator on numerous clinical trials\, co-authored national practice guidelines\, and has been consistently named to the list of Best Doctors in America. He is an experienced physician administrator who previously led and managed one of the nation’s premier academic gastroenterology practices. He broadly understands the forces shaping healthcare\, serving on national gastroenterology practice committees\, and frequently presenting and publishing on healthcare delivery. \nDr. Dorn received his undergraduate degree from the University of Michigan\, his medical degree from the State University of New York at Brooklyn\, and his Masters of Public Health and Masters of Health Care Administration from the UNC School of Public Health. He trained in internal medicine at Brigham and Women’s Hospital and gastroenterology at UNC.
URL:https://www.med.unc.edu/medicine/event/medicine-grand-rounds-spencer-dorn-md-mph-mha-academic-medicine-in-a-personalized-distributed-world/
CATEGORIES:Educational Conferences,Medicine Grand Rounds,Residency
END:VEVENT
BEGIN:VEVENT
DTSTART;TZID=America/New_York:20210401T120000
DTEND;TZID=America/New_York:20210401T130000
DTSTAMP:20260424T124206
CREATED:20210329T124607Z
LAST-MODIFIED:20210329T171904Z
UID:10001391-1617278400-1617282000@www.med.unc.edu
SUMMARY:Virtual Medicine Grand Rounds - Scott Commins\, MD\, PhD presenting: "Beyond Red Meat: Tick Bites\, Delayed Anaphylaxis and Lessons That Will Impact Your Practice."
DESCRIPTION:Scott Commins\, MD\, PhD\n  \nDr. Scott Commins joined the faculty of The University of North Carolina at Chapel Hill in 2015 and is currently an Associate Professor of Medicine and Pediatrics. He is a member of the UNC Food Allergy Initiative and the Thurston Research Center. Dr. Commins maintains an active clinical practice and research program related to the alpha-gal mammalian meat allergy. \nDr. Commins received M.D. / Ph.D. (Biochemistry & Molecular Biology) from the Medical University of South Carolina (Charleston\, SC). Following a residency in Internal Medicine\, Scott completed a fellowship in Allergy and Clinical Immunology at The University of Virginia (Charlottesville\, VA). Dr. Commins is a member of the American Academy of Allergy\, Asthma\, and Immunology and was a recent member of the Congressionally-appointed Tick-Borne Disease Working Group where he was co-chair of the alpha-gal syndrome subcommittee.
URL:https://www.med.unc.edu/medicine/event/virtual-medicine-grand-rounds-scott-commins-md-phd-presenting-suddenly-meatless-how-tick-bites-and-reactions-to-red-meat-are-changing-the-paradigm-of-food-allergy/
LOCATION:WebEx
CATEGORIES:Educational Conferences,Medicine Grand Rounds,Residency
END:VEVENT
BEGIN:VEVENT
DTSTART;TZID=America/New_York:20210204T120000
DTEND;TZID=America/New_York:20210204T130000
DTSTAMP:20260424T124206
CREATED:20210129T205407Z
LAST-MODIFIED:20210201T155936Z
UID:10001371-1612440000-1612443600@www.med.unc.edu
SUMMARY:Virtual Medicine Grand Rounds\, Muneera R. Kapadia\, MD\, MME\, "Relationship-Centered Practice and Difficult Discussions."
DESCRIPTION:Muneera R. Kapadia\, MD\, MME\nMuneera Kapadia\, MD\, MME is an Associate Professor and specializes in colorectal surgery. She attended medical school at the University of Michigan. She completed general surgery residency at Northwestern University and colorectal fellowship at the University of Minnesota. She practiced at the University of Iowa for nearly ten years and during that time she earned a master’s degree in medical education and served as the Associate Program Director for the Surgery Residency Program. In addition to her clinical and educational roles\, she has a special interest in patient-related communication skills. She has been involved with communication skills education at the student\, resident and faculty level and has taught both nationally and internationally. Dr Kapadia joined the University of North Carolina in April 2020 and serves as Associate Vice Chair of Education for the Department of Surgery
URL:https://www.med.unc.edu/medicine/event/virtual-medicine-grand-rounds-muneera-r-kapadia-md-mme-patient-provider-communication/
LOCATION:WebEx
CATEGORIES:Educational Conferences,Medicine Grand Rounds,Residency
END:VEVENT
BEGIN:VEVENT
DTSTART;TZID=America/New_York:20210128T120000
DTEND;TZID=America/New_York:20210128T130000
DTSTAMP:20260424T124206
CREATED:20201229T171231Z
LAST-MODIFIED:20210125T150334Z
UID:10001368-1611835200-1611838800@www.med.unc.edu
SUMMARY:Virtual Medicine Grand Rounds - Special Presentation - Wesley Burks\, MD\, Dean\, UNC School of Medicine\, Cristen Page\, MD\, MPH\, Executive Dean\, UNC School Of Medicine
DESCRIPTION:Wesley Burks\, MD and Cristy Page\, MD\, MPH will be giving a UNC Health and UNC SOM update. WebEx information will be included in the invite email.
URL:https://www.med.unc.edu/medicine/event/virtual-medicine-grand-rounds-special-presentation-wesley-burks-md-dean-unc-school-of-medicine-cristen-page-md-mph-executive-dean-unc-school-of-medicine/
LOCATION:WebEx
CATEGORIES:Educational Conferences,Medicine Grand Rounds,Residency
END:VEVENT
BEGIN:VEVENT
DTSTART;TZID=America/New_York:20210121T120000
DTEND;TZID=America/New_York:20210121T130000
DTSTAMP:20260424T124206
CREATED:20201229T170908Z
LAST-MODIFIED:20210119T165247Z
UID:10001367-1611230400-1611234000@www.med.unc.edu
SUMMARY:Medicine Grand Rounds:  Sidney C. Smith\, Jr.\, MD\, MACC\, FAHA\, FACP\, "Treating Blood Cholesterol to Prevent Cardiovascular Events: Current Guidelines and New Directions”
DESCRIPTION:Sidney C. Smith\, Jr.\, MD
URL:https://www.med.unc.edu/medicine/event/medicine-grand-rounds-sidney-c-smith-jr-md-faha-fesc-facp-macc/
LOCATION:WebEx
CATEGORIES:Educational Conferences,Medicine Grand Rounds
END:VEVENT
BEGIN:VEVENT
DTSTART;TZID=America/New_York:20210114T120000
DTEND;TZID=America/New_York:20210114T130000
DTSTAMP:20260424T124206
CREATED:20201229T160512Z
LAST-MODIFIED:20201229T170942Z
UID:10001366-1610625600-1610629200@www.med.unc.edu
SUMMARY:Virtual Medicine Grand Rounds - David Scrase\, MD\, "Using Data to Direct Public Policy for COVID in NM.”
DESCRIPTION:David Scrase\, MD\nDavid R. Scrase\, MD was appointed as the Secretary Designate of the Human Services Department by Governor\, Michelle Lujan-Grisham\, soon after her election in November 2018. \nDr. Scrase is a Board Certified Internist and Geriatrician\, and at the time of his appointment was the Interim Division Chief for General Internal Medicine and the Chief of Geriatrics at UNM. His first love and understood calling is as a primary care physician\, and he has continuously cared for patients for over 30 years\, despite concurrent service in administrative roles. He continues to see patients while serving as Secretary of the Human Services Department. \nDr. Scrase has held a variety of administrative positions\, including nine years in medical education\, as well as numerous healthcare executive positions in Michigan and New Mexico. Since moving to New Mexico more than 20 years ago\, he has been active in many New Mexico public policy committees and community organizations\, including four years as Director and Treasurer of Equality New Mexico and as a member of the Board of Menaul School in Albuquerque. He served on Governor Richardson’s Insure New Mexico! Committee and Health Care for New Mexicans Committee\, on the national Ambulatory Quality Association setting quality metrics for professional practice\, and on the Executive Committee of the New Mexico Association of Commerce and Industry. He worked closely with the New Mexico Medicaid program for the three years prior to his appointment as Secretary\, working to enhance the treatment of Hepatitis C for Medicaid members and to improve quality and reduce hospital readmissions in all New Mexico nursing facilities.
URL:https://www.med.unc.edu/medicine/event/medicine-grand-rounds-david-scrase-md-using-data-to-direct-public-policy-for-covid-in-nm/
LOCATION:WebEx
CATEGORIES:Educational Conferences,Medicine Grand Rounds
ATTACH;FMTTYPE=image/jpeg:https://www.med.unc.edu/medicine/wp-content/uploads/sites/945/2020/12/DavidScrase-scaled.jpg
END:VEVENT
END:VCALENDAR