BEGIN:VCALENDAR
VERSION:2.0
PRODID:-//Department of Medicine - ECPv6.15.18//NONSGML v1.0//EN
CALSCALE:GREGORIAN
METHOD:PUBLISH
X-ORIGINAL-URL:https://www.med.unc.edu/medicine
X-WR-CALDESC:Events for Department of Medicine
REFRESH-INTERVAL;VALUE=DURATION:PT1H
X-Robots-Tag:noindex
X-PUBLISHED-TTL:PT1H
BEGIN:VTIMEZONE
TZID:America/New_York
BEGIN:DAYLIGHT
TZOFFSETFROM:-0500
TZOFFSETTO:-0400
TZNAME:EDT
DTSTART:20190310T070000
END:DAYLIGHT
BEGIN:STANDARD
TZOFFSETFROM:-0400
TZOFFSETTO:-0500
TZNAME:EST
DTSTART:20191103T060000
END:STANDARD
BEGIN:DAYLIGHT
TZOFFSETFROM:-0500
TZOFFSETTO:-0400
TZNAME:EDT
DTSTART:20200308T070000
END:DAYLIGHT
BEGIN:STANDARD
TZOFFSETFROM:-0400
TZOFFSETTO:-0500
TZNAME:EST
DTSTART:20201101T060000
END:STANDARD
BEGIN:DAYLIGHT
TZOFFSETFROM:-0500
TZOFFSETTO:-0400
TZNAME:EDT
DTSTART:20210314T070000
END:DAYLIGHT
BEGIN:STANDARD
TZOFFSETFROM:-0400
TZOFFSETTO:-0500
TZNAME:EST
DTSTART:20211107T060000
END:STANDARD
BEGIN:DAYLIGHT
TZOFFSETFROM:-0500
TZOFFSETTO:-0400
TZNAME:EDT
DTSTART:20220313T070000
END:DAYLIGHT
BEGIN:STANDARD
TZOFFSETFROM:-0400
TZOFFSETTO:-0500
TZNAME:EST
DTSTART:20221106T060000
END:STANDARD
END:VTIMEZONE
BEGIN:VEVENT
DTSTART;VALUE=DATE:20211015
DTEND;VALUE=DATE:20211016
DTSTAMP:20260420T022807
CREATED:20210729T215804Z
LAST-MODIFIED:20210730T184049Z
UID:10001110-1634256000-1634342399@www.med.unc.edu
SUMMARY:2021 20th Annual North Carolina Cardiovascular Update
DESCRIPTION:The 2021 North Carolina Cardiovascular Update is CME event that will provide a refresher on optimal treatment of various cardiovascular diseases. Also\, new technologies and drug therapies will be discussed. Challenging cases will be reviewed to put current treatment recommendations in perspective. Panel discussions will also be held and questions solicited from the audience. \nKeynote speaker:  \nClyde W. Yancy\, MD\, MSc\, MACC\, FAHA\, MACP\, FHFSA\nMagerstadt Professor\nVice Dean for Diversity & Inclusion\nChief of Cardiology\, Northwestern University\, Feinberg School of Medicine\nAssociate Director\, Bluhm Cardiovascular Institute Northwestern Memorial Hospital\nDeputy Editor\, JAMA Cardiology \n \n 
URL:https://www.med.unc.edu/medicine/event/2021-20th-annual-north-carolina-cardiovascular-update/
LOCATION:Carolina Club\, George Watts Hill Alumni Center\, 150 Stadium Drive\, Chapel Hill\, 27514\, United States
CATEGORIES:Cardiology,Educational Conferences
ORGANIZER;CN="Julie Galens":MAILTO:jules99@email.unc.edu
END:VEVENT
BEGIN:VEVENT
DTSTART;TZID=America/New_York:20201204T130000
DTEND;TZID=America/New_York:20201204T170000
DTSTAMP:20260420T022807
CREATED:20201022T193939Z
LAST-MODIFIED:20201027T142755Z
UID:10001074-1607086800-1607101200@www.med.unc.edu
SUMMARY:19th Annual North Carolina Cardiovascular Update
DESCRIPTION:This conference will be presented as a webinar. \nMountain Area AHEC and the UNC Division of Cardiology present the 19th Annual North Carolina Cardiovascular Update on December 4\, 2020. \nDownload conference agenda. \nRegister online at MAHEC \nConference Co-Directors\nGeorge A.(Rick) Stouffer\, MD\nErnest and Hazel Craige Distinguished Professor of Cardiovascular Medicine\nChief\, Division of Cardiology\nCo-Director\, McAllister Heart Institute \nMatthew Cavender\, MD\, MPH\, FACC\nAssistant Professor of Medicine\, Division of Cardiology\nCo-Director of Cardiology Clinical Trials \nCourse Description\nThe 2020 North Carolina Cardiovascular Update is a virtual CME event featuring a half day of lectures and discussions on optimal treatment of cardiovascular diseases\, including cutting-edge technologies and drug therapies\, as well as a look back on COVID’s impact on treatment and care. \nTarget Audience\nCardiologists\, cardiac surgeons\, internists\, family practice and primary care physicians\, ER physicians\, nurses\, NP’s\, PA’s\, and other health professionals involved in the treatment of\ncardiovascular disease. \nEducational Objectives\n\nIdentify and integrate various state-of-the-art treatments for cardiovascular disease\, including percutaneous and surgical therapies\, by primary care physicians and cardiologists\nReview state-of-the-art diagnostic techniques and imaging options for assessing patients with cardiovascular disease\nReview important clinical trials in cardiology that have been completed within the past year\, including but not limited to\, cholesterol-lowering drugs\, and apply information learned to your daily practice\nUpdate on the cardiovascular complications of COVID\n\nAccreditation Statement\nThis activity has been planned and implemented in accordance with the accreditation requirements and policies of the North Carolina Medical Society (NCMS) through the joint providership of Mountain Area Health Education Center and UNC Center for Heart & Vascular Care. The Mountain Area Health Education Center is accredited by the NCMS to\nprovide continuing medical education for physicians. \nDisclosure Statement: MAHEC adheres to the ACCME Standards regarding industry support to continuing medical education. Disclosure of faculty and commercial support relationships\, if any\, will be made known at the time of the activity \nCredit Designation Statement\nThe Mountain Area Health Education Center (MAHEC) designates this continuing education activity as meeting the criteria for .4 Continuing Education Units (CEUs)\, as established by the National Task force on the Continuing Education Unit. You must attend the entire activity or activities to receive CEUs. \n3.75 Nursing Contact Hours – Mountain Area Health Education Center (MAHEC) is an approved provider of nursing continuing professional development by the North Carolina Nurses Association \, an accredited approver by the American Nurses Credentialing Center’s Commission on Accreditation. \nRegistration\nAll registrants must register online at www.mahec.net/event/64459 or call the MAHEC Registration Team at 828-257-4475. \nCancellation Policy\nMAHEC has a pay-up-front policy for all CE programs. Registrations received without accompanying payment will not be processed and participants who have not paid the course fee will not be admitted into the program. \n\nCancellations must be made in writing (via fax\, email\, or mail)\nCancellations received more than two weeks prior to the event will receive 100% refund\nCancellations received between two weeks and two full business days prior to the first day of the event are refunded at 70% of the registration fee subject to a minimum $25 cancellation fee\nNo refunds or credits will be given for cancellations received less than two full business days prior to the event\nNo vouchers will be issued in lieu of a refund\nTransfers/substitute(s) are welcome (please notify us in advance of the program)
URL:https://www.med.unc.edu/medicine/event/19th-annual-north-carolina-cardiovascular-update/
LOCATION:WebEX
CATEGORIES:Cardiology,Educational Conferences
ORGANIZER;CN="Julie Galens":MAILTO:jules99@email.unc.edu
END:VEVENT
END:VCALENDAR