BEGIN:VCALENDAR
VERSION:2.0
PRODID:-//Department of Medicine - ECPv6.15.18//NONSGML v1.0//EN
CALSCALE:GREGORIAN
METHOD:PUBLISH
X-ORIGINAL-URL:https://www.med.unc.edu/medicine
X-WR-CALDESC:Events for Department of Medicine
REFRESH-INTERVAL;VALUE=DURATION:PT1H
X-Robots-Tag:noindex
X-PUBLISHED-TTL:PT1H
BEGIN:VTIMEZONE
TZID:America/New_York
BEGIN:DAYLIGHT
TZOFFSETFROM:-0500
TZOFFSETTO:-0400
TZNAME:EDT
DTSTART:20180311T070000
END:DAYLIGHT
BEGIN:STANDARD
TZOFFSETFROM:-0400
TZOFFSETTO:-0500
TZNAME:EST
DTSTART:20181104T060000
END:STANDARD
BEGIN:DAYLIGHT
TZOFFSETFROM:-0500
TZOFFSETTO:-0400
TZNAME:EDT
DTSTART:20190310T070000
END:DAYLIGHT
BEGIN:STANDARD
TZOFFSETFROM:-0400
TZOFFSETTO:-0500
TZNAME:EST
DTSTART:20191103T060000
END:STANDARD
BEGIN:DAYLIGHT
TZOFFSETFROM:-0500
TZOFFSETTO:-0400
TZNAME:EDT
DTSTART:20200308T070000
END:DAYLIGHT
BEGIN:STANDARD
TZOFFSETFROM:-0400
TZOFFSETTO:-0500
TZNAME:EST
DTSTART:20201101T060000
END:STANDARD
END:VTIMEZONE
BEGIN:VEVENT
DTSTART;TZID=America/New_York:20190430T074500
DTEND;TZID=America/New_York:20190430T083000
DTSTAMP:20260423T053257
CREATED:20190429T133337Z
LAST-MODIFIED:20190429T133513Z
UID:10001079-1556610300-1556613000@www.med.unc.edu
SUMMARY:Morning Report with Dr. Jonathan Sorah
DESCRIPTION:
URL:https://www.med.unc.edu/medicine/event/morning-report-with-dr-jonathan-sorah/
LOCATION:Macnider 133
CATEGORIES:Residency
END:VEVENT
BEGIN:VEVENT
DTSTART;TZID=America/New_York:20190429T074500
DTEND;TZID=America/New_York:20190429T083000
DTSTAMP:20260423T053257
CREATED:20190429T133020Z
LAST-MODIFIED:20190429T133020Z
UID:10001075-1556523900-1556526600@www.med.unc.edu
SUMMARY:Morning Report with Dr. Jared Nathanson
DESCRIPTION:
URL:https://www.med.unc.edu/medicine/event/morning-report-with-dr-jared-nathanson/
LOCATION:Macnider 133
CATEGORIES:Residency
END:VEVENT
BEGIN:VEVENT
DTSTART;TZID=America/New_York:20190426T074500
DTEND;TZID=America/New_York:20190426T203000
DTSTAMP:20260423T053257
CREATED:20190424T165608Z
LAST-MODIFIED:20190424T165608Z
UID:10001069-1556264700-1556310600@www.med.unc.edu
SUMMARY:Morning Report with Dr. Scott Rose
DESCRIPTION:
URL:https://www.med.unc.edu/medicine/event/morning-report-with-dr-scott-rose/
LOCATION:Macnider 133
CATEGORIES:Residency
END:VEVENT
BEGIN:VEVENT
DTSTART;TZID=America/New_York:20190424T074500
DTEND;TZID=America/New_York:20190424T083000
DTSTAMP:20260423T053257
CREATED:20190525T165436Z
LAST-MODIFIED:20190525T165436Z
UID:10001132-1556091900-1556094600@www.med.unc.edu
SUMMARY:Morning Report with Dr. Sarah Todd
DESCRIPTION:
URL:https://www.med.unc.edu/medicine/event/morning-report-with-dr-sarah-todd/
LOCATION:Macnider 133
CATEGORIES:Residency
END:VEVENT
BEGIN:VEVENT
DTSTART;TZID=America/New_York:20190419T074500
DTEND;TZID=America/New_York:20190419T083000
DTSTAMP:20260423T053257
CREATED:20190417T182009Z
LAST-MODIFIED:20190417T182009Z
UID:10001065-1555659900-1555662600@www.med.unc.edu
SUMMARY:Morning report CANCELLED
DESCRIPTION:
URL:https://www.med.unc.edu/medicine/event/morning-report-cancelled/
LOCATION:Macnider 133
CATEGORIES:Residency
END:VEVENT
BEGIN:VEVENT
DTSTART;TZID=America/New_York:20190416T074500
DTEND;TZID=America/New_York:20190416T083000
DTSTAMP:20260423T053257
CREATED:20190415T133127Z
LAST-MODIFIED:20190415T133127Z
UID:10001062-1555400700-1555403400@www.med.unc.edu
SUMMARY:Morning Report with Dr. Jess Guidici
DESCRIPTION:
URL:https://www.med.unc.edu/medicine/event/morning-report-with-dr-jess-guidici/
LOCATION:Macnider 133
CATEGORIES:Residency
END:VEVENT
BEGIN:VEVENT
DTSTART;TZID=America/New_York:20190412T074500
DTEND;TZID=America/New_York:20190412T083000
DTSTAMP:20260423T053257
CREATED:20190411T162013Z
LAST-MODIFIED:20190411T162124Z
UID:10001059-1555055100-1555057800@www.med.unc.edu
SUMMARY:Science Friday morning report with Dr. Simon Gray
DESCRIPTION:
URL:https://www.med.unc.edu/medicine/event/science-friday-morning-report-with-dr-simon-gray/
LOCATION:Macnider 133
CATEGORIES:Residency
END:VEVENT
END:VCALENDAR