BEGIN:VCALENDAR
VERSION:2.0
PRODID:-//UNC McAllister Heart Institute - ECPv6.15.18//NONSGML v1.0//EN
CALSCALE:GREGORIAN
METHOD:PUBLISH
X-ORIGINAL-URL:https://www.med.unc.edu/mhi
X-WR-CALDESC:Events for UNC McAllister Heart Institute
REFRESH-INTERVAL;VALUE=DURATION:PT1H
X-Robots-Tag:noindex
X-PUBLISHED-TTL:PT1H
BEGIN:VTIMEZONE
TZID:America/New_York
BEGIN:DAYLIGHT
TZOFFSETFROM:-0500
TZOFFSETTO:-0400
TZNAME:EDT
DTSTART:20180311T070000
END:DAYLIGHT
BEGIN:STANDARD
TZOFFSETFROM:-0400
TZOFFSETTO:-0500
TZNAME:EST
DTSTART:20181104T060000
END:STANDARD
BEGIN:DAYLIGHT
TZOFFSETFROM:-0500
TZOFFSETTO:-0400
TZNAME:EDT
DTSTART:20190310T070000
END:DAYLIGHT
BEGIN:STANDARD
TZOFFSETFROM:-0400
TZOFFSETTO:-0500
TZNAME:EST
DTSTART:20191103T060000
END:STANDARD
BEGIN:DAYLIGHT
TZOFFSETFROM:-0500
TZOFFSETTO:-0400
TZNAME:EDT
DTSTART:20200308T070000
END:DAYLIGHT
BEGIN:STANDARD
TZOFFSETFROM:-0400
TZOFFSETTO:-0500
TZNAME:EST
DTSTART:20201101T060000
END:STANDARD
END:VTIMEZONE
BEGIN:VEVENT
DTSTART;TZID=America/New_York:20191204T100000
DTEND;TZID=America/New_York:20191204T110000
DTSTAMP:20260420T203903
CREATED:20191112T123730Z
LAST-MODIFIED:20191112T123730Z
UID:10000197-1575453600-1575457200@www.med.unc.edu
SUMMARY:MHI Seminar Series:  Ying Zheng\, Ph.D.\, “Organ-Specific Microvascular Engineering for Tissue Regeneration and Disease Modeling”
DESCRIPTION:
URL:https://www.med.unc.edu/mhi/event/mhi-seminar-series-ying-zheng-ph-d-organ-specific-microvascular-engineering-for-tissue-regeneration-and-disease-modeling/
LOCATION:321 MacNider Hall\, 333 S Columbia St.\, Chapel Hill\, NC\, 27514\, United States
ORGANIZER;CN="Sherri Childs":MAILTO:sherrich@med.unc.edu
END:VEVENT
END:VCALENDAR