BEGIN:VCALENDAR
VERSION:2.0
PRODID:-//UNC McAllister Heart Institute - ECPv6.15.18//NONSGML v1.0//EN
CALSCALE:GREGORIAN
METHOD:PUBLISH
X-ORIGINAL-URL:https://www.med.unc.edu/mhi
X-WR-CALDESC:Events for UNC McAllister Heart Institute
REFRESH-INTERVAL;VALUE=DURATION:PT1H
X-Robots-Tag:noindex
X-PUBLISHED-TTL:PT1H
BEGIN:VTIMEZONE
TZID:America/New_York
BEGIN:DAYLIGHT
TZOFFSETFROM:-0500
TZOFFSETTO:-0400
TZNAME:EDT
DTSTART:20180311T070000
END:DAYLIGHT
BEGIN:STANDARD
TZOFFSETFROM:-0400
TZOFFSETTO:-0500
TZNAME:EST
DTSTART:20181104T060000
END:STANDARD
BEGIN:DAYLIGHT
TZOFFSETFROM:-0500
TZOFFSETTO:-0400
TZNAME:EDT
DTSTART:20190310T070000
END:DAYLIGHT
BEGIN:STANDARD
TZOFFSETFROM:-0400
TZOFFSETTO:-0500
TZNAME:EST
DTSTART:20191103T060000
END:STANDARD
BEGIN:DAYLIGHT
TZOFFSETFROM:-0500
TZOFFSETTO:-0400
TZNAME:EDT
DTSTART:20200308T070000
END:DAYLIGHT
BEGIN:STANDARD
TZOFFSETFROM:-0400
TZOFFSETTO:-0500
TZNAME:EST
DTSTART:20201101T060000
END:STANDARD
BEGIN:DAYLIGHT
TZOFFSETFROM:-0500
TZOFFSETTO:-0400
TZNAME:EDT
DTSTART:20210314T070000
END:DAYLIGHT
BEGIN:STANDARD
TZOFFSETFROM:-0400
TZOFFSETTO:-0500
TZNAME:EST
DTSTART:20211107T060000
END:STANDARD
BEGIN:DAYLIGHT
TZOFFSETFROM:-0500
TZOFFSETTO:-0400
TZNAME:EDT
DTSTART:20220313T070000
END:DAYLIGHT
BEGIN:STANDARD
TZOFFSETFROM:-0400
TZOFFSETTO:-0500
TZNAME:EST
DTSTART:20221106T060000
END:STANDARD
END:VTIMEZONE
BEGIN:VEVENT
DTSTART;TZID=America/New_York:20210210T080000
DTEND;TZID=America/New_York:20210210T090000
DTSTAMP:20260422T114232
CREATED:20210125T160358Z
LAST-MODIFIED:20210211T193922Z
UID:10000202-1612944000-1612947600@www.med.unc.edu
SUMMARY:MHI Virtual Seminar Series:  Jeroen Bakkers\, Ph.D.\, “Understanding Cardiac Development and Regeneration at the Single Cell Level”
DESCRIPTION:
URL:https://www.med.unc.edu/mhi/event/mhi-virtual-seminar-series-jeroen-bakkers-ph-d-understanding-zebrafish-heart-regeneration-at-a-single-cell-level/
ORGANIZER;CN="Sherri Childs":MAILTO:sherrich@med.unc.edu
END:VEVENT
BEGIN:VEVENT
DTSTART;TZID=America/New_York:20201209T100000
DTEND;TZID=America/New_York:20201209T110000
DTSTAMP:20260422T114232
CREATED:20201105T194049Z
LAST-MODIFIED:20201105T194132Z
UID:10000192-1607508000-1607511600@www.med.unc.edu
SUMMARY:MHI Virtual Seminar Series:  Luisa Iruela-Arispe\, Ph.D.\, “A unique population of intima resident macrophages safeguards vascular integrity”
DESCRIPTION:
URL:https://www.med.unc.edu/mhi/event/mhi-seminar-series-luisa-iruela-arispe-ph-d-a-unique-population-of-intima-resident-macrophages-safeguards-vascular-integrity/
ORGANIZER;CN="Sherri Childs":MAILTO:sherrich@med.unc.edu
END:VEVENT
BEGIN:VEVENT
DTSTART;TZID=America/New_York:20200219T100000
DTEND;TZID=America/New_York:20200219T110000
DTSTAMP:20260422T114232
CREATED:20200123T175254Z
LAST-MODIFIED:20200123T175254Z
UID:10000194-1582106400-1582110000@www.med.unc.edu
SUMMARY:MHI Seminar Series:  Kory Lavine\, M.D.\, Ph.D.\, “Leveraging Cell Diversity in Cardiovascular Disease”
DESCRIPTION:
URL:https://www.med.unc.edu/mhi/event/mhi-seminar-series-kory-lavine-m-d-ph-d-leveraging-cell-diversity-in-cardiovascular-disease/
LOCATION:321 MacNider Hall\, 333 S Columbia St.\, Chapel Hill\, NC\, 27514\, United States
ORGANIZER;CN="Sherri Childs":MAILTO:sherrich@med.unc.edu
END:VEVENT
BEGIN:VEVENT
DTSTART;TZID=America/New_York:20200205T100000
DTEND;TZID=America/New_York:20200205T110000
DTSTAMP:20260422T114232
CREATED:20200103T190555Z
LAST-MODIFIED:20200103T190555Z
UID:10000195-1580896800-1580900400@www.med.unc.edu
SUMMARY:MHI Seminar Series:  Asa Gustafsson\, Ph.D.\, “Mitochondrial Quality Control: The Difference Between Success and Failure”
DESCRIPTION:
URL:https://www.med.unc.edu/mhi/event/mhi-seminar-series-asa-gustafsson-ph-d-mitochondrial-quality-control-the-difference-between-success-and-failure/
LOCATION:321 MacNider Hall\, 333 S Columbia St.\, Chapel Hill\, NC\, 27514\, United States
ORGANIZER;CN="Sherri Childs":MAILTO:sherrich@med.unc.edu
END:VEVENT
BEGIN:VEVENT
DTSTART;TZID=America/New_York:20200115T100000
DTEND;TZID=America/New_York:20200115T110000
DTSTAMP:20260422T114232
CREATED:20191223T192625Z
LAST-MODIFIED:20191223T192625Z
UID:10000196-1579082400-1579086000@www.med.unc.edu
SUMMARY:MHI Seminar Series:  Jacqueline H. Cole\, Ph.D.\, “Osteovascular Structure and Function Following Ischemic Stroke”
DESCRIPTION:
URL:https://www.med.unc.edu/mhi/event/mhi-seminar-series-jacqueline-h-cole-ph-d-osteovascular-structure-and-function-following-ischemic-stroke/
LOCATION:321 MacNider Hall\, 333 S Columbia St.\, Chapel Hill\, NC\, 27514\, United States
ORGANIZER;CN="Sherri Childs":MAILTO:sherrich@med.unc.edu
END:VEVENT
BEGIN:VEVENT
DTSTART;TZID=America/New_York:20191204T100000
DTEND;TZID=America/New_York:20191204T110000
DTSTAMP:20260422T114232
CREATED:20191112T123730Z
LAST-MODIFIED:20191112T123730Z
UID:10000197-1575453600-1575457200@www.med.unc.edu
SUMMARY:MHI Seminar Series:  Ying Zheng\, Ph.D.\, “Organ-Specific Microvascular Engineering for Tissue Regeneration and Disease Modeling”
DESCRIPTION:
URL:https://www.med.unc.edu/mhi/event/mhi-seminar-series-ying-zheng-ph-d-organ-specific-microvascular-engineering-for-tissue-regeneration-and-disease-modeling/
LOCATION:321 MacNider Hall\, 333 S Columbia St.\, Chapel Hill\, NC\, 27514\, United States
ORGANIZER;CN="Sherri Childs":MAILTO:sherrich@med.unc.edu
END:VEVENT
BEGIN:VEVENT
DTSTART;TZID=America/New_York:20191120T100000
DTEND;TZID=America/New_York:20191120T110000
DTSTAMP:20260422T114232
CREATED:20191025T134252Z
LAST-MODIFIED:20191025T134252Z
UID:10000198-1574244000-1574247600@www.med.unc.edu
SUMMARY:MHI Seminar Series:  Joy Lincoln\, Ph.D.\, “Developing mechanistic-based therapies in the treatment of calcific aortic valve disease”
DESCRIPTION:
URL:https://www.med.unc.edu/mhi/event/mhi-seminar-series-joy-lincoln-ph-d-developing-mechanistic-based-therapies-in-the-treatment-of-calcific-aortic-valve-disease/
LOCATION:321 MacNider Hall\, 333 S Columbia St.\, Chapel Hill\, NC\, 27514\, United States
ORGANIZER;CN="Sherri Childs":MAILTO:sherrich@med.unc.edu
END:VEVENT
BEGIN:VEVENT
DTSTART;TZID=America/New_York:20191106T100000
DTEND;TZID=America/New_York:20191106T110000
DTSTAMP:20260422T114232
CREATED:20191024T174149Z
LAST-MODIFIED:20191024T174149Z
UID:10000199-1573034400-1573038000@www.med.unc.edu
SUMMARY:MHI Seminar Series:  David Kass\, M.D.\, “Leveraging Protein Kinase G to Treat Heart Disease”
DESCRIPTION:
URL:https://www.med.unc.edu/mhi/event/mhi-seminar-series-david-kass-m-d-leveraging-protein-kinase-g-to-treat-heart-disease/
LOCATION:321 MacNider Hall\, 333 S Columbia St.\, Chapel Hill\, NC\, 27514\, United States
ORGANIZER;CN="Sherri Childs":MAILTO:sherrich@med.unc.edu
END:VEVENT
BEGIN:VEVENT
DTSTART;TZID=America/New_York:20191030T100000
DTEND;TZID=America/New_York:20191030T110000
DTSTAMP:20260422T114232
CREATED:20191009T143022Z
LAST-MODIFIED:20191009T143022Z
UID:10000200-1572429600-1572433200@www.med.unc.edu
SUMMARY:MHI Seminar Series:  Brenda Ogle\, Ph.D.\, “Cardiac Tissue Engineering:  Bioprinting Strategies to Create Complex Cardiac Structures”
DESCRIPTION:
URL:https://www.med.unc.edu/mhi/event/mhi-seminar-series-brenda-ogle-ph-d-cardiac-tissue-engineering-bioprinting-strategies-to-create-complex-cardiac-structures/
ORGANIZER;CN="Sherri Childs":MAILTO:sherrich@med.unc.edu
END:VEVENT
BEGIN:VEVENT
DTSTART;TZID=America/New_York:20191016T100000
DTEND;TZID=America/New_York:20191016T110000
DTSTAMP:20260422T114232
CREATED:20191001T204619Z
LAST-MODIFIED:20191001T204619Z
UID:10000183-1571220000-1571223600@www.med.unc.edu
SUMMARY:MHI Seminar Series:  Timothy A. McKinsey\, Ph.D.\, “Epigenetic Therapies for Heart Failure”
DESCRIPTION:
URL:https://www.med.unc.edu/mhi/event/mhi-seminar-series-timothy-a-mckinsey-ph-d-epigenetic-therapies-for-heart-failure/
LOCATION:321 MacNider Hall\, 333 S Columbia St.\, Chapel Hill\, NC\, 27514\, United States
ORGANIZER;CN="Sherri Childs":MAILTO:sherrich@med.unc.edu
END:VEVENT
BEGIN:VEVENT
DTSTART;TZID=America/New_York:20191003T110000
DTEND;TZID=America/New_York:20191003T120000
DTSTAMP:20260422T114232
CREATED:20190918T154852Z
LAST-MODIFIED:20190918T154852Z
UID:10000184-1570100400-1570104000@www.med.unc.edu
SUMMARY:MHI Seminar Series:  Didier Stainier\, Ph.D.\, Biological Robustness:  Genetic Compensation and Transcriptional Adaptation
DESCRIPTION:
URL:https://www.med.unc.edu/mhi/event/mhi-seminar-series-didier-stainier-ph-d-biological-robustness-genetic-compensation-and-transcriptional-adaptation/
LOCATION:Bondurant Hall\, Conference Room #G-100\, 321 South Columbia St.\, Chapel Hill\, NC\, 27514\, United States
ORGANIZER;CN="Sherri Childs":MAILTO:sherrich@med.unc.edu
END:VEVENT
BEGIN:VEVENT
DTSTART;TZID=America/New_York:20190925T100000
DTEND;TZID=America/New_York:20190925T110000
DTSTAMP:20260422T114232
CREATED:20190725T154958Z
LAST-MODIFIED:20190802T173903Z
UID:10000185-1569405600-1569409200@www.med.unc.edu
SUMMARY:MHI Seminar Series:  Yuqing E. Chen\, Ph.D.\, M.D.\, Advancing Lipid Gene Discoveries to Innovative Targets for Cardiovascular Disease
DESCRIPTION:
URL:https://www.med.unc.edu/mhi/event/mhi-seminar-series-yuqing-e-chen-ph-d-m-d-advancing-lipid-gene-discoveries-to-innovative-targets-for-cardiovascular-disease/
LOCATION:321 MacNider Hall\, 333 S Columbia St.\, Chapel Hill\, NC\, 27514\, United States
ORGANIZER;CN="Sherri Childs":MAILTO:sherrich@med.unc.edu
END:VEVENT
BEGIN:VEVENT
DTSTART;TZID=America/New_York:20190911T100000
DTEND;TZID=America/New_York:20190911T110000
DTSTAMP:20260422T114232
CREATED:20190725T154413Z
LAST-MODIFIED:20190802T173934Z
UID:10000186-1568196000-1568199600@www.med.unc.edu
SUMMARY:MHI Seminar Series:  Kathy K. Griendling\, PhD\, Poldip2\, Nox4 and Vascular Disease
DESCRIPTION:
URL:https://www.med.unc.edu/mhi/event/mhi-seminar-series-kathy-k-griendling-phd-poldip2-nox4-and-vascular-disease/
LOCATION:321 MacNider Hall\, 333 S Columbia St.\, Chapel Hill\, NC\, 27514\, United States
ORGANIZER;CN="Sherri Childs":MAILTO:sherrich@med.unc.edu
END:VEVENT
BEGIN:VEVENT
DTSTART;TZID=America/New_York:20190410T100000
DTEND;TZID=America/New_York:20190410T110000
DTSTAMP:20260422T114232
CREATED:20190404T171841Z
LAST-MODIFIED:20190404T171841Z
UID:10000187-1554890400-1554894000@www.med.unc.edu
SUMMARY:MHI Seminar Series: Mugé N. Kuyumcu-Martinez\, Rbfox2 regulated alternative splicing networks modulate Hippo signaling during cardiovascular development
DESCRIPTION:
URL:https://www.med.unc.edu/mhi/event/mhi-seminar-series-muge-n-kuyumcu-martinez-rbfox2-regulated-alternative-splicing-networks-modulate-hippo-signaling-during-cardiovascular-development/
LOCATION:321 MacNider Hall\, 333 S Columbia St.\, Chapel Hill\, NC\, 27514\, United States
ORGANIZER;CN="Sherri Childs":MAILTO:sherrich@med.unc.edu
END:VEVENT
END:VCALENDAR