BEGIN:VCALENDAR
VERSION:2.0
PRODID:-//UNC McAllister Heart Institute - ECPv6.15.18//NONSGML v1.0//EN
CALSCALE:GREGORIAN
METHOD:PUBLISH
X-ORIGINAL-URL:https://www.med.unc.edu/mhi
X-WR-CALDESC:Events for UNC McAllister Heart Institute
REFRESH-INTERVAL;VALUE=DURATION:PT1H
X-Robots-Tag:noindex
X-PUBLISHED-TTL:PT1H
BEGIN:VTIMEZONE
TZID:America/New_York
BEGIN:DAYLIGHT
TZOFFSETFROM:-0500
TZOFFSETTO:-0400
TZNAME:EDT
DTSTART:20180311T070000
END:DAYLIGHT
BEGIN:STANDARD
TZOFFSETFROM:-0400
TZOFFSETTO:-0500
TZNAME:EST
DTSTART:20181104T060000
END:STANDARD
BEGIN:DAYLIGHT
TZOFFSETFROM:-0500
TZOFFSETTO:-0400
TZNAME:EDT
DTSTART:20190310T070000
END:DAYLIGHT
BEGIN:STANDARD
TZOFFSETFROM:-0400
TZOFFSETTO:-0500
TZNAME:EST
DTSTART:20191103T060000
END:STANDARD
BEGIN:DAYLIGHT
TZOFFSETFROM:-0500
TZOFFSETTO:-0400
TZNAME:EDT
DTSTART:20200308T070000
END:DAYLIGHT
BEGIN:STANDARD
TZOFFSETFROM:-0400
TZOFFSETTO:-0500
TZNAME:EST
DTSTART:20201101T060000
END:STANDARD
END:VTIMEZONE
BEGIN:VEVENT
DTSTART;TZID=America/New_York:20191003T110000
DTEND;TZID=America/New_York:20191003T120000
DTSTAMP:20260425T221026
CREATED:20190918T154852Z
LAST-MODIFIED:20190918T154852Z
UID:10000184-1570100400-1570104000@www.med.unc.edu
SUMMARY:MHI Seminar Series:  Didier Stainier\, Ph.D.\, Biological Robustness:  Genetic Compensation and Transcriptional Adaptation
DESCRIPTION:
URL:https://www.med.unc.edu/mhi/event/mhi-seminar-series-didier-stainier-ph-d-biological-robustness-genetic-compensation-and-transcriptional-adaptation/
LOCATION:Bondurant Hall\, Conference Room #G-100\, 321 South Columbia St.\, Chapel Hill\, NC\, 27514\, United States
ORGANIZER;CN="Sherri Childs":MAILTO:sherrich@med.unc.edu
END:VEVENT
BEGIN:VEVENT
DTSTART;TZID=America/New_York:20190925T100000
DTEND;TZID=America/New_York:20190925T110000
DTSTAMP:20260425T221026
CREATED:20190725T154958Z
LAST-MODIFIED:20190802T173903Z
UID:10000185-1569405600-1569409200@www.med.unc.edu
SUMMARY:MHI Seminar Series:  Yuqing E. Chen\, Ph.D.\, M.D.\, Advancing Lipid Gene Discoveries to Innovative Targets for Cardiovascular Disease
DESCRIPTION:
URL:https://www.med.unc.edu/mhi/event/mhi-seminar-series-yuqing-e-chen-ph-d-m-d-advancing-lipid-gene-discoveries-to-innovative-targets-for-cardiovascular-disease/
LOCATION:321 MacNider Hall\, 333 S Columbia St.\, Chapel Hill\, NC\, 27514\, United States
ORGANIZER;CN="Sherri Childs":MAILTO:sherrich@med.unc.edu
END:VEVENT
BEGIN:VEVENT
DTSTART;TZID=America/New_York:20190911T100000
DTEND;TZID=America/New_York:20190911T110000
DTSTAMP:20260425T221026
CREATED:20190725T154413Z
LAST-MODIFIED:20190802T173934Z
UID:10000186-1568196000-1568199600@www.med.unc.edu
SUMMARY:MHI Seminar Series:  Kathy K. Griendling\, PhD\, Poldip2\, Nox4 and Vascular Disease
DESCRIPTION:
URL:https://www.med.unc.edu/mhi/event/mhi-seminar-series-kathy-k-griendling-phd-poldip2-nox4-and-vascular-disease/
LOCATION:321 MacNider Hall\, 333 S Columbia St.\, Chapel Hill\, NC\, 27514\, United States
ORGANIZER;CN="Sherri Childs":MAILTO:sherrich@med.unc.edu
END:VEVENT
BEGIN:VEVENT
DTSTART;TZID=America/New_York:20190410T100000
DTEND;TZID=America/New_York:20190410T110000
DTSTAMP:20260425T221026
CREATED:20190404T171841Z
LAST-MODIFIED:20190404T171841Z
UID:10000187-1554890400-1554894000@www.med.unc.edu
SUMMARY:MHI Seminar Series: Mugé N. Kuyumcu-Martinez\, Rbfox2 regulated alternative splicing networks modulate Hippo signaling during cardiovascular development
DESCRIPTION:
URL:https://www.med.unc.edu/mhi/event/mhi-seminar-series-muge-n-kuyumcu-martinez-rbfox2-regulated-alternative-splicing-networks-modulate-hippo-signaling-during-cardiovascular-development/
LOCATION:321 MacNider Hall\, 333 S Columbia St.\, Chapel Hill\, NC\, 27514\, United States
ORGANIZER;CN="Sherri Childs":MAILTO:sherrich@med.unc.edu
END:VEVENT
END:VCALENDAR