BEGIN:VCALENDAR
VERSION:2.0
PRODID:-//UNC McAllister Heart Institute - ECPv6.15.18//NONSGML v1.0//EN
CALSCALE:GREGORIAN
METHOD:PUBLISH
X-ORIGINAL-URL:https://www.med.unc.edu/mhi
X-WR-CALDESC:Events for UNC McAllister Heart Institute
REFRESH-INTERVAL;VALUE=DURATION:PT1H
X-Robots-Tag:noindex
X-PUBLISHED-TTL:PT1H
BEGIN:VTIMEZONE
TZID:America/New_York
BEGIN:DAYLIGHT
TZOFFSETFROM:-0500
TZOFFSETTO:-0400
TZNAME:EDT
DTSTART:20240310T070000
END:DAYLIGHT
BEGIN:STANDARD
TZOFFSETFROM:-0400
TZOFFSETTO:-0500
TZNAME:EST
DTSTART:20241103T060000
END:STANDARD
BEGIN:DAYLIGHT
TZOFFSETFROM:-0500
TZOFFSETTO:-0400
TZNAME:EDT
DTSTART:20250309T070000
END:DAYLIGHT
BEGIN:STANDARD
TZOFFSETFROM:-0400
TZOFFSETTO:-0500
TZNAME:EST
DTSTART:20251102T060000
END:STANDARD
BEGIN:DAYLIGHT
TZOFFSETFROM:-0500
TZOFFSETTO:-0400
TZNAME:EDT
DTSTART:20260308T070000
END:DAYLIGHT
BEGIN:STANDARD
TZOFFSETFROM:-0400
TZOFFSETTO:-0500
TZNAME:EST
DTSTART:20261101T060000
END:STANDARD
END:VTIMEZONE
BEGIN:VEVENT
DTSTART;TZID=America/New_York:20251203T100000
DTEND;TZID=America/New_York:20251203T110000
DTSTAMP:20260424T165323
CREATED:20251114T010742Z
LAST-MODIFIED:20251114T010742Z
UID:10000252-1764756000-1764759600@www.med.unc.edu
SUMMARY:MHI Seminar Series:  Vasanth Vedantham\, M.D.\, Ph.D.\, Professor\, Medicine\, University of California\, San Francisco
DESCRIPTION:
URL:https://www.med.unc.edu/mhi/event/mhi-seminar-series-vasanth-vedantham-m-d-ph-d-professor-medicine-university-of-california-san-francisco/
LOCATION:Mary Ellen Jones\, Conference Room 3116\, 116 Manning Dr.\, Chapel Hill\, NC\, 27599\, United States
CATEGORIES:Seminar Series
ORGANIZER;CN="Sherri Childs":MAILTO:sherrich@med.unc.edu
END:VEVENT
BEGIN:VEVENT
DTSTART;TZID=America/New_York:20251119T100000
DTEND;TZID=America/New_York:20251119T110000
DTSTAMP:20260424T165323
CREATED:20251013T171410Z
LAST-MODIFIED:20251013T171410Z
UID:10000251-1763546400-1763550000@www.med.unc.edu
SUMMARY:MHI Seminar Series:  Jinhu Wang\, Ph.D.\, Assistant Professor\, Division of Cardiology\, Emory University School of Medicine\, Atlanta\, GA
DESCRIPTION:
URL:https://www.med.unc.edu/mhi/event/mhi-seminar-series-jinhu-wang-ph-d-assistant-professor-division-of-cardiology-emory-university-school-of-medicine-atlanta-ga/
LOCATION:Mary Ellen Jones\, Conference Room 3116\, 116 Manning Dr.\, Chapel Hill\, NC\, 27599\, United States
CATEGORIES:Seminar Series
ORGANIZER;CN="Sherri Childs":MAILTO:sherrich@med.unc.edu
END:VEVENT
END:VCALENDAR