BEGIN:VCALENDAR
VERSION:2.0
PRODID:-//Microbiology and Immunology - ECPv6.15.18//NONSGML v1.0//EN
CALSCALE:GREGORIAN
METHOD:PUBLISH
X-ORIGINAL-URL:https://www.med.unc.edu/microimm
X-WR-CALDESC:Events for Microbiology and Immunology
REFRESH-INTERVAL;VALUE=DURATION:PT1H
X-Robots-Tag:noindex
X-PUBLISHED-TTL:PT1H
BEGIN:VTIMEZONE
TZID:America/New_York
BEGIN:DAYLIGHT
TZOFFSETFROM:-0500
TZOFFSETTO:-0400
TZNAME:EDT
DTSTART:20240310T070000
END:DAYLIGHT
BEGIN:STANDARD
TZOFFSETFROM:-0400
TZOFFSETTO:-0500
TZNAME:EST
DTSTART:20241103T060000
END:STANDARD
BEGIN:DAYLIGHT
TZOFFSETFROM:-0500
TZOFFSETTO:-0400
TZNAME:EDT
DTSTART:20250309T070000
END:DAYLIGHT
BEGIN:STANDARD
TZOFFSETFROM:-0400
TZOFFSETTO:-0500
TZNAME:EST
DTSTART:20251102T060000
END:STANDARD
BEGIN:DAYLIGHT
TZOFFSETFROM:-0500
TZOFFSETTO:-0400
TZNAME:EDT
DTSTART:20260308T070000
END:DAYLIGHT
BEGIN:STANDARD
TZOFFSETFROM:-0400
TZOFFSETTO:-0500
TZNAME:EST
DTSTART:20261101T060000
END:STANDARD
END:VTIMEZONE
BEGIN:VEVENT
DTSTART;TZID=America/New_York:20250502T091500
DTEND;TZID=America/New_York:20250502T101500
DTSTAMP:20260419T195308
CREATED:20250113T183403Z
LAST-MODIFIED:20250113T183442Z
UID:10000077-1746177300-1746180900@www.med.unc.edu
SUMMARY:PAUSE Seminar
DESCRIPTION:Seminar Speaker Tessa Andermann from UNC-CH
URL:https://www.med.unc.edu/microimm/event/pause-seminar-5/
LOCATION:1131 Bioinformatics\, 1131 Bioinformatics Building\, 130 Mason Farm Rd\, Chapel Hill\, NC\, 27599\, United States
CATEGORIES:Seminars & Events
ORGANIZER;CN="Kathy James":MAILTO:kjames@med.unc.edu
END:VEVENT
BEGIN:VEVENT
DTSTART;TZID=America/New_York:20250516T130000
DTEND;TZID=America/New_York:20250516T170000
DTSTAMP:20260419T195308
CREATED:20240729T182941Z
LAST-MODIFIED:20240729T182941Z
UID:10000046-1747400400-1747414800@www.med.unc.edu
SUMMARY:New Student Research Symposium and White Coat Ceremony
DESCRIPTION:
URL:https://www.med.unc.edu/microimm/event/new-student-research-symposium-white-coat/
LOCATION:2204 MBRB
CATEGORIES:Seminars & Events
END:VEVENT
END:VCALENDAR