BEGIN:VCALENDAR
VERSION:2.0
PRODID:-//Department of Neurology - ECPv6.15.18//NONSGML v1.0//EN
CALSCALE:GREGORIAN
METHOD:PUBLISH
X-ORIGINAL-URL:https://www.med.unc.edu/neurology
X-WR-CALDESC:Events for Department of Neurology
REFRESH-INTERVAL;VALUE=DURATION:PT1H
X-Robots-Tag:noindex
X-PUBLISHED-TTL:PT1H
BEGIN:VTIMEZONE
TZID:America/New_York
BEGIN:DAYLIGHT
TZOFFSETFROM:-0500
TZOFFSETTO:-0400
TZNAME:EDT
DTSTART:20210314T070000
END:DAYLIGHT
BEGIN:STANDARD
TZOFFSETFROM:-0400
TZOFFSETTO:-0500
TZNAME:EST
DTSTART:20211107T060000
END:STANDARD
BEGIN:DAYLIGHT
TZOFFSETFROM:-0500
TZOFFSETTO:-0400
TZNAME:EDT
DTSTART:20220313T070000
END:DAYLIGHT
BEGIN:STANDARD
TZOFFSETFROM:-0400
TZOFFSETTO:-0500
TZNAME:EST
DTSTART:20221106T060000
END:STANDARD
BEGIN:DAYLIGHT
TZOFFSETFROM:-0500
TZOFFSETTO:-0400
TZNAME:EDT
DTSTART:20230312T070000
END:DAYLIGHT
BEGIN:STANDARD
TZOFFSETFROM:-0400
TZOFFSETTO:-0500
TZNAME:EST
DTSTART:20231105T060000
END:STANDARD
END:VTIMEZONE
BEGIN:VEVENT
DTSTART;TZID=America/New_York:20220331T120000
DTEND;TZID=America/New_York:20220331T130000
DTSTAMP:20260422T063307
CREATED:20220328T213818Z
LAST-MODIFIED:20220328T213818Z
UID:10000629-1648728000-1648731600@www.med.unc.edu
SUMMARY:Grand Rounds - How to Be an Expert Learner
DESCRIPTION:Christina Shenvi\, MD\, PhD\, MBA\nAssociate Professor of Emergency Medicine\nDirector of the UNC Office of Academic Excellence\nUNC Chapel Hill \n  \nOnline Webex Presentation\nSponsored by the School of Medicine of The University of North Carolina at Chapel Hill.
URL:https://www.med.unc.edu/neurology/event/grand-rounds-how-to-be-an-expert-learner/
LOCATION:NC
CATEGORIES:Events,Grand Rounds
END:VEVENT
END:VCALENDAR