BEGIN:VCALENDAR
VERSION:2.0
PRODID:-//Department of Neurology - ECPv6.15.18//NONSGML v1.0//EN
CALSCALE:GREGORIAN
METHOD:PUBLISH
X-ORIGINAL-URL:https://www.med.unc.edu/neurology
X-WR-CALDESC:Events for Department of Neurology
REFRESH-INTERVAL;VALUE=DURATION:PT1H
X-Robots-Tag:noindex
X-PUBLISHED-TTL:PT1H
BEGIN:VTIMEZONE
TZID:America/New_York
BEGIN:DAYLIGHT
TZOFFSETFROM:-0500
TZOFFSETTO:-0400
TZNAME:EDT
DTSTART:20240310T070000
END:DAYLIGHT
BEGIN:STANDARD
TZOFFSETFROM:-0400
TZOFFSETTO:-0500
TZNAME:EST
DTSTART:20241103T060000
END:STANDARD
BEGIN:DAYLIGHT
TZOFFSETFROM:-0500
TZOFFSETTO:-0400
TZNAME:EDT
DTSTART:20250309T070000
END:DAYLIGHT
BEGIN:STANDARD
TZOFFSETFROM:-0400
TZOFFSETTO:-0500
TZNAME:EST
DTSTART:20251102T060000
END:STANDARD
BEGIN:DAYLIGHT
TZOFFSETFROM:-0500
TZOFFSETTO:-0400
TZNAME:EDT
DTSTART:20260308T070000
END:DAYLIGHT
BEGIN:STANDARD
TZOFFSETFROM:-0400
TZOFFSETTO:-0500
TZNAME:EST
DTSTART:20261101T060000
END:STANDARD
END:VTIMEZONE
BEGIN:VEVENT
DTSTART;TZID=America/New_York:20250205T150000
DTEND;TZID=America/New_York:20250205T160000
DTSTAMP:20260420T011537
CREATED:20241113T165531Z
LAST-MODIFIED:20241113T165531Z
UID:10001058-1738767600-1738771200@www.med.unc.edu
SUMMARY:Project ECHO Session
DESCRIPTION:
URL:https://www.med.unc.edu/neurology/event/project-echo-session-2025/2025-02-05/
LOCATION:Virtual
CATEGORIES:Events
ATTACH;FMTTYPE=image/png:https://www.med.unc.edu/neurology/wp-content/uploads/sites/716/2020/08/SenyeneHunter_125x166.png
END:VEVENT
END:VCALENDAR