BEGIN:VCALENDAR
VERSION:2.0
PRODID:-//Department of Neurology - ECPv6.15.18//NONSGML v1.0//EN
CALSCALE:GREGORIAN
METHOD:PUBLISH
X-ORIGINAL-URL:https://www.med.unc.edu/neurology
X-WR-CALDESC:Events for Department of Neurology
REFRESH-INTERVAL;VALUE=DURATION:PT1H
X-Robots-Tag:noindex
X-PUBLISHED-TTL:PT1H
BEGIN:VTIMEZONE
TZID:America/New_York
BEGIN:DAYLIGHT
TZOFFSETFROM:-0500
TZOFFSETTO:-0400
TZNAME:EDT
DTSTART:20240310T070000
END:DAYLIGHT
BEGIN:STANDARD
TZOFFSETFROM:-0400
TZOFFSETTO:-0500
TZNAME:EST
DTSTART:20241103T060000
END:STANDARD
BEGIN:DAYLIGHT
TZOFFSETFROM:-0500
TZOFFSETTO:-0400
TZNAME:EDT
DTSTART:20250309T070000
END:DAYLIGHT
BEGIN:STANDARD
TZOFFSETFROM:-0400
TZOFFSETTO:-0500
TZNAME:EST
DTSTART:20251102T060000
END:STANDARD
BEGIN:DAYLIGHT
TZOFFSETFROM:-0500
TZOFFSETTO:-0400
TZNAME:EDT
DTSTART:20260308T070000
END:DAYLIGHT
BEGIN:STANDARD
TZOFFSETFROM:-0400
TZOFFSETTO:-0500
TZNAME:EST
DTSTART:20261101T060000
END:STANDARD
END:VTIMEZONE
BEGIN:VEVENT
DTSTART;TZID=America/New_York:20250227T120000
DTEND;TZID=America/New_York:20250227T130000
DTSTAMP:20260422T132300
CREATED:20250210T171147Z
LAST-MODIFIED:20250210T171148Z
UID:10000807-1740657600-1740661200@www.med.unc.edu
SUMMARY:Grand Rounds - Dr. Yael Shiloh-Malawsky
DESCRIPTION:UNC Neurology is pleased to support Dr. Yael Shiloh-Malawsky\, Associate Professor at UNC Neurology. \nDr. Shiloh-Malawsky received her Doctor of Medicine from Tel-Aviv University Sackler School of Medicine\, her Pediatric Neurology Residency at UNC-Chapel Hill\, Pediatric Residency from Sheba Medical Center\, fellowship in Clinical Neurophysiology/Epilepsy at UNC-Chapel Hill and Research Fellowship from Wellstone Muscular Dystrophy Cooperative Research Center. \nDr. Shiloh-Malawsky’s clinical interests include epilepsy\, neurogenetics and child neurology. Her research interests include clinical trails in epilepsy\, and neurogenetic disorders\, epilepsy genetics\, ​medical education\, practice quality improvement\, muscular dystrophy pathology. \n\nThe School of Medicine of The University of North Carolina at Chapel Hill is accredited by the Accreditation Council for Continuing Medical Education (ACCME) to provide continuing medical education for physicians.  The School of Medicine of the University of North Carolina at Chapel Hill designates this live activity for a maximum of 1.0 AMA PRA Category 1 Credit(s)™. Physicians should claim only those hours of credit actually spent in the educational activity. \nPlanner Disclosure\nThis activity is planned and implemented under the sole supervision of the above-named course director\, in association with the Office of Continuing Professional Development (UNC CPD).  The CPD staff\, course director and co-course director have no financial relationships with commercial interests as defined by the ACCME. \nSpeaker Disclosure\nThe speaker has no financial relationships with commercial interests. \nCME Credit\nGrand Rounds is streamed LIVE on WebEx. You can now receive CME credit for joining the session online\, please provide your FULL NAME when logging into WebEx or credit will not be granted.  CPD does not award partial credit for one hour sessions\, so participants must attend at least 50 minutes of the session to receive.
URL:https://www.med.unc.edu/neurology/event/grand-rounds-4-14/
LOCATION:Virtual
CATEGORIES:Grand Rounds
ATTACH;FMTTYPE=image/jpeg:https://www.med.unc.edu/neurology/wp-content/uploads/sites/716/2018/05/Shiloh-Malawsky.jpg
END:VEVENT
END:VCALENDAR