BEGIN:VCALENDAR
VERSION:2.0
PRODID:-//Department of Neurology - ECPv6.15.18//NONSGML v1.0//EN
CALSCALE:GREGORIAN
METHOD:PUBLISH
X-ORIGINAL-URL:https://www.med.unc.edu/neurology
X-WR-CALDESC:Events for Department of Neurology
REFRESH-INTERVAL;VALUE=DURATION:PT1H
X-Robots-Tag:noindex
X-PUBLISHED-TTL:PT1H
BEGIN:VTIMEZONE
TZID:America/New_York
BEGIN:DAYLIGHT
TZOFFSETFROM:-0500
TZOFFSETTO:-0400
TZNAME:EDT
DTSTART:20270314T070000
END:DAYLIGHT
BEGIN:STANDARD
TZOFFSETFROM:-0400
TZOFFSETTO:-0500
TZNAME:EST
DTSTART:20271107T060000
END:STANDARD
BEGIN:DAYLIGHT
TZOFFSETFROM:-0500
TZOFFSETTO:-0400
TZNAME:EDT
DTSTART:20280312T070000
END:DAYLIGHT
BEGIN:STANDARD
TZOFFSETFROM:-0400
TZOFFSETTO:-0500
TZNAME:EST
DTSTART:20281105T060000
END:STANDARD
BEGIN:DAYLIGHT
TZOFFSETFROM:-0500
TZOFFSETTO:-0400
TZNAME:EDT
DTSTART:20290311T070000
END:DAYLIGHT
BEGIN:STANDARD
TZOFFSETFROM:-0400
TZOFFSETTO:-0500
TZNAME:EST
DTSTART:20291104T060000
END:STANDARD
BEGIN:DAYLIGHT
TZOFFSETFROM:-0500
TZOFFSETTO:-0400
TZNAME:EDT
DTSTART:20300310T070000
END:DAYLIGHT
BEGIN:STANDARD
TZOFFSETFROM:-0400
TZOFFSETTO:-0500
TZNAME:EST
DTSTART:20301103T060000
END:STANDARD
END:VTIMEZONE
BEGIN:VEVENT
DTSTART;TZID=America/New_York:20280308T133000
DTEND;TZID=America/New_York:20280308T143000
DTSTAMP:20260419T085519
CREATED:20251106T204443Z
LAST-MODIFIED:20251106T204444Z
UID:10001638-1836135000-1836138600@www.med.unc.edu
SUMMARY:Stroke & Neuro ICU Case Conference
DESCRIPTION:Occurs every second Wednesday of the month from 1:30pm – 2:30pm. \nPlease reach out to the event coordinator for more information about this meeting. \nEvent Coordinator
URL:https://www.med.unc.edu/neurology/event/stroke-neuro-icu-case-conference-2-2/2028-03-08/
LOCATION:Virtual
ATTACH;FMTTYPE=image/jpeg:https://www.med.unc.edu/neurology/wp-content/uploads/sites/716/2024/11/AdobeStock_742523232-scaled.jpeg
END:VEVENT
BEGIN:VEVENT
DTSTART;TZID=America/New_York:20280405T133000
DTEND;TZID=America/New_York:20280405T143000
DTSTAMP:20260419T085519
CREATED:20251106T202847Z
LAST-MODIFIED:20251106T202847Z
UID:10001525-1838554200-1838557800@www.med.unc.edu
SUMMARY:NSICU Journal Club
DESCRIPTION:Occurs every first Wednesday of the month from 1:30pm – 2:30pm. \nPlease reach out to the event coordinator for more information about this meeting. \nEvent Coordinator
URL:https://www.med.unc.edu/neurology/event/nsicu-journal-club/2028-04-05/
LOCATION:Virtual
ATTACH;FMTTYPE=image/jpeg:https://www.med.unc.edu/neurology/wp-content/uploads/sites/716/2025/11/AdobeStock_214278648-scaled.jpeg
END:VEVENT
BEGIN:VEVENT
DTSTART;TZID=America/New_York:20280412T133000
DTEND;TZID=America/New_York:20280412T143000
DTSTAMP:20260419T085519
CREATED:20251106T204443Z
LAST-MODIFIED:20251106T204444Z
UID:10001639-1839159000-1839162600@www.med.unc.edu
SUMMARY:Stroke & Neuro ICU Case Conference
DESCRIPTION:Occurs every second Wednesday of the month from 1:30pm – 2:30pm. \nPlease reach out to the event coordinator for more information about this meeting. \nEvent Coordinator
URL:https://www.med.unc.edu/neurology/event/stroke-neuro-icu-case-conference-2-2/2028-04-12/
LOCATION:Virtual
ATTACH;FMTTYPE=image/jpeg:https://www.med.unc.edu/neurology/wp-content/uploads/sites/716/2024/11/AdobeStock_742523232-scaled.jpeg
END:VEVENT
BEGIN:VEVENT
DTSTART;TZID=America/New_York:20280503T133000
DTEND;TZID=America/New_York:20280503T143000
DTSTAMP:20260419T085519
CREATED:20251106T202847Z
LAST-MODIFIED:20251106T202847Z
UID:10001526-1840973400-1840977000@www.med.unc.edu
SUMMARY:NSICU Journal Club
DESCRIPTION:Occurs every first Wednesday of the month from 1:30pm – 2:30pm. \nPlease reach out to the event coordinator for more information about this meeting. \nEvent Coordinator
URL:https://www.med.unc.edu/neurology/event/nsicu-journal-club/2028-05-03/
LOCATION:Virtual
ATTACH;FMTTYPE=image/jpeg:https://www.med.unc.edu/neurology/wp-content/uploads/sites/716/2025/11/AdobeStock_214278648-scaled.jpeg
END:VEVENT
BEGIN:VEVENT
DTSTART;TZID=America/New_York:20280510T133000
DTEND;TZID=America/New_York:20280510T143000
DTSTAMP:20260419T085519
CREATED:20251106T204443Z
LAST-MODIFIED:20251106T204444Z
UID:10001640-1841578200-1841581800@www.med.unc.edu
SUMMARY:Stroke & Neuro ICU Case Conference
DESCRIPTION:Occurs every second Wednesday of the month from 1:30pm – 2:30pm. \nPlease reach out to the event coordinator for more information about this meeting. \nEvent Coordinator
URL:https://www.med.unc.edu/neurology/event/stroke-neuro-icu-case-conference-2-2/2028-05-10/
LOCATION:Virtual
ATTACH;FMTTYPE=image/jpeg:https://www.med.unc.edu/neurology/wp-content/uploads/sites/716/2024/11/AdobeStock_742523232-scaled.jpeg
END:VEVENT
BEGIN:VEVENT
DTSTART;TZID=America/New_York:20280607T133000
DTEND;TZID=America/New_York:20280607T143000
DTSTAMP:20260419T085519
CREATED:20251106T202847Z
LAST-MODIFIED:20251106T202847Z
UID:10001527-1843997400-1844001000@www.med.unc.edu
SUMMARY:NSICU Journal Club
DESCRIPTION:Occurs every first Wednesday of the month from 1:30pm – 2:30pm. \nPlease reach out to the event coordinator for more information about this meeting. \nEvent Coordinator
URL:https://www.med.unc.edu/neurology/event/nsicu-journal-club/2028-06-07/
LOCATION:Virtual
ATTACH;FMTTYPE=image/jpeg:https://www.med.unc.edu/neurology/wp-content/uploads/sites/716/2025/11/AdobeStock_214278648-scaled.jpeg
END:VEVENT
BEGIN:VEVENT
DTSTART;TZID=America/New_York:20280614T133000
DTEND;TZID=America/New_York:20280614T143000
DTSTAMP:20260419T085519
CREATED:20251106T204443Z
LAST-MODIFIED:20251106T204444Z
UID:10001641-1844602200-1844605800@www.med.unc.edu
SUMMARY:Stroke & Neuro ICU Case Conference
DESCRIPTION:Occurs every second Wednesday of the month from 1:30pm – 2:30pm. \nPlease reach out to the event coordinator for more information about this meeting. \nEvent Coordinator
URL:https://www.med.unc.edu/neurology/event/stroke-neuro-icu-case-conference-2-2/2028-06-14/
LOCATION:Virtual
ATTACH;FMTTYPE=image/jpeg:https://www.med.unc.edu/neurology/wp-content/uploads/sites/716/2024/11/AdobeStock_742523232-scaled.jpeg
END:VEVENT
BEGIN:VEVENT
DTSTART;TZID=America/New_York:20280705T133000
DTEND;TZID=America/New_York:20280705T143000
DTSTAMP:20260419T085519
CREATED:20251106T202847Z
LAST-MODIFIED:20251106T202847Z
UID:10001528-1846416600-1846420200@www.med.unc.edu
SUMMARY:NSICU Journal Club
DESCRIPTION:Occurs every first Wednesday of the month from 1:30pm – 2:30pm. \nPlease reach out to the event coordinator for more information about this meeting. \nEvent Coordinator
URL:https://www.med.unc.edu/neurology/event/nsicu-journal-club/2028-07-05/
LOCATION:Virtual
ATTACH;FMTTYPE=image/jpeg:https://www.med.unc.edu/neurology/wp-content/uploads/sites/716/2025/11/AdobeStock_214278648-scaled.jpeg
END:VEVENT
BEGIN:VEVENT
DTSTART;TZID=America/New_York:20280712T133000
DTEND;TZID=America/New_York:20280712T143000
DTSTAMP:20260419T085519
CREATED:20251106T204443Z
LAST-MODIFIED:20251106T204444Z
UID:10001642-1847021400-1847025000@www.med.unc.edu
SUMMARY:Stroke & Neuro ICU Case Conference
DESCRIPTION:Occurs every second Wednesday of the month from 1:30pm – 2:30pm. \nPlease reach out to the event coordinator for more information about this meeting. \nEvent Coordinator
URL:https://www.med.unc.edu/neurology/event/stroke-neuro-icu-case-conference-2-2/2028-07-12/
LOCATION:Virtual
ATTACH;FMTTYPE=image/jpeg:https://www.med.unc.edu/neurology/wp-content/uploads/sites/716/2024/11/AdobeStock_742523232-scaled.jpeg
END:VEVENT
BEGIN:VEVENT
DTSTART;TZID=America/New_York:20280802T133000
DTEND;TZID=America/New_York:20280802T143000
DTSTAMP:20260419T085519
CREATED:20251106T202847Z
LAST-MODIFIED:20251106T202847Z
UID:10001529-1848835800-1848839400@www.med.unc.edu
SUMMARY:NSICU Journal Club
DESCRIPTION:Occurs every first Wednesday of the month from 1:30pm – 2:30pm. \nPlease reach out to the event coordinator for more information about this meeting. \nEvent Coordinator
URL:https://www.med.unc.edu/neurology/event/nsicu-journal-club/2028-08-02/
LOCATION:Virtual
ATTACH;FMTTYPE=image/jpeg:https://www.med.unc.edu/neurology/wp-content/uploads/sites/716/2025/11/AdobeStock_214278648-scaled.jpeg
END:VEVENT
BEGIN:VEVENT
DTSTART;TZID=America/New_York:20280809T133000
DTEND;TZID=America/New_York:20280809T143000
DTSTAMP:20260419T085519
CREATED:20251106T204443Z
LAST-MODIFIED:20251106T204444Z
UID:10001643-1849440600-1849444200@www.med.unc.edu
SUMMARY:Stroke & Neuro ICU Case Conference
DESCRIPTION:Occurs every second Wednesday of the month from 1:30pm – 2:30pm. \nPlease reach out to the event coordinator for more information about this meeting. \nEvent Coordinator
URL:https://www.med.unc.edu/neurology/event/stroke-neuro-icu-case-conference-2-2/2028-08-09/
LOCATION:Virtual
ATTACH;FMTTYPE=image/jpeg:https://www.med.unc.edu/neurology/wp-content/uploads/sites/716/2024/11/AdobeStock_742523232-scaled.jpeg
END:VEVENT
BEGIN:VEVENT
DTSTART;TZID=America/New_York:20280906T133000
DTEND;TZID=America/New_York:20280906T143000
DTSTAMP:20260419T085519
CREATED:20251106T202847Z
LAST-MODIFIED:20251106T202847Z
UID:10001530-1851859800-1851863400@www.med.unc.edu
SUMMARY:NSICU Journal Club
DESCRIPTION:Occurs every first Wednesday of the month from 1:30pm – 2:30pm. \nPlease reach out to the event coordinator for more information about this meeting. \nEvent Coordinator
URL:https://www.med.unc.edu/neurology/event/nsicu-journal-club/2028-09-06/
LOCATION:Virtual
ATTACH;FMTTYPE=image/jpeg:https://www.med.unc.edu/neurology/wp-content/uploads/sites/716/2025/11/AdobeStock_214278648-scaled.jpeg
END:VEVENT
BEGIN:VEVENT
DTSTART;TZID=America/New_York:20280913T133000
DTEND;TZID=America/New_York:20280913T143000
DTSTAMP:20260419T085519
CREATED:20251106T204443Z
LAST-MODIFIED:20251106T204444Z
UID:10001644-1852464600-1852468200@www.med.unc.edu
SUMMARY:Stroke & Neuro ICU Case Conference
DESCRIPTION:Occurs every second Wednesday of the month from 1:30pm – 2:30pm. \nPlease reach out to the event coordinator for more information about this meeting. \nEvent Coordinator
URL:https://www.med.unc.edu/neurology/event/stroke-neuro-icu-case-conference-2-2/2028-09-13/
LOCATION:Virtual
ATTACH;FMTTYPE=image/jpeg:https://www.med.unc.edu/neurology/wp-content/uploads/sites/716/2024/11/AdobeStock_742523232-scaled.jpeg
END:VEVENT
BEGIN:VEVENT
DTSTART;TZID=America/New_York:20281004T133000
DTEND;TZID=America/New_York:20281004T143000
DTSTAMP:20260419T085519
CREATED:20251106T202847Z
LAST-MODIFIED:20251106T202847Z
UID:10001531-1854279000-1854282600@www.med.unc.edu
SUMMARY:NSICU Journal Club
DESCRIPTION:Occurs every first Wednesday of the month from 1:30pm – 2:30pm. \nPlease reach out to the event coordinator for more information about this meeting. \nEvent Coordinator
URL:https://www.med.unc.edu/neurology/event/nsicu-journal-club/2028-10-04/
LOCATION:Virtual
ATTACH;FMTTYPE=image/jpeg:https://www.med.unc.edu/neurology/wp-content/uploads/sites/716/2025/11/AdobeStock_214278648-scaled.jpeg
END:VEVENT
BEGIN:VEVENT
DTSTART;TZID=America/New_York:20281011T133000
DTEND;TZID=America/New_York:20281011T143000
DTSTAMP:20260419T085519
CREATED:20251106T204443Z
LAST-MODIFIED:20251106T204444Z
UID:10001645-1854883800-1854887400@www.med.unc.edu
SUMMARY:Stroke & Neuro ICU Case Conference
DESCRIPTION:Occurs every second Wednesday of the month from 1:30pm – 2:30pm. \nPlease reach out to the event coordinator for more information about this meeting. \nEvent Coordinator
URL:https://www.med.unc.edu/neurology/event/stroke-neuro-icu-case-conference-2-2/2028-10-11/
LOCATION:Virtual
ATTACH;FMTTYPE=image/jpeg:https://www.med.unc.edu/neurology/wp-content/uploads/sites/716/2024/11/AdobeStock_742523232-scaled.jpeg
END:VEVENT
BEGIN:VEVENT
DTSTART;TZID=America/New_York:20281101T133000
DTEND;TZID=America/New_York:20281101T143000
DTSTAMP:20260419T085519
CREATED:20251106T202847Z
LAST-MODIFIED:20251106T202847Z
UID:10001532-1856698200-1856701800@www.med.unc.edu
SUMMARY:NSICU Journal Club
DESCRIPTION:Occurs every first Wednesday of the month from 1:30pm – 2:30pm. \nPlease reach out to the event coordinator for more information about this meeting. \nEvent Coordinator
URL:https://www.med.unc.edu/neurology/event/nsicu-journal-club/2028-11-01/
LOCATION:Virtual
ATTACH;FMTTYPE=image/jpeg:https://www.med.unc.edu/neurology/wp-content/uploads/sites/716/2025/11/AdobeStock_214278648-scaled.jpeg
END:VEVENT
BEGIN:VEVENT
DTSTART;TZID=America/New_York:20281108T133000
DTEND;TZID=America/New_York:20281108T143000
DTSTAMP:20260419T085519
CREATED:20251106T204443Z
LAST-MODIFIED:20251106T204444Z
UID:10001646-1857303000-1857306600@www.med.unc.edu
SUMMARY:Stroke & Neuro ICU Case Conference
DESCRIPTION:Occurs every second Wednesday of the month from 1:30pm – 2:30pm. \nPlease reach out to the event coordinator for more information about this meeting. \nEvent Coordinator
URL:https://www.med.unc.edu/neurology/event/stroke-neuro-icu-case-conference-2-2/2028-11-08/
LOCATION:Virtual
ATTACH;FMTTYPE=image/jpeg:https://www.med.unc.edu/neurology/wp-content/uploads/sites/716/2024/11/AdobeStock_742523232-scaled.jpeg
END:VEVENT
BEGIN:VEVENT
DTSTART;TZID=America/New_York:20281206T133000
DTEND;TZID=America/New_York:20281206T143000
DTSTAMP:20260419T085519
CREATED:20251106T202847Z
LAST-MODIFIED:20251106T202847Z
UID:10001533-1859722200-1859725800@www.med.unc.edu
SUMMARY:NSICU Journal Club
DESCRIPTION:Occurs every first Wednesday of the month from 1:30pm – 2:30pm. \nPlease reach out to the event coordinator for more information about this meeting. \nEvent Coordinator
URL:https://www.med.unc.edu/neurology/event/nsicu-journal-club/2028-12-06/
LOCATION:Virtual
ATTACH;FMTTYPE=image/jpeg:https://www.med.unc.edu/neurology/wp-content/uploads/sites/716/2025/11/AdobeStock_214278648-scaled.jpeg
END:VEVENT
BEGIN:VEVENT
DTSTART;TZID=America/New_York:20281213T133000
DTEND;TZID=America/New_York:20281213T143000
DTSTAMP:20260419T085519
CREATED:20251106T204443Z
LAST-MODIFIED:20251106T204444Z
UID:10001647-1860327000-1860330600@www.med.unc.edu
SUMMARY:Stroke & Neuro ICU Case Conference
DESCRIPTION:Occurs every second Wednesday of the month from 1:30pm – 2:30pm. \nPlease reach out to the event coordinator for more information about this meeting. \nEvent Coordinator
URL:https://www.med.unc.edu/neurology/event/stroke-neuro-icu-case-conference-2-2/2028-12-13/
LOCATION:Virtual
ATTACH;FMTTYPE=image/jpeg:https://www.med.unc.edu/neurology/wp-content/uploads/sites/716/2024/11/AdobeStock_742523232-scaled.jpeg
END:VEVENT
BEGIN:VEVENT
DTSTART;TZID=America/New_York:20290103T133000
DTEND;TZID=America/New_York:20290103T143000
DTSTAMP:20260419T085519
CREATED:20251106T202847Z
LAST-MODIFIED:20251106T202847Z
UID:10001534-1862141400-1862145000@www.med.unc.edu
SUMMARY:NSICU Journal Club
DESCRIPTION:Occurs every first Wednesday of the month from 1:30pm – 2:30pm. \nPlease reach out to the event coordinator for more information about this meeting. \nEvent Coordinator
URL:https://www.med.unc.edu/neurology/event/nsicu-journal-club/2029-01-03/
LOCATION:Virtual
ATTACH;FMTTYPE=image/jpeg:https://www.med.unc.edu/neurology/wp-content/uploads/sites/716/2025/11/AdobeStock_214278648-scaled.jpeg
END:VEVENT
BEGIN:VEVENT
DTSTART;TZID=America/New_York:20290110T133000
DTEND;TZID=America/New_York:20290110T143000
DTSTAMP:20260419T085519
CREATED:20251106T204443Z
LAST-MODIFIED:20251106T204444Z
UID:10001648-1862746200-1862749800@www.med.unc.edu
SUMMARY:Stroke & Neuro ICU Case Conference
DESCRIPTION:Occurs every second Wednesday of the month from 1:30pm – 2:30pm. \nPlease reach out to the event coordinator for more information about this meeting. \nEvent Coordinator
URL:https://www.med.unc.edu/neurology/event/stroke-neuro-icu-case-conference-2-2/2029-01-10/
LOCATION:Virtual
ATTACH;FMTTYPE=image/jpeg:https://www.med.unc.edu/neurology/wp-content/uploads/sites/716/2024/11/AdobeStock_742523232-scaled.jpeg
END:VEVENT
BEGIN:VEVENT
DTSTART;TZID=America/New_York:20290207T133000
DTEND;TZID=America/New_York:20290207T143000
DTSTAMP:20260419T085519
CREATED:20251106T202847Z
LAST-MODIFIED:20251106T202847Z
UID:10001535-1865165400-1865169000@www.med.unc.edu
SUMMARY:NSICU Journal Club
DESCRIPTION:Occurs every first Wednesday of the month from 1:30pm – 2:30pm. \nPlease reach out to the event coordinator for more information about this meeting. \nEvent Coordinator
URL:https://www.med.unc.edu/neurology/event/nsicu-journal-club/2029-02-07/
LOCATION:Virtual
ATTACH;FMTTYPE=image/jpeg:https://www.med.unc.edu/neurology/wp-content/uploads/sites/716/2025/11/AdobeStock_214278648-scaled.jpeg
END:VEVENT
BEGIN:VEVENT
DTSTART;TZID=America/New_York:20290214T133000
DTEND;TZID=America/New_York:20290214T143000
DTSTAMP:20260419T085519
CREATED:20251106T204443Z
LAST-MODIFIED:20251106T204444Z
UID:10001649-1865770200-1865773800@www.med.unc.edu
SUMMARY:Stroke & Neuro ICU Case Conference
DESCRIPTION:Occurs every second Wednesday of the month from 1:30pm – 2:30pm. \nPlease reach out to the event coordinator for more information about this meeting. \nEvent Coordinator
URL:https://www.med.unc.edu/neurology/event/stroke-neuro-icu-case-conference-2-2/2029-02-14/
LOCATION:Virtual
ATTACH;FMTTYPE=image/jpeg:https://www.med.unc.edu/neurology/wp-content/uploads/sites/716/2024/11/AdobeStock_742523232-scaled.jpeg
END:VEVENT
BEGIN:VEVENT
DTSTART;TZID=America/New_York:20290307T133000
DTEND;TZID=America/New_York:20290307T143000
DTSTAMP:20260419T085519
CREATED:20251106T202847Z
LAST-MODIFIED:20251106T202847Z
UID:10001536-1867584600-1867588200@www.med.unc.edu
SUMMARY:NSICU Journal Club
DESCRIPTION:Occurs every first Wednesday of the month from 1:30pm – 2:30pm. \nPlease reach out to the event coordinator for more information about this meeting. \nEvent Coordinator
URL:https://www.med.unc.edu/neurology/event/nsicu-journal-club/2029-03-07/
LOCATION:Virtual
ATTACH;FMTTYPE=image/jpeg:https://www.med.unc.edu/neurology/wp-content/uploads/sites/716/2025/11/AdobeStock_214278648-scaled.jpeg
END:VEVENT
BEGIN:VEVENT
DTSTART;TZID=America/New_York:20290314T133000
DTEND;TZID=America/New_York:20290314T143000
DTSTAMP:20260419T085519
CREATED:20251106T204443Z
LAST-MODIFIED:20251106T204444Z
UID:10001650-1868189400-1868193000@www.med.unc.edu
SUMMARY:Stroke & Neuro ICU Case Conference
DESCRIPTION:Occurs every second Wednesday of the month from 1:30pm – 2:30pm. \nPlease reach out to the event coordinator for more information about this meeting. \nEvent Coordinator
URL:https://www.med.unc.edu/neurology/event/stroke-neuro-icu-case-conference-2-2/2029-03-14/
LOCATION:Virtual
ATTACH;FMTTYPE=image/jpeg:https://www.med.unc.edu/neurology/wp-content/uploads/sites/716/2024/11/AdobeStock_742523232-scaled.jpeg
END:VEVENT
BEGIN:VEVENT
DTSTART;TZID=America/New_York:20290404T133000
DTEND;TZID=America/New_York:20290404T143000
DTSTAMP:20260419T085519
CREATED:20251106T202847Z
LAST-MODIFIED:20251106T202847Z
UID:10001537-1870003800-1870007400@www.med.unc.edu
SUMMARY:NSICU Journal Club
DESCRIPTION:Occurs every first Wednesday of the month from 1:30pm – 2:30pm. \nPlease reach out to the event coordinator for more information about this meeting. \nEvent Coordinator
URL:https://www.med.unc.edu/neurology/event/nsicu-journal-club/2029-04-04/
LOCATION:Virtual
ATTACH;FMTTYPE=image/jpeg:https://www.med.unc.edu/neurology/wp-content/uploads/sites/716/2025/11/AdobeStock_214278648-scaled.jpeg
END:VEVENT
BEGIN:VEVENT
DTSTART;TZID=America/New_York:20290411T133000
DTEND;TZID=America/New_York:20290411T143000
DTSTAMP:20260419T085519
CREATED:20251106T204443Z
LAST-MODIFIED:20251106T204444Z
UID:10001651-1870608600-1870612200@www.med.unc.edu
SUMMARY:Stroke & Neuro ICU Case Conference
DESCRIPTION:Occurs every second Wednesday of the month from 1:30pm – 2:30pm. \nPlease reach out to the event coordinator for more information about this meeting. \nEvent Coordinator
URL:https://www.med.unc.edu/neurology/event/stroke-neuro-icu-case-conference-2-2/2029-04-11/
LOCATION:Virtual
ATTACH;FMTTYPE=image/jpeg:https://www.med.unc.edu/neurology/wp-content/uploads/sites/716/2024/11/AdobeStock_742523232-scaled.jpeg
END:VEVENT
BEGIN:VEVENT
DTSTART;TZID=America/New_York:20290502T133000
DTEND;TZID=America/New_York:20290502T143000
DTSTAMP:20260419T085519
CREATED:20251106T202847Z
LAST-MODIFIED:20251106T202847Z
UID:10001538-1872423000-1872426600@www.med.unc.edu
SUMMARY:NSICU Journal Club
DESCRIPTION:Occurs every first Wednesday of the month from 1:30pm – 2:30pm. \nPlease reach out to the event coordinator for more information about this meeting. \nEvent Coordinator
URL:https://www.med.unc.edu/neurology/event/nsicu-journal-club/2029-05-02/
LOCATION:Virtual
ATTACH;FMTTYPE=image/jpeg:https://www.med.unc.edu/neurology/wp-content/uploads/sites/716/2025/11/AdobeStock_214278648-scaled.jpeg
END:VEVENT
BEGIN:VEVENT
DTSTART;TZID=America/New_York:20290509T133000
DTEND;TZID=America/New_York:20290509T143000
DTSTAMP:20260419T085519
CREATED:20251106T204443Z
LAST-MODIFIED:20251106T204444Z
UID:10001652-1873027800-1873031400@www.med.unc.edu
SUMMARY:Stroke & Neuro ICU Case Conference
DESCRIPTION:Occurs every second Wednesday of the month from 1:30pm – 2:30pm. \nPlease reach out to the event coordinator for more information about this meeting. \nEvent Coordinator
URL:https://www.med.unc.edu/neurology/event/stroke-neuro-icu-case-conference-2-2/2029-05-09/
LOCATION:Virtual
ATTACH;FMTTYPE=image/jpeg:https://www.med.unc.edu/neurology/wp-content/uploads/sites/716/2024/11/AdobeStock_742523232-scaled.jpeg
END:VEVENT
BEGIN:VEVENT
DTSTART;TZID=America/New_York:20290606T133000
DTEND;TZID=America/New_York:20290606T143000
DTSTAMP:20260419T085519
CREATED:20251106T202847Z
LAST-MODIFIED:20251106T202847Z
UID:10001539-1875447000-1875450600@www.med.unc.edu
SUMMARY:NSICU Journal Club
DESCRIPTION:Occurs every first Wednesday of the month from 1:30pm – 2:30pm. \nPlease reach out to the event coordinator for more information about this meeting. \nEvent Coordinator
URL:https://www.med.unc.edu/neurology/event/nsicu-journal-club/2029-06-06/
LOCATION:Virtual
ATTACH;FMTTYPE=image/jpeg:https://www.med.unc.edu/neurology/wp-content/uploads/sites/716/2025/11/AdobeStock_214278648-scaled.jpeg
END:VEVENT
END:VCALENDAR