BEGIN:VCALENDAR
VERSION:2.0
PRODID:-//Department of Neurology - ECPv6.15.18//NONSGML v1.0//EN
CALSCALE:GREGORIAN
METHOD:PUBLISH
X-ORIGINAL-URL:https://www.med.unc.edu/neurology
X-WR-CALDESC:Events for Department of Neurology
REFRESH-INTERVAL;VALUE=DURATION:PT1H
X-Robots-Tag:noindex
X-PUBLISHED-TTL:PT1H
BEGIN:VTIMEZONE
TZID:America/New_York
BEGIN:DAYLIGHT
TZOFFSETFROM:-0500
TZOFFSETTO:-0400
TZNAME:EDT
DTSTART:20170312T070000
END:DAYLIGHT
BEGIN:STANDARD
TZOFFSETFROM:-0400
TZOFFSETTO:-0500
TZNAME:EST
DTSTART:20171105T060000
END:STANDARD
BEGIN:DAYLIGHT
TZOFFSETFROM:-0500
TZOFFSETTO:-0400
TZNAME:EDT
DTSTART:20180311T070000
END:DAYLIGHT
BEGIN:STANDARD
TZOFFSETFROM:-0400
TZOFFSETTO:-0500
TZNAME:EST
DTSTART:20181104T060000
END:STANDARD
BEGIN:DAYLIGHT
TZOFFSETFROM:-0500
TZOFFSETTO:-0400
TZNAME:EDT
DTSTART:20190310T070000
END:DAYLIGHT
BEGIN:STANDARD
TZOFFSETFROM:-0400
TZOFFSETTO:-0500
TZNAME:EST
DTSTART:20191103T060000
END:STANDARD
BEGIN:DAYLIGHT
TZOFFSETFROM:-0500
TZOFFSETTO:-0400
TZNAME:EDT
DTSTART:20200308T070000
END:DAYLIGHT
BEGIN:STANDARD
TZOFFSETFROM:-0400
TZOFFSETTO:-0500
TZNAME:EST
DTSTART:20201101T060000
END:STANDARD
END:VTIMEZONE
BEGIN:VEVENT
DTSTART;TZID=America/New_York:20191114T080000
DTEND;TZID=America/New_York:20191114T090000
DTSTAMP:20260424T192810
CREATED:20191114T200127Z
LAST-MODIFIED:20191114T200127Z
UID:10000515-1573718400-1573722000@www.med.unc.edu
SUMMARY:Grand Rounds - 2019 Update to AHA/ASA Guidelines for Acute Ischemic Stroke
DESCRIPTION:William J. Powers\, MD\nProfessor of Neurology\nUNC-Chapel Hill School of Medicine \nHighlights of the 2019 update to the 2018 AHA/ASA Guidelines for the early management of patients with acute ischemic stroke. \n  \nMacNider 321 Conference Room \nSponsored by the School of Medicine of The University of North Carolina at Chapel Hill.
URL:https://www.med.unc.edu/neurology/event/grand-rounds-2019-update-to-aha-asa-guidelines-for-acute-ischemic-stroke/
LOCATION:321 MacNider Conference Room
CATEGORIES:Events,Grand Rounds
END:VEVENT
BEGIN:VEVENT
DTSTART;TZID=America/New_York:20191107T080000
DTEND;TZID=America/New_York:20191107T090000
DTSTAMP:20260424T192810
CREATED:20191105T213303Z
LAST-MODIFIED:20191105T213303Z
UID:10000514-1573113600-1573117200@www.med.unc.edu
SUMMARY:Grand Rounds - From Quality Programs to Quality Improvement
DESCRIPTION:Emily Hoke\, MHA\, PTA\, IASSC-CBB\nUNC Health Care \n  \nMacNider 321 Conference Room \nSponsored by the School of Medicine of The University of North Carolina at Chapel Hill.
URL:https://www.med.unc.edu/neurology/event/grand-rounds-from-quality-programs-to-quality-improvement/
LOCATION:321 MacNider Conference Room
CATEGORIES:Events,Grand Rounds
END:VEVENT
BEGIN:VEVENT
DTSTART;TZID=America/New_York:20191003T080000
DTEND;TZID=America/New_York:20191003T090000
DTSTAMP:20260424T192810
CREATED:20191001T143514Z
LAST-MODIFIED:20191001T143514Z
UID:10000508-1570089600-1570093200@www.med.unc.edu
SUMMARY:Grand Rounds - Quality Improvement at UNC Neurology
DESCRIPTION:Casey Olm-Shipman\, MD\, MS\nAssistant Professor \n  \nMacNider 321 Conference Room \nSponsored by the School of Medicine of The University of North Carolina at Chapel Hill.
URL:https://www.med.unc.edu/neurology/event/grand-rounds-quality-improvement-at-unc-neurology/
LOCATION:321 MacNider Conference Room
CATEGORIES:Events,Grand Rounds
END:VEVENT
BEGIN:VEVENT
DTSTART;TZID=America/New_York:20190926T080000
DTEND;TZID=America/New_York:20190926T090000
DTSTAMP:20260424T192810
CREATED:20190926T142928Z
LAST-MODIFIED:20190926T142928Z
UID:10000507-1569484800-1569488400@www.med.unc.edu
SUMMARY:Grand Rounds - Angelman syndrome biomarkers and treatment opportunities
DESCRIPTION:Ben Philpot\, PhD\nKenan Distinguished Professor\nAssociate Director\, UNC Neuroscience Center \nMacNider 321 Conference Room \nSponsored by the School of Medicine of The University of North Carolina at Chapel Hill.
URL:https://www.med.unc.edu/neurology/event/grand-rounds-angelman-syndrome-biomarkers-and-treatment-opportunities/
LOCATION:321 MacNider Conference Room
CATEGORIES:Events,Grand Rounds
END:VEVENT
BEGIN:VEVENT
DTSTART;TZID=America/New_York:20190919T080000
DTEND;TZID=America/New_York:20190919T090000
DTSTAMP:20260424T192810
CREATED:20190917T181239Z
LAST-MODIFIED:20190917T181239Z
UID:10000506-1568880000-1568883600@www.med.unc.edu
SUMMARY:Grand Rounds - Brain Freeze: An Update on Targeted Temperature Management in Cardiac Arrest
DESCRIPTION:Winnie Lau\, MD\nAssistant Professor\, Department of Neurology\nNeurocritical Care Division\nUniversity of North Carolina at Chapel Hill \n\n\nMacNider 321 Conference Room\nThursday\, June 13\, 2019\, 8:00 AM \nSponsored by the School of Medicine of The University of North Carolina at Chapel Hill.
URL:https://www.med.unc.edu/neurology/event/grand-rounds-brain-freeze-an-update-on-targeted-temperature-management-in-cardiac-arrest/
LOCATION:321 MacNider Conference Room
CATEGORIES:Events,Grand Rounds
END:VEVENT
BEGIN:VEVENT
DTSTART;TZID=America/New_York:20190905T073000
DTEND;TZID=America/New_York:20190905T090000
DTSTAMP:20260424T192810
CREATED:20190829T184359Z
LAST-MODIFIED:20190829T184359Z
UID:10000504-1567668600-1567674000@www.med.unc.edu
SUMMARY:Grand Rounds - Identifying Current Challenges and Defining a Shared Vision for the Future
DESCRIPTION:Meet and greet the new Neurology Chair: \nGwenn Garden\, MD\, PhD \n \nMacNider 321 Conference Room\nThursday\, June 13\, 2019\, 7:30am – 9:00am \nSponsored by the School of Medicine of The University of North Carolina at Chapel Hill.
URL:https://www.med.unc.edu/neurology/event/grand-rounds-identifying-current-challenges-and-defining-a-shared-vision-for-the-future/
LOCATION:321 MacNider Conference Room
CATEGORIES:Events,Grand Rounds
ORGANIZER;CN="Aneika Carroll":MAILTO:aneika@email.unc.edu
END:VEVENT
BEGIN:VEVENT
DTSTART;TZID=America/New_York:20190516T080000
DTEND;TZID=America/New_York:20190516T090000
DTSTAMP:20260424T192810
CREATED:20190523T174144Z
LAST-MODIFIED:20190523T174144Z
UID:10000490-1557993600-1557997200@www.med.unc.edu
SUMMARY:Grand Rounds - Acute Management of Cerebral Venous Sinus Thrombosis
DESCRIPTION:Fausto Ordonez\, MD\nSenior Neurology Resident\nUNC-CH Department of Neurolgy \nMacNider 321 Conference Room\nThursday\, May 2\, 2019\, 8:00 AM \nSponsored by the School of Medicine of The University of North Carolina at Chapel Hill.
URL:https://www.med.unc.edu/neurology/event/grand-rounds-acute-management-of-cerebral-venous-sinus-thrombosis/
LOCATION:321 MacNider Conference Room
CATEGORIES:Events,Grand Rounds
END:VEVENT
BEGIN:VEVENT
DTSTART;TZID=America/New_York:20190502T080000
DTEND;TZID=America/New_York:20190502T090000
DTSTAMP:20260424T192810
CREATED:20190508T155024Z
LAST-MODIFIED:20190508T155104Z
UID:10000488-1556784000-1556787600@www.med.unc.edu
SUMMARY:Grand Rounds - The Reflex Hammer
DESCRIPTION:Luke Barr\, MD\nNeurology Resident\nUNC – CH Department of Neurology \n  \nMacNider 321 Conference Room\nThursday\, May 2\, 2019\, 8:00 AM \nSponsored by the School of Medicine of The University of North Carolina at Chapel Hill.
URL:https://www.med.unc.edu/neurology/event/grand-rounds-the-reflex-hammer/
LOCATION:321 MacNider Conference Room
CATEGORIES:Events,Grand Rounds
END:VEVENT
BEGIN:VEVENT
DTSTART;TZID=America/New_York:20190425T080000
DTEND;TZID=America/New_York:20190425T090000
DTSTAMP:20260424T192810
CREATED:20190424T192804Z
LAST-MODIFIED:20190424T192804Z
UID:10000486-1556179200-1556182800@www.med.unc.edu
SUMMARY:Grand Rounds - Novel Mechanisms of Endogenous Neurosteriod Action
DESCRIPTION:A. Leslie Morrow\, PhD\nJohn Andrews Distinguished Professor\nDepartments of Psychiatry and Pharmacology\nAssociate Director\, Bowles Center for Alcohol Studies \n  \nMacNider 321 Conference Room\nThursday\, April 25\, 2018\, 8:00 AM \nSponsored by the School of Medicine of The University of North Carolina at Chapel Hill.
URL:https://www.med.unc.edu/neurology/event/grand-rounds-novel-mechanisms-of-endogenous-neurosteriod-action/
LOCATION:321 MacNider Conference Room
CATEGORIES:Events,Grand Rounds
END:VEVENT
BEGIN:VEVENT
DTSTART;TZID=America/New_York:20190418T080000
DTEND;TZID=America/New_York:20190418T090000
DTSTAMP:20260424T192810
CREATED:20190415T201922Z
LAST-MODIFIED:20190415T201922Z
UID:10000411-1555574400-1555578000@www.med.unc.edu
SUMMARY:Grand Rounds - Neurological & Neurodevelopmental Conditions
DESCRIPTION:Diana M. Cejas\, MD\, MPH\nAssistant Professor of Neurology\nCarolina Institute for Developmental Disabilities\nUNC Chapel Hill \nMacNider 321 Conference Room\nThursday\, April 18\, 2019\, 8:00 AM \nSponsored by the School of Medicine of The University of North Carolina at Chapel Hill.
URL:https://www.med.unc.edu/neurology/event/grand-rounds-neurological-neurodevelopmental-conditions/
LOCATION:321 MacNider Conference Room
END:VEVENT
BEGIN:VEVENT
DTSTART;TZID=America/New_York:20190321T080000
DTEND;TZID=America/New_York:20190321T090000
DTSTAMP:20260424T192810
CREATED:20190320T204355Z
LAST-MODIFIED:20190320T204433Z
UID:10000407-1553155200-1553158800@www.med.unc.edu
SUMMARY:Grand Rounds - Clinico-pathological Conference
DESCRIPTION:Clinico-pathological Conference: 79 yo woman with progressive speech disturbances and parkinsonisms\nAmalia Peterson\, MD\nNeurology Resident\nUNC-CH Department of Neurology \nMacNider 321 Conference Room\nThursday\, March 14\, 2018\, 8:00 AM \nSponsored by the School of Medicine of The University of North Carolina at Chapel Hill.
URL:https://www.med.unc.edu/neurology/event/grand-rounds-clinico-pathological-conference/
LOCATION:321 MacNider Conference Room
CATEGORIES:Events,Grand Rounds
END:VEVENT
BEGIN:VEVENT
DTSTART;TZID=America/New_York:20190307T080000
DTEND;TZID=America/New_York:20190307T090000
DTSTAMP:20260424T192810
CREATED:20190307T143137Z
LAST-MODIFIED:20190307T143137Z
UID:10000399-1551945600-1551949200@www.med.unc.edu
SUMMARY:Grand Rounds - Tau and Neuronal Hyperexcitability in Alzheimer's Disease
DESCRIPTION:Erik D. Roberson\, MD\, PhD \nProfessor of Neurology and Neurobiology\nPatsy W. & Charles A. Collat Professor of Neuroscience\nUniversity of Alabama at Birmingham \n  \n\nMacNider 321 Conference Room\nThursday\, March 7\, 2018\, 8:00 AM \nSponsored by the School of Medicine of The University of North Carolina at Chapel Hill.
URL:https://www.med.unc.edu/neurology/event/grand-rounds-tau-and-neuronal-hyperexcitability-in-alzheimers-disease/
LOCATION:321 MacNider Conference Room
CATEGORIES:Events,Grand Rounds
END:VEVENT
BEGIN:VEVENT
DTSTART;TZID=America/New_York:20190117T080000
DTEND;TZID=America/New_York:20190117T090000
DTSTAMP:20260424T192810
CREATED:20190117T182238Z
LAST-MODIFIED:20190117T204142Z
UID:10000396-1547712000-1547715600@www.med.unc.edu
SUMMARY:Grand Rounds - Learning Environment at UNC
DESCRIPTION:Alice Chuang\, MD\, MEd\nProfessor of Obstetrics and Gynecology\nAssistant Dean of Student Affairs\nUNC Chapel Hill School of Medicine \n  \n321 MacNider Conference Room\nThursday\, November 15\, 2018\, 8:00 AM \nSponsored by the School of Medicine of The University of North Carolina at Chapel Hill.
URL:https://www.med.unc.edu/neurology/event/learning-environment-at-unc/
LOCATION:321 MacNider Conference Room
CATEGORIES:Events,Grand Rounds
END:VEVENT
BEGIN:VEVENT
DTSTART;TZID=America/New_York:20190110T080000
DTEND;TZID=America/New_York:20190110T090000
DTSTAMP:20260424T192810
CREATED:20190117T181439Z
LAST-MODIFIED:20190117T181640Z
UID:10000395-1547107200-1547110800@www.med.unc.edu
SUMMARY:Grand Rounds - The Art of Mentoring
DESCRIPTION:Nina Browner\, MD\nAssociate Professor of Neurology \nUNC Chapel Hill School of Medicine \n  \n321 MacNider Conference Room\nThursday\, January 10\, 2019\, 8:00 AM \nSponsored by the School of Medicine of The University of North Carolina at Chapel Hill.
URL:https://www.med.unc.edu/neurology/event/the-art-of-mentoring/
LOCATION:321 MacNider Conference Room
CATEGORIES:Events,Grand Rounds
END:VEVENT
BEGIN:VEVENT
DTSTART;TZID=America/New_York:20181115T080000
DTEND;TZID=America/New_York:20181115T090000
DTSTAMP:20260424T192810
CREATED:20181115T195103Z
LAST-MODIFIED:20181115T195527Z
UID:10000482-1542268800-1542272400@www.med.unc.edu
SUMMARY:Grand Rounds - CPC: Proximal Muscle Weakness
DESCRIPTION:Anahit Mehrabyan\, MD\nAssistant Professor of Neurology\nUNC-CH School of Medicine \n321 MacNider Conference Room\nThursday\, November 15\, 2018\, 8:00 AM \nSponsored by the School of Medicine of The University of North Carolina at Chapel Hill. \n  \n 
URL:https://www.med.unc.edu/neurology/event/grand-rounds-cpc-proximal-muscle-weakness/
LOCATION:321 MacNider Conference Room
CATEGORIES:Events,Grand Rounds
END:VEVENT
BEGIN:VEVENT
DTSTART;TZID=America/New_York:20181108T080000
DTEND;TZID=America/New_York:20181108T090000
DTSTAMP:20260424T192810
CREATED:20181107T215444Z
LAST-MODIFIED:20181107T215554Z
UID:10000481-1541664000-1541667600@www.med.unc.edu
SUMMARY:Grand Rounds - Mortality Reduction Initiative at UNC Health Care
DESCRIPTION:Dedrick Jordan\, MD\, PhD\nAssociate Professor of Neurology\nDivision Chief\, Neurocritical Care\nMedical Director\, Neuroscience Intensive Care Unit \n321 MacNider Conference Room\nThursday\, November 8\, 2018\, 8:00 AM \nSponsored by the School of Medicine of The University of North Carolina at Chapel Hill.
URL:https://www.med.unc.edu/neurology/event/grand-rounds-mortality-reduction-initiative-at-unc-health-care/
LOCATION:321 MacNider Conference Room
CATEGORIES:Events,Grand Rounds
END:VEVENT
BEGIN:VEVENT
DTSTART;TZID=America/New_York:20181101T080000
DTEND;TZID=America/New_York:20181101T090000
DTSTAMP:20260424T192810
CREATED:20181029T200852Z
LAST-MODIFIED:20181029T200852Z
UID:10000480-1541059200-1541062800@www.med.unc.edu
SUMMARY:Grand Rounds - The Controversy of Neurovascular Coupling in the Striatum
DESCRIPTION:Yen-Yu Ian Shih\, PhD\nAssociate Professor of Neurology and Biomedical Research Imaging Center\nUNC School of Medicine\, University of North Carolina at Chapel Hill \n  \n321 MacNider Conference Room\nThursday\, November 1\, 2018\, 8:00 AM \nSponsored by the School of Medicine of The University of North Carolina at Chapel Hill.
URL:https://www.med.unc.edu/neurology/event/grand-rounds-the-controversy-of-neurovascular-coupling-in-the-striatum/
LOCATION:321 MacNider Conference Room
CATEGORIES:Events,Grand Rounds
END:VEVENT
BEGIN:VEVENT
DTSTART;TZID=America/New_York:20181011T080000
DTEND;TZID=America/New_York:20181011T090000
DTSTAMP:20260424T192810
CREATED:20181010T151458Z
LAST-MODIFIED:20181010T151625Z
UID:10000477-1539244800-1539248400@www.med.unc.edu
SUMMARY:Grand Rounds - Exploring the Biological Mechanism of Chronic Migraine
DESCRIPTION:Rami Burstein\, MD\nJohn Hedley-Whyte Professor of Anaesthesia and Neuroscience\nHarvard Medical School\, Vice Chairman Neuroscience\nDepartment of Anaesthesia and Critical Care\nBeth Israel Deaconess Medical Center \n  \n321 MacNider Conference Room\nThursday\, October 11\, 2018\, 8:00 AM \nSponsored by the School of Medicine of The University of North Carolina at Chapel Hill.
URL:https://www.med.unc.edu/neurology/event/grand-rounds-exploring-the-biological-mechanism-of-chronic-migraine/
LOCATION:321 MacNider Conference Room
CATEGORIES:Events,Grand Rounds
END:VEVENT
BEGIN:VEVENT
DTSTART;TZID=America/New_York:20181004T080000
DTEND;TZID=America/New_York:20181004T090000
DTSTAMP:20260424T192810
CREATED:20181002T211253Z
LAST-MODIFIED:20181002T211253Z
UID:10000394-1538640000-1538643600@www.med.unc.edu
SUMMARY:Grand Rounds - Early Childhood Brain Development and Its Relationship to Cognition
DESCRIPTION:John H. Gilmore\, MD\nThad and Alice Eure Distinguished Professor\nVice Chair for Research and Scientific Affairs\nDepartment of Psychiatry\nUniversity of North Carolina at Chapel Hill \n  \n321 MacNider Conference Room\nThursday\, September 6\, 2018\, 8:00 AM \nSponsored by the School of Medicine of The University of North Carolina at Chapel Hill.
URL:https://www.med.unc.edu/neurology/event/grand-rounds-early-childhood-brain-development-and-its-relationship-to-cognition/
LOCATION:321 MacNider Conference Room
CATEGORIES:Events,Grand Rounds
END:VEVENT
BEGIN:VEVENT
DTSTART;TZID=America/New_York:20180927T080000
DTEND;TZID=America/New_York:20180927T090000
DTSTAMP:20260424T192810
CREATED:20180920T180235Z
LAST-MODIFIED:20181002T211420Z
UID:10000392-1538035200-1538038800@www.med.unc.edu
SUMMARY:Grand Rounds - Novel Therapies in Glioblastoma
DESCRIPTION:Novel Therapies in Glioblastoma: How to harness the immune system and how to deal with neurologic side effects\nAnnick Desjardins\, MD\, FRCPC\nAssociate Professor of Neurology and Neurosurgery\nDirector of Clinical Research\nThe Robert Preston Tisch Brain Tumor Center at Duke\nDuke University Medical Center \n  \n 
URL:https://www.med.unc.edu/neurology/event/novel-therapies-in-glioblastoma/
LOCATION:321 MacNider Conference Room
CATEGORIES:Events,Grand Rounds
END:VEVENT
BEGIN:VEVENT
DTSTART;TZID=America/New_York:20180920T080000
DTEND;TZID=America/New_York:20180920T090000
DTSTAMP:20260424T192810
CREATED:20180910T142535Z
LAST-MODIFIED:20181002T211625Z
UID:10000391-1537430400-1537434000@www.med.unc.edu
SUMMARY:Grand Rounds - Complement: A Strategy for Autoimmune Disease
DESCRIPTION:James F. Howard\, Jr\, MD\nDistinguished Professor of Neuromuscular Disease\nChief\, Neuromuscular Disorders Section\nDepartments of Neurology\, Medicine & Allied Health\nThe University of North Carolina at Chapel Hill \n321 MacNider Conference Room\nThursday\, September 20\, 2018\, 8:00 AM \nSponsored by the School of Medicine of The University of North Carolina at Chapel Hill.
URL:https://www.med.unc.edu/neurology/event/complement-a-strategy-for-autoimmune-disease/
LOCATION:321 MacNider Conference Room
CATEGORIES:Events,Grand Rounds
END:VEVENT
BEGIN:VEVENT
DTSTART;TZID=America/New_York:20180906T080000
DTEND;TZID=America/New_York:20180906T090000
DTSTAMP:20260424T192810
CREATED:20180824T181215Z
LAST-MODIFIED:20180828T193752Z
UID:10000390-1536220800-1536224400@www.med.unc.edu
SUMMARY:Grand Rounds - Advanced Care Planning and Advanced Directives
DESCRIPTION:Nansi Greger-Holt\, RN\, MPH\, MSN\nGeriatric and Family Nurse Practitioner\nDivision of Memory and Cognitive Disorders\nUNC – Chapel Hill Department of Neurology \n  \n321 MacNider Conference Room\nThursday\, September 6\, 2018\, 8:00 AM \nSponsored by the School of Medicine of The University of North Carolina at Chapel Hill.
URL:https://www.med.unc.edu/neurology/event/grand-rounds-advanced-directives/
LOCATION:321 MacNider Conference Room
CATEGORIES:Grand Rounds
END:VEVENT
BEGIN:VEVENT
DTSTART;TZID=America/New_York:20180621T080000
DTEND;TZID=America/New_York:20180621T090000
DTSTAMP:20260424T192810
CREATED:20180710T154800Z
LAST-MODIFIED:20180710T154800Z
UID:10000387-1529568000-1529571600@www.med.unc.edu
SUMMARY:Grand Rounds - Autoimmune Gliopathies: Beyond Aquaporin-4
DESCRIPTION:Irena Dujmovic-Basuroski\, MD\nAssociate Professor\nUNC – Chapel Hill Department of Neurology \n321 MacNider Hall\nThursday\, June 14\, 2018\, 8:00 AM \nSponsored by the School of Medicine of The University of North Carolina at Chapel Hill.
URL:https://www.med.unc.edu/neurology/event/grand-rounds-autoimmune-gliopathies-beyond-aquaporin-4/
LOCATION:321 MacNider Conference Room
CATEGORIES:Grand Rounds
END:VEVENT
END:VCALENDAR