BEGIN:VCALENDAR
VERSION:2.0
PRODID:-//Department of Neurology - ECPv6.15.18//NONSGML v1.0//EN
CALSCALE:GREGORIAN
METHOD:PUBLISH
X-ORIGINAL-URL:https://www.med.unc.edu/neurology
X-WR-CALDESC:Events for Department of Neurology
REFRESH-INTERVAL;VALUE=DURATION:PT1H
X-Robots-Tag:noindex
X-PUBLISHED-TTL:PT1H
BEGIN:VTIMEZONE
TZID:America/New_York
BEGIN:DAYLIGHT
TZOFFSETFROM:-0500
TZOFFSETTO:-0400
TZNAME:EDT
DTSTART:20170312T070000
END:DAYLIGHT
BEGIN:STANDARD
TZOFFSETFROM:-0400
TZOFFSETTO:-0500
TZNAME:EST
DTSTART:20171105T060000
END:STANDARD
BEGIN:DAYLIGHT
TZOFFSETFROM:-0500
TZOFFSETTO:-0400
TZNAME:EDT
DTSTART:20180311T070000
END:DAYLIGHT
BEGIN:STANDARD
TZOFFSETFROM:-0400
TZOFFSETTO:-0500
TZNAME:EST
DTSTART:20181104T060000
END:STANDARD
BEGIN:DAYLIGHT
TZOFFSETFROM:-0500
TZOFFSETTO:-0400
TZNAME:EDT
DTSTART:20190310T070000
END:DAYLIGHT
BEGIN:STANDARD
TZOFFSETFROM:-0400
TZOFFSETTO:-0500
TZNAME:EST
DTSTART:20191103T060000
END:STANDARD
END:VTIMEZONE
BEGIN:VEVENT
DTSTART;TZID=America/New_York:20180920T080000
DTEND;TZID=America/New_York:20180920T090000
DTSTAMP:20260425T090319
CREATED:20180910T142535Z
LAST-MODIFIED:20181002T211625Z
UID:10000391-1537430400-1537434000@www.med.unc.edu
SUMMARY:Grand Rounds - Complement: A Strategy for Autoimmune Disease
DESCRIPTION:James F. Howard\, Jr\, MD\nDistinguished Professor of Neuromuscular Disease\nChief\, Neuromuscular Disorders Section\nDepartments of Neurology\, Medicine & Allied Health\nThe University of North Carolina at Chapel Hill \n321 MacNider Conference Room\nThursday\, September 20\, 2018\, 8:00 AM \nSponsored by the School of Medicine of The University of North Carolina at Chapel Hill.
URL:https://www.med.unc.edu/neurology/event/complement-a-strategy-for-autoimmune-disease/
LOCATION:321 MacNider Conference Room
CATEGORIES:Events,Grand Rounds
END:VEVENT
BEGIN:VEVENT
DTSTART;TZID=America/New_York:20180906T080000
DTEND;TZID=America/New_York:20180906T090000
DTSTAMP:20260425T090319
CREATED:20180824T181215Z
LAST-MODIFIED:20180828T193752Z
UID:10000390-1536220800-1536224400@www.med.unc.edu
SUMMARY:Grand Rounds - Advanced Care Planning and Advanced Directives
DESCRIPTION:Nansi Greger-Holt\, RN\, MPH\, MSN\nGeriatric and Family Nurse Practitioner\nDivision of Memory and Cognitive Disorders\nUNC – Chapel Hill Department of Neurology \n  \n321 MacNider Conference Room\nThursday\, September 6\, 2018\, 8:00 AM \nSponsored by the School of Medicine of The University of North Carolina at Chapel Hill.
URL:https://www.med.unc.edu/neurology/event/grand-rounds-advanced-directives/
LOCATION:321 MacNider Conference Room
CATEGORIES:Grand Rounds
END:VEVENT
BEGIN:VEVENT
DTSTART;TZID=America/New_York:20180621T080000
DTEND;TZID=America/New_York:20180621T090000
DTSTAMP:20260425T090319
CREATED:20180710T154800Z
LAST-MODIFIED:20180710T154800Z
UID:10000387-1529568000-1529571600@www.med.unc.edu
SUMMARY:Grand Rounds - Autoimmune Gliopathies: Beyond Aquaporin-4
DESCRIPTION:Irena Dujmovic-Basuroski\, MD\nAssociate Professor\nUNC – Chapel Hill Department of Neurology \n321 MacNider Hall\nThursday\, June 14\, 2018\, 8:00 AM \nSponsored by the School of Medicine of The University of North Carolina at Chapel Hill.
URL:https://www.med.unc.edu/neurology/event/grand-rounds-autoimmune-gliopathies-beyond-aquaporin-4/
LOCATION:321 MacNider Conference Room
CATEGORIES:Grand Rounds
END:VEVENT
END:VCALENDAR