BEGIN:VCALENDAR
VERSION:2.0
PRODID:-//Department of Neurology - ECPv6.15.18//NONSGML v1.0//EN
CALSCALE:GREGORIAN
METHOD:PUBLISH
X-ORIGINAL-URL:https://www.med.unc.edu/neurology
X-WR-CALDESC:Events for Department of Neurology
REFRESH-INTERVAL;VALUE=DURATION:PT1H
X-Robots-Tag:noindex
X-PUBLISHED-TTL:PT1H
BEGIN:VTIMEZONE
TZID:America/New_York
BEGIN:DAYLIGHT
TZOFFSETFROM:-0500
TZOFFSETTO:-0400
TZNAME:EDT
DTSTART:20240310T070000
END:DAYLIGHT
BEGIN:STANDARD
TZOFFSETFROM:-0400
TZOFFSETTO:-0500
TZNAME:EST
DTSTART:20241103T060000
END:STANDARD
BEGIN:DAYLIGHT
TZOFFSETFROM:-0500
TZOFFSETTO:-0400
TZNAME:EDT
DTSTART:20250309T070000
END:DAYLIGHT
BEGIN:STANDARD
TZOFFSETFROM:-0400
TZOFFSETTO:-0500
TZNAME:EST
DTSTART:20251102T060000
END:STANDARD
BEGIN:DAYLIGHT
TZOFFSETFROM:-0500
TZOFFSETTO:-0400
TZNAME:EDT
DTSTART:20260308T070000
END:DAYLIGHT
BEGIN:STANDARD
TZOFFSETFROM:-0400
TZOFFSETTO:-0500
TZNAME:EST
DTSTART:20261101T060000
END:STANDARD
END:VTIMEZONE
BEGIN:VEVENT
DTSTART;TZID=America/New_York:20250305T070000
DTEND;TZID=America/New_York:20250305T180000
DTSTAMP:20260425T153638
CREATED:20250108T164122Z
LAST-MODIFIED:20250303T134959Z
UID:10001068-1741158000-1741197600@www.med.unc.edu
SUMMARY:2025 Annual Weatherspoon Symposium
DESCRIPTION:The tragic loss of Van and Kay’s son to a brain tumor at the age of 28 highlights the Weatherspoon family’s dedication to supporting brain tumor research. In response to this loss\, they have established multiple professorships and research funds at UNC Health\, contributing over $10 million over time\, particularly for the brain tumor program. The second Weatherspoon Brain Tumor Symposium is made possible by the generosity of the Weatherspoon funds. \nObjectives\n\nExplore key concepts in stem cell biology\, molecular genetics\, and immune factors influencing glioblastoma and other brain cancers\, and examine how these insights can drive therapeutic discovery and personalized treatment strategies.\nReview the latest advancements in immunotherapy (including CAR-T and NK cells)\, radiation therapy\, and novel treatments targeting tumor metabolism\, neurotransmitter receptors\, and epigenetic silencing\, with a focus on glioblastoma.\nExamine the role of tumor profiling\, biomarkers\, and advanced imaging techniques (e.g.\, perfusion imaging\, focused ultrasound) in optimizing patient care\, guiding treatment decisions\, and improving outcomes for brain tumor patients.\nDiscuss the holistic management of glioma patients\, including healthcare factors affecting patient experience\, the role of palliative care\, and the challenges in managing complications like venous thromboembolic disease
URL:https://www.med.unc.edu/neurology/event/2025-annual-weatherspoon-symposium/
LOCATION:George Watts Hill Alumni Center\, 150 Stadium Drive\, Chapel Hill\, NC\, 27599\, United States
CATEGORIES:Events
END:VEVENT
END:VCALENDAR