BEGIN:VCALENDAR
VERSION:2.0
PRODID:-//Department of Neurology - ECPv6.15.18//NONSGML v1.0//EN
CALSCALE:GREGORIAN
METHOD:PUBLISH
X-ORIGINAL-URL:https://www.med.unc.edu/neurology
X-WR-CALDESC:Events for Department of Neurology
REFRESH-INTERVAL;VALUE=DURATION:PT1H
X-Robots-Tag:noindex
X-PUBLISHED-TTL:PT1H
BEGIN:VTIMEZONE
TZID:America/New_York
BEGIN:DAYLIGHT
TZOFFSETFROM:-0500
TZOFFSETTO:-0400
TZNAME:EDT
DTSTART:20180311T070000
END:DAYLIGHT
BEGIN:STANDARD
TZOFFSETFROM:-0400
TZOFFSETTO:-0500
TZNAME:EST
DTSTART:20181104T060000
END:STANDARD
BEGIN:DAYLIGHT
TZOFFSETFROM:-0500
TZOFFSETTO:-0400
TZNAME:EDT
DTSTART:20190310T070000
END:DAYLIGHT
BEGIN:STANDARD
TZOFFSETFROM:-0400
TZOFFSETTO:-0500
TZNAME:EST
DTSTART:20191103T060000
END:STANDARD
BEGIN:DAYLIGHT
TZOFFSETFROM:-0500
TZOFFSETTO:-0400
TZNAME:EDT
DTSTART:20200308T070000
END:DAYLIGHT
BEGIN:STANDARD
TZOFFSETFROM:-0400
TZOFFSETTO:-0500
TZNAME:EST
DTSTART:20201101T060000
END:STANDARD
END:VTIMEZONE
BEGIN:VEVENT
DTSTART;TZID=America/New_York:20190323T090000
DTEND;TZID=America/New_York:20190323T123000
DTSTAMP:20260424T123552
CREATED:20190313T190210Z
LAST-MODIFIED:20190313T190210Z
UID:10000405-1553331600-1553344200@www.med.unc.edu
SUMMARY:Walk MS: Raleigh 2019
DESCRIPTION:This spring\, UNC Neurology and UNC Physical Therapy and are teaming up as the UNC Neuro-Heels to support the Walk MS\, an event that brings together a community of passionate people to connect and raise funds for people affected by multiple sclerosis (MS). We welcome your generous support as we prepare for this inspirational experience.To join our team and/or donate\, please visit: bit.ly/2019UNCNeuro-Heels
URL:https://www.med.unc.edu/neurology/event/walk-ms-raleigh-2019/
LOCATION:PNC Arena\, 1400 Edwards Mill Road\, Raleigh\, NC\, 27617\, United States
CATEGORIES:Events
ORGANIZER;CN="":MAILTO:nicole.burnett@unchealth.unc.edu
END:VEVENT
END:VCALENDAR