BEGIN:VCALENDAR
VERSION:2.0
PRODID:-//Office of Research - ECPv6.15.18//NONSGML v1.0//EN
CALSCALE:GREGORIAN
METHOD:PUBLISH
X-ORIGINAL-URL:https://www.med.unc.edu/oor
X-WR-CALDESC:Events for Office of Research
REFRESH-INTERVAL;VALUE=DURATION:PT1H
X-Robots-Tag:noindex
X-PUBLISHED-TTL:PT1H
BEGIN:VTIMEZONE
TZID:America/New_York
BEGIN:DAYLIGHT
TZOFFSETFROM:-0500
TZOFFSETTO:-0400
TZNAME:EDT
DTSTART:20170312T070000
END:DAYLIGHT
BEGIN:STANDARD
TZOFFSETFROM:-0400
TZOFFSETTO:-0500
TZNAME:EST
DTSTART:20171105T060000
END:STANDARD
BEGIN:DAYLIGHT
TZOFFSETFROM:-0500
TZOFFSETTO:-0400
TZNAME:EDT
DTSTART:20180311T070000
END:DAYLIGHT
BEGIN:STANDARD
TZOFFSETFROM:-0400
TZOFFSETTO:-0500
TZNAME:EST
DTSTART:20181104T060000
END:STANDARD
BEGIN:DAYLIGHT
TZOFFSETFROM:-0500
TZOFFSETTO:-0400
TZNAME:EDT
DTSTART:20190310T070000
END:DAYLIGHT
BEGIN:STANDARD
TZOFFSETFROM:-0400
TZOFFSETTO:-0500
TZNAME:EST
DTSTART:20191103T060000
END:STANDARD
BEGIN:DAYLIGHT
TZOFFSETFROM:-0500
TZOFFSETTO:-0400
TZNAME:EDT
DTSTART:20200308T070000
END:DAYLIGHT
BEGIN:STANDARD
TZOFFSETFROM:-0400
TZOFFSETTO:-0500
TZNAME:EST
DTSTART:20201101T060000
END:STANDARD
END:VTIMEZONE
BEGIN:VTIMEZONE
TZID:America/New_York
BEGIN:DAYLIGHT
TZOFFSETFROM:-0500
TZOFFSETTO:-0400
TZNAME:EDT
DTSTART:20170312T070000
END:DAYLIGHT
BEGIN:STANDARD
TZOFFSETFROM:-0400
TZOFFSETTO:-0500
TZNAME:EST
DTSTART:20171105T060000
END:STANDARD
BEGIN:DAYLIGHT
TZOFFSETFROM:-0500
TZOFFSETTO:-0400
TZNAME:EDT
DTSTART:20180311T070000
END:DAYLIGHT
BEGIN:STANDARD
TZOFFSETFROM:-0400
TZOFFSETTO:-0500
TZNAME:EST
DTSTART:20181104T060000
END:STANDARD
BEGIN:DAYLIGHT
TZOFFSETFROM:-0500
TZOFFSETTO:-0400
TZNAME:EDT
DTSTART:20190310T070000
END:DAYLIGHT
BEGIN:STANDARD
TZOFFSETFROM:-0400
TZOFFSETTO:-0500
TZNAME:EST
DTSTART:20191103T060000
END:STANDARD
END:VTIMEZONE
BEGIN:VEVENT
DTSTART;TZID=America/New_York:20190930T170000
DTEND;TZID=America/New_York:20190930T170000
DTSTAMP:20260420T141952
CREATED:20190820T180851Z
LAST-MODIFIED:20190820T180851Z
UID:10000873-1569862800-1569862800@www.med.unc.edu
SUMMARY:Deadline for Jefferson-Pilot Fellowships Applications
DESCRIPTION:The Jefferson-PIlot Fellowships in Acaedmic Medicine is given to promising junior faculty at the UNC School of Medicine. For more information\, please visit the link provided below.
URL:https://www.med.unc.edu/oor/event/deadline-for-jefferson-pilot-fellowships-applications/
END:VEVENT
BEGIN:VEVENT
DTSTART;TZID=America/New_York:20190927T233000
DTEND;TZID=America/New_York:20190927T233000
DTSTAMP:20260420T141952
CREATED:20190606T153643Z
LAST-MODIFIED:20190606T153643Z
UID:10000866-1569627000-1569627000@www.med.unc.edu
SUMMARY:Registration Deadline: Networking Symposium on Hot Topics: Opioids\, the Microbiome\, and Data Science
DESCRIPTION:
URL:https://www.med.unc.edu/oor/event/registration-deadline-networking-symposium-on-hot-topics-opioids-the-microbiome-and-data-science/
END:VEVENT
BEGIN:VEVENT
DTSTART;TZID=America/New_York:20190927T170000
DTEND;TZID=America/New_York:20190927T170000
DTSTAMP:20260420T141952
CREATED:20190830T205409Z
LAST-MODIFIED:20190830T205409Z
UID:10000875-1569603600-1569603600@www.med.unc.edu
SUMMARY:Deadline to RSVP for 2019 Berryhill Lecture
DESCRIPTION:For more information about this lecture and registration link\, visit UNC Vital Signs announcement linked below.
URL:https://www.med.unc.edu/oor/event/deadline-to-rsvp-for-2019-berryhill-lecture/
END:VEVENT
BEGIN:VEVENT
DTSTART;TZID=America/New_York:20190924T170000
DTEND;TZID=America/New_York:20190924T170000
DTSTAMP:20260420T141952
CREATED:20190723T133514Z
LAST-MODIFIED:20190723T133514Z
UID:10000869-1569344400-1569344400@www.med.unc.edu
SUMMARY:Deadline for Applications: Hyman L. Battle Distinguished Cancer Award
DESCRIPTION:
URL:https://www.med.unc.edu/oor/event/deadline-for-applications-hyman-l-battle-distinguished-cancer-award/
END:VEVENT
BEGIN:VEVENT
DTSTART;TZID=America/New_York:20190712T233000
DTEND;TZID=America/New_York:20190712T233000
DTSTAMP:20260420T141952
CREATED:20190613T162243Z
LAST-MODIFIED:20190613T205910Z
UID:10000868-1562974200-1562974200@www.med.unc.edu
SUMMARY:Deadline: Applications for "Forward Together" Initiative to Support Clinical Scientists
DESCRIPTION:For more information about this funding mechanism administered by the OoR\, please visit the website linked below.
URL:https://www.med.unc.edu/oor/event/deadline-applications-for-forward-together-initiative-to-support-clinical-scientists/
END:VEVENT
BEGIN:VEVENT
DTSTART;TZID=America/New_York:20190607T233000
DTEND;TZID=America/New_York:20190607T233000
DTSTAMP:20260420T141952
CREATED:20190606T150113Z
LAST-MODIFIED:20190613T205737Z
UID:10000865-1559950200-1559950200@www.med.unc.edu
SUMMARY:Application Deadline: “Forward Together” Basic and Clinical Joint Faculty Hires
DESCRIPTION:
URL:https://www.med.unc.edu/oor/event/joint-hire-rfa-deadline/
END:VEVENT
BEGIN:VEVENT
DTSTART;TZID=America/New_York:20180607T130000
DTEND;TZID=America/New_York:20180607T140000
DTSTAMP:20260420T141952
CREATED:20180529T191225Z
LAST-MODIFIED:20180529T191225Z
UID:10000863-1528376400-1528380000@www.med.unc.edu
SUMMARY:John Burris - BWF President
DESCRIPTION:John Burris\, President of the Burroughs-Wellcome Fund\, will present a seminar on the BWF strategic programs and funding.
URL:https://www.med.unc.edu/oor/event/john-burris-bwf-president/
LOCATION:Pagano Room\, LCCC
END:VEVENT
BEGIN:VEVENT
DTSTART;TZID=America/New_York:20180508T160000
DTEND;TZID=America/New_York:20180508T170000
DTSTAMP:20260420T141952
CREATED:20180104T011206Z
LAST-MODIFIED:20180206T200941Z
UID:10000862-1525795200-1525798800@www.med.unc.edu
SUMMARY:Pharmacology Seminar - Ann Marie Pendergast\, PhD
DESCRIPTION:Ann Marie Pendergast\, PhD; Professor of Pharmacology & Cancer Biology\, Duke University – “Kinase Networks Promote Breast and Lung Cancer Metastasis” \nFor more information on Dr. Pendergast click here
URL:https://www.med.unc.edu/oor/event/pharmacology-seminar-ann-marie-pendergast-phd-2/
END:VEVENT
BEGIN:VEVENT
DTSTART;TZID=America/New_York:20180504T120000
DTEND;TZID=America/New_York:20180504T130000
DTSTAMP:20260420T141952
CREATED:20180103T232648Z
LAST-MODIFIED:20180206T200933Z
UID:10000848-1525435200-1525438800@www.med.unc.edu
SUMMARY:BME Seminar--Undergraduate Research
DESCRIPTION:Presentations by undergraduates on research projects
URL:https://www.med.unc.edu/oor/event/bme-seminar-undergraduate-research-2/
END:VEVENT
BEGIN:VEVENT
DTSTART;TZID=America/New_York:20180427T120000
DTEND;TZID=America/New_York:20180427T130000
DTSTAMP:20260420T141952
CREATED:20180103T232519Z
LAST-MODIFIED:20180206T200933Z
UID:10000847-1524830400-1524834000@www.med.unc.edu
SUMMARY:BME Seminar--TBA
DESCRIPTION:Seminar speaker to be announced
URL:https://www.med.unc.edu/oor/event/bme-seminar-tba-4/
END:VEVENT
BEGIN:VEVENT
DTSTART;TZID=America/New_York:20180420T120000
DTEND;TZID=America/New_York:20180420T130000
DTSTAMP:20260420T141952
CREATED:20180103T232343Z
LAST-MODIFIED:20180206T200927Z
UID:10000846-1524225600-1524229200@www.med.unc.edu
SUMMARY:BME Seminar--Chris Taitt\, PhD
DESCRIPTION:Chris Taitt\, PhD; Research Scientist\, US Naval Research Laboratory – Talk title TBD
URL:https://www.med.unc.edu/oor/event/bme-seminar-chris-taitt-phd/
END:VEVENT
BEGIN:VEVENT
DTSTART;TZID=America/New_York:20180413T120000
DTEND;TZID=America/New_York:20180413T130000
DTSTAMP:20260420T141952
CREATED:20180103T231911Z
LAST-MODIFIED:20180206T200933Z
UID:10000845-1523620800-1523624400@www.med.unc.edu
SUMMARY:BME Seminar--TBA
DESCRIPTION:Seminar speaker to be announced
URL:https://www.med.unc.edu/oor/event/bme-seminar-tba-3/
END:VEVENT
BEGIN:VEVENT
DTSTART;TZID=America/New_York:20180411T120000
DTEND;TZID=America/New_York:20180411T130000
DTSTAMP:20260420T141952
CREATED:20180104T010349Z
LAST-MODIFIED:20180206T200937Z
UID:10000861-1523448000-1523451600@www.med.unc.edu
SUMMARY:Genetics Research Colloquium - Keriayn Smith\, PhD
DESCRIPTION:Keriayn Smith\, PhD; Research Assistant Professor\, Magnuson Lab\, Dept of Genetics\, UNC-CH – Talk title TBA \nFor more information on Dr. Magnuson’s research click here
URL:https://www.med.unc.edu/oor/event/genetics-research-colloquium-keriayn-smith-phd/
END:VEVENT
BEGIN:VEVENT
DTSTART;TZID=America/New_York:20180406T120000
DTEND;TZID=America/New_York:20180406T130000
DTSTAMP:20260420T141952
CREATED:20180103T231756Z
LAST-MODIFIED:20180206T200930Z
UID:10000844-1523016000-1523019600@www.med.unc.edu
SUMMARY:BME Seminar--Rui Reis\, PhD
DESCRIPTION:Rui Reis\, PhD; Professor of Polymer Engieering\, University of Minho\, Portugal – Talk title TBD \nFor more information on Dr. Reis click here
URL:https://www.med.unc.edu/oor/event/bme-seminar-rui-reis-phd/
END:VEVENT
BEGIN:VEVENT
DTSTART;TZID=America/New_York:20180404T120000
DTEND;TZID=America/New_York:20180404T130000
DTSTAMP:20260420T141952
CREATED:20180104T005514Z
LAST-MODIFIED:20180206T200936Z
UID:10000860-1522843200-1522846800@www.med.unc.edu
SUMMARY:Genetics Research Colloquium - Greg Keele
DESCRIPTION:Greg Keele; Graduate student\, Valdar Lab\, Curriculum in Bioinformatics & Computational Biology\, UNC-CH – Talk title TBA \nFor more information on Dr. Valdar’s research click here
URL:https://www.med.unc.edu/oor/event/genetics-research-colloquium-greg-keele/
END:VEVENT
BEGIN:VEVENT
DTSTART;TZID=America/New_York:20180328T120000
DTEND;TZID=America/New_York:20180328T130000
DTSTAMP:20260420T141952
CREATED:20180104T004850Z
LAST-MODIFIED:20180206T200937Z
UID:10000859-1522238400-1522242000@www.med.unc.edu
SUMMARY:Genetics Research Colloquium - Kelsey Noll
DESCRIPTION:Kelsey Noll; Graduate student\, Heise Lab\, Depts of Genetics and Microbiology & Immunology\, UNC-CH – Talk title TBA \nFor more information on the Heise research click here
URL:https://www.med.unc.edu/oor/event/genetics-research-colloquium-kelsey-noll/
END:VEVENT
BEGIN:VEVENT
DTSTART;TZID=America/New_York:20180323T120000
DTEND;TZID=America/New_York:20180323T130000
DTSTAMP:20260420T141952
CREATED:20180103T231432Z
LAST-MODIFIED:20180206T200928Z
UID:10000843-1521806400-1521810000@www.med.unc.edu
SUMMARY:BME Seminar--Joseph Wang\, PhD
DESCRIPTION:Joseph Wang\, PhD; Professor and Chair of NanoEngineering\, UC-San Diego – Talk title TBD \nFor more information on Dr. Wang click here
URL:https://www.med.unc.edu/oor/event/bme-seminar-joseph-wang-phd/
END:VEVENT
BEGIN:VEVENT
DTSTART;TZID=America/New_York:20180316T120000
DTEND;TZID=America/New_York:20180316T130000
DTSTAMP:20260420T141952
CREATED:20180103T231133Z
LAST-MODIFIED:20180206T200932Z
UID:10000842-1521201600-1521205200@www.med.unc.edu
SUMMARY:BME Seminar--TBA
DESCRIPTION:Seminar speaker to be announced
URL:https://www.med.unc.edu/oor/event/bme-seminar-tba-2-2/
END:VEVENT
BEGIN:VEVENT
DTSTART;TZID=America/New_York:20180309T120000
DTEND;TZID=America/New_York:20180309T130000
DTSTAMP:20260420T141952
CREATED:20180103T230956Z
LAST-MODIFIED:20180206T200928Z
UID:10000841-1520596800-1520600400@www.med.unc.edu
SUMMARY:BME Seminar--Dean Ho\, PhD
DESCRIPTION:Dean Ho\, PhD; Professor\, Divisions of Oral Biology & Medicine and Advanced Prosthodontics\, UCLA School of Dentistry – Talk title TBD \nFor more information on Dr. Ho click here
URL:https://www.med.unc.edu/oor/event/bme-seminar-dean-ho-phd-2/
END:VEVENT
BEGIN:VEVENT
DTSTART;TZID=America/New_York:20180302T120000
DTEND;TZID=America/New_York:20180302T130000
DTSTAMP:20260420T141952
CREATED:20180103T230618Z
LAST-MODIFIED:20180206T200932Z
UID:10000840-1519992000-1519995600@www.med.unc.edu
SUMMARY:BME Seminar--TBA
DESCRIPTION:Seminar Speaker to be announced
URL:https://www.med.unc.edu/oor/event/bme-seminar-tba-1-2/
END:VEVENT
BEGIN:VEVENT
DTSTART;TZID=America/New_York:20180228T120000
DTEND;TZID=America/New_York:20180228T130000
DTSTAMP:20260420T141952
CREATED:20180104T004520Z
LAST-MODIFIED:20180206T200934Z
UID:10000858-1519819200-1519822800@www.med.unc.edu
SUMMARY:Genetics Research Colloquium - Adam Gracz\, PhD
DESCRIPTION:Adam Gracz\, PhD; Research Assistant Professor of Genetics\, UNC-CH – “Stem cell dynamics in intestinal and biliary epithelia”
URL:https://www.med.unc.edu/oor/event/genetics-research-colloquium-adam-gracz-phd/
END:VEVENT
BEGIN:VEVENT
DTSTART;TZID=America/New_York:20180223T120000
DTEND;TZID=America/New_York:20180223T130000
DTSTAMP:20260420T141952
CREATED:20180103T230403Z
LAST-MODIFIED:20180206T200930Z
UID:10000838-1519387200-1519390800@www.med.unc.edu
SUMMARY:BME Seminar--Sabeth Verpoorte\, PhD
DESCRIPTION:Sabeth Verpoorte\, PhD; Professor and Head of Pharmaceutical Analysis\, University of Groningen\, The Netherlands – Talk title TBD \nFor more information on the Pharmaceutical Analysis Group click here
URL:https://www.med.unc.edu/oor/event/bme-seminar-sabeth-verpoorte-phd/
END:VEVENT
BEGIN:VEVENT
DTSTART;TZID=America/New_York:20180216T120000
DTEND;TZID=America/New_York:20180216T130000
DTSTAMP:20260420T141952
CREATED:20180103T225548Z
LAST-MODIFIED:20180214T193855Z
UID:10000836-1518782400-1518786000@www.med.unc.edu
SUMMARY:BME Seminar--TBA
DESCRIPTION:Speaker to be announced
URL:https://www.med.unc.edu/oor/event/bme-seminar-tba-2/
END:VEVENT
BEGIN:VEVENT
DTSTART;TZID=America/New_York:20180214T120000
DTEND;TZID=America/New_York:20180214T130000
DTSTAMP:20260420T141952
CREATED:20180104T004156Z
LAST-MODIFIED:20180206T200938Z
UID:10000857-1518609600-1518613200@www.med.unc.edu
SUMMARY:Genetics Research Colloquium - Samir Kelada\, PhD\, MPH
DESCRIPTION:Samir Kelada\, PhD\, MPH; Assistant Professor of Genetics\, UNC-CH – Talk title TBA \nFor more information on Dr. Kelada click here
URL:https://www.med.unc.edu/oor/event/genetics-research-colloquium-samir-kelada-phd-mph/
END:VEVENT
BEGIN:VEVENT
DTSTART;TZID=America/New_York:20180209T120000
DTEND;TZID=America/New_York:20180209T130000
DTSTAMP:20260420T141952
CREATED:20180103T225301Z
LAST-MODIFIED:20180206T200926Z
UID:10000834-1518177600-1518181200@www.med.unc.edu
SUMMARY:BME Seminar--Ashutosh Chilkoti\, PhD
DESCRIPTION:Ashutosh Chilkoti\, PhD; Professor and Chair of BME\, Duke University – Talk title TBD \nFor more information on Dr. Chilkoti click here
URL:https://www.med.unc.edu/oor/event/bme-seminar-ashutosh-chilkoti-phd/
END:VEVENT
BEGIN:VEVENT
DTSTART;TZID=America/New_York:20180207T120000
DTEND;TZID=America/New_York:20180207T130000
DTSTAMP:20260420T141952
CREATED:20180104T003126Z
LAST-MODIFIED:20180206T200937Z
UID:10000856-1518004800-1518008400@www.med.unc.edu
SUMMARY:Genetics Research Colloquium - Ruth Huh
DESCRIPTION:Ruth Huh; Graduate student in Dr. Yun Li lab\, Depts of Genetics and Biostatistics\, UNC-CH – Talk title TBA \nFor more information on the Li lab click here
URL:https://www.med.unc.edu/oor/event/genetics-research-colloquium-ruth-huh/
END:VEVENT
BEGIN:VEVENT
DTSTART;TZID=America/New_York:20180202T120000
DTEND;TZID=America/New_York:20180202T130000
DTSTAMP:20260420T141952
CREATED:20180104T002635Z
LAST-MODIFIED:20180206T200938Z
UID:10000855-1517572800-1517576400@www.med.unc.edu
SUMMARY:GMB Seminar - Eftychia Apostolou\, PhD
DESCRIPTION:Eftychia Apostolou\, PhD; Assistant Professor of Molecular Biology in Medicine\, Weill Cornell Medical College – “Chromatin bookmarking\, looping and cell fate decisions” \nFor more information on Dr. Apostolou click here
URL:https://www.med.unc.edu/oor/event/gmb-seminar-eftychia-apostolou-phd/
END:VEVENT
BEGIN:VEVENT
DTSTART;TZID=America/New_York:20180202T120000
DTEND;TZID=America/New_York:20180202T130000
DTSTAMP:20260420T141952
CREATED:20180103T224911Z
LAST-MODIFIED:20180206T200928Z
UID:10000756-1517572800-1517576400@www.med.unc.edu
SUMMARY:BME Seminar--James Sulzer\, PhD
DESCRIPTION:James Sulzer\, PhD; Assistant Professor of Mechanical Engineering\, University of TX-Austin – Talk title TBD \nFor more information on Dr. Sulzer click here
URL:https://www.med.unc.edu/oor/event/bme-seminar-james-sulzer-phd/
END:VEVENT
BEGIN:VEVENT
DTSTART;TZID=America/New_York:20180201T120000
DTEND;TZID=America/New_York:20180201T130000
DTSTAMP:20260420T141952
CREATED:20180103T021923Z
LAST-MODIFIED:20180206T200931Z
UID:10000754-1517486400-1517490000@www.med.unc.edu
SUMMARY:BME Seminar--Sufeng Zhang\, PhD
DESCRIPTION:Sufeng Zhang\, PhD; Senior Postdoctoral Fellow\, Langer Research Laboratory\, MIT – Talk title TBD \nFor more information on Dr. Zhang click here
URL:https://www.med.unc.edu/oor/event/bme-seminar-sufeng-zhang-phd/
END:VEVENT
BEGIN:VEVENT
DTSTART;TZID=America/New_York:20180131T120000
DTEND;TZID=America/New_York:20180131T130000
DTSTAMP:20260420T141952
CREATED:20180104T002000Z
LAST-MODIFIED:20180206T200936Z
UID:10000854-1517400000-1517403600@www.med.unc.edu
SUMMARY:Genetics Research Colloquium - Emily Madden
DESCRIPTION:Emily Madden; Graduate student\, Heise Lab\, Depts of Genetics and Microbiology & Immunology\, UNC-CH – Talk title TBA \nFor more information on the Heise research click here
URL:https://www.med.unc.edu/oor/event/genetics-research-colloquium-emily-madden/
END:VEVENT
END:VCALENDAR