BEGIN:VCALENDAR
VERSION:2.0
PRODID:-//Office of Research - ECPv6.15.18//NONSGML v1.0//EN
CALSCALE:GREGORIAN
METHOD:PUBLISH
X-ORIGINAL-URL:https://www.med.unc.edu/oor
X-WR-CALDESC:Events for Office of Research
REFRESH-INTERVAL;VALUE=DURATION:PT1H
X-Robots-Tag:noindex
X-PUBLISHED-TTL:PT1H
BEGIN:VTIMEZONE
TZID:America/New_York
BEGIN:DAYLIGHT
TZOFFSETFROM:-0500
TZOFFSETTO:-0400
TZNAME:EDT
DTSTART:20210314T070000
END:DAYLIGHT
BEGIN:STANDARD
TZOFFSETFROM:-0400
TZOFFSETTO:-0500
TZNAME:EST
DTSTART:20211107T060000
END:STANDARD
BEGIN:DAYLIGHT
TZOFFSETFROM:-0500
TZOFFSETTO:-0400
TZNAME:EDT
DTSTART:20220313T070000
END:DAYLIGHT
BEGIN:STANDARD
TZOFFSETFROM:-0400
TZOFFSETTO:-0500
TZNAME:EST
DTSTART:20221106T060000
END:STANDARD
BEGIN:DAYLIGHT
TZOFFSETFROM:-0500
TZOFFSETTO:-0400
TZNAME:EDT
DTSTART:20230312T070000
END:DAYLIGHT
BEGIN:STANDARD
TZOFFSETFROM:-0400
TZOFFSETTO:-0500
TZNAME:EST
DTSTART:20231105T060000
END:STANDARD
END:VTIMEZONE
BEGIN:VEVENT
DTSTART;TZID=America/New_York:20220901T170000
DTEND;TZID=America/New_York:20220901T170000
DTSTAMP:20260420T055647
CREATED:20220711T144643Z
LAST-MODIFIED:20220711T144643Z
UID:10000937-1662051600-1662051600@www.med.unc.edu
SUMMARY:Internal Limited Submission Deadline: NCI Predoctoral Transition Award (F99/K00)
DESCRIPTION:The NCI plans to reissue the F99/K00 transitional training award for graduate students in the field of cancer research (see the attached flyer from FY20 as well as the Notice of Intent to republish the RFA linked here.). Last year’s RFA can also be found here.  Please consider nominating your students if they fit the eligibility criteria.  Only one proposal per institution is allowed so there will be an internal selection process to identify the best candidate. \nThe purpose of the award is to facilitate the transition of talented graduate students into successful cancer research postdoctoral appointments\, and provide opportunities for career development activities relevant to their long-term career goals of becoming independent cancer researchers. \nThe F99/K00 award is meant to provide up to 6 years of support in two phases and is intended for individuals who require 1-2 years to complete their Ph.D. dissertation research training (F99 phase) before transitioning to mentored postdoctoral research training (K00 phase). Consequently\, applicants are expected to propose an individualized research training plan for the next 1-2 years of dissertation research training and a plan for 3-4 years of mentored postdoctoral research and career development activities that will prepare them for independent cancer-focused research careers. \nThe applicant must have a baccalaureate degree and be currently enrolled as a graduate student in the third or fourth year of a mentored PhD or equivalent research degree program in the biomedical\, behavioral\, or clinical sciences. The applicant must be at the dissertation research stage of training at the time of award\, and must show evidence of high academic performance in the sciences and commitment to a career as an independent cancer research scientist \nSince this is a limited submission\, the OoR will conduct the SOM review and coordinate the final review and selection with other schools that have nominated applicants. \nFaculty mentors with primary appointments in the School of Dentistry\, School of Pharmacy\, or School of Public Health should direct their nominations to their School. \nFor faculty mentors in the SOM\, the items below should be emailed to the Office of Research (oor_submissions@med.unc.edu) by Thursday\, September 1\, 2022. \n\nTitle Page including:\n\n-Nominee name\, department\, PhD program\, current year in the graduate program \n-Mentor name\, department \n-Citizenship status or current Visa \n\nNomination letter from the primary mentor. This letter should confirm that the nominee will be at the dissertation research stage of training at the time of award\, and must provide “evidence of high academic performance in the sciences and commitment to a career as an independent cancer research scientist” .  The primary mentor must confirm his/her “successful track record of mentoring predoctoral students”.\n\n\nDissertation Aims / Summary (1 page) prepared by the nominee\nNIH biosketch for the candidate (please address future plans and relevance to cancer in your personal statement)\nNIH biosketch for the faculty mentor\n\n  \nUNC has had three students that have been selected for this program previously:  Sarah Shelton / BME (2016) and Ning Cheng / Oral biology (2017) and Megan Agajanian / Pharmacology (2019). \n  \nMore information including slides and recording of webinars from last year can be found here under the Resources tab at the end of the page.
URL:https://www.med.unc.edu/oor/event/internal-limited-submission-deadline-nci-predoctoral-transition-award-f99-k00/
END:VEVENT
END:VCALENDAR