BEGIN:VCALENDAR
VERSION:2.0
PRODID:-//Office of Research - ECPv6.15.18//NONSGML v1.0//EN
CALSCALE:GREGORIAN
METHOD:PUBLISH
X-ORIGINAL-URL:https://www.med.unc.edu/oor
X-WR-CALDESC:Events for Office of Research
REFRESH-INTERVAL;VALUE=DURATION:PT1H
X-Robots-Tag:noindex
X-PUBLISHED-TTL:PT1H
BEGIN:VTIMEZONE
TZID:America/New_York
BEGIN:DAYLIGHT
TZOFFSETFROM:-0500
TZOFFSETTO:-0400
TZNAME:EDT
DTSTART:20250309T070000
END:DAYLIGHT
BEGIN:STANDARD
TZOFFSETFROM:-0400
TZOFFSETTO:-0500
TZNAME:EST
DTSTART:20251102T060000
END:STANDARD
BEGIN:DAYLIGHT
TZOFFSETFROM:-0500
TZOFFSETTO:-0400
TZNAME:EDT
DTSTART:20260308T070000
END:DAYLIGHT
BEGIN:STANDARD
TZOFFSETFROM:-0400
TZOFFSETTO:-0500
TZNAME:EST
DTSTART:20261101T060000
END:STANDARD
BEGIN:DAYLIGHT
TZOFFSETFROM:-0500
TZOFFSETTO:-0400
TZNAME:EDT
DTSTART:20270314T070000
END:DAYLIGHT
BEGIN:STANDARD
TZOFFSETFROM:-0400
TZOFFSETTO:-0500
TZNAME:EST
DTSTART:20271107T060000
END:STANDARD
END:VTIMEZONE
BEGIN:VEVENT
DTSTART;TZID=America/New_York:20260518T140000
DTEND;TZID=America/New_York:20260518T150000
DTSTAMP:20260423T181313
CREATED:20260423T204016Z
LAST-MODIFIED:20260423T204016Z
UID:10000984-1779112800-1779116400@www.med.unc.edu
SUMMARY:NIH Common Forms Office Hours
DESCRIPTION:Have questions about NIH Common Forms in SciENcv? Experts from RAISE\, OSP\, RCS\, SPO and HSL will be available with answers during Office Hours in May! \n  \nSession Dates and Times \nTuesday\, May 12 · 1:00–2:00 PM\nWednesday\, May 13 · 9:00–10:00 AM\nMonday\, May 18 · 2:00–3:00 PM\nThursday\, May 21 · 12:00–1:00 PM \n  \nNo registration required. One link provides access to all sessions. \nClick here to join.
URL:https://www.med.unc.edu/oor/event/nih-common-forms-office-hours-3/
END:VEVENT
BEGIN:VEVENT
DTSTART;TZID=America/New_York:20260521T120000
DTEND;TZID=America/New_York:20260521T130000
DTSTAMP:20260423T181314
CREATED:20260423T204047Z
LAST-MODIFIED:20260423T204047Z
UID:10000985-1779364800-1779368400@www.med.unc.edu
SUMMARY:NIH Common Forms Office Hours
DESCRIPTION:Have questions about NIH Common Forms in SciENcv? Experts from RAISE\, OSP\, RCS\, SPO and HSL will be available with answers during Office Hours in May! \n  \nSession Dates and Times \nTuesday\, May 12 · 1:00–2:00 PM\nWednesday\, May 13 · 9:00–10:00 AM\nMonday\, May 18 · 2:00–3:00 PM\nThursday\, May 21 · 12:00–1:00 PM \n  \nNo registration required. One link provides access to all sessions. \nClick here to join.
URL:https://www.med.unc.edu/oor/event/nih-common-forms-office-hours-4/
END:VEVENT
END:VCALENDAR