BEGIN:VCALENDAR
VERSION:2.0
PRODID:-//Office of Research - ECPv6.15.18//NONSGML v1.0//EN
CALSCALE:GREGORIAN
METHOD:PUBLISH
X-ORIGINAL-URL:https://www.med.unc.edu/oor
X-WR-CALDESC:Events for Office of Research
REFRESH-INTERVAL;VALUE=DURATION:PT1H
X-Robots-Tag:noindex
X-PUBLISHED-TTL:PT1H
BEGIN:VTIMEZONE
TZID:America/New_York
BEGIN:DAYLIGHT
TZOFFSETFROM:-0500
TZOFFSETTO:-0400
TZNAME:EDT
DTSTART:20190310T070000
END:DAYLIGHT
BEGIN:STANDARD
TZOFFSETFROM:-0400
TZOFFSETTO:-0500
TZNAME:EST
DTSTART:20191103T060000
END:STANDARD
BEGIN:DAYLIGHT
TZOFFSETFROM:-0500
TZOFFSETTO:-0400
TZNAME:EDT
DTSTART:20200308T070000
END:DAYLIGHT
BEGIN:STANDARD
TZOFFSETFROM:-0400
TZOFFSETTO:-0500
TZNAME:EST
DTSTART:20201101T060000
END:STANDARD
BEGIN:DAYLIGHT
TZOFFSETFROM:-0500
TZOFFSETTO:-0400
TZNAME:EDT
DTSTART:20210314T070000
END:DAYLIGHT
BEGIN:STANDARD
TZOFFSETFROM:-0400
TZOFFSETTO:-0500
TZNAME:EST
DTSTART:20211107T060000
END:STANDARD
END:VTIMEZONE
BEGIN:VEVENT
DTSTART;TZID=America/New_York:20200305T093000
DTEND;TZID=America/New_York:20200305T170000
DTSTAMP:20260423T182649
CREATED:20200207T154513Z
LAST-MODIFIED:20200207T154513Z
UID:10000798-1583400600-1583427600@www.med.unc.edu
SUMMARY:Paul A Godley Health Equity Symposium
DESCRIPTION:Paul A. Godley Health Equity Symposium\n\n\n\nThe UNC School of Medicine Dean’s Office\, the UNC Lineberger Comprehensive Cancer Center\, and the UNC Center for Health Equity Research are pleased to invite you to the Paul A. Godley Health Equity Symposium. We will take this time to honor the life and legacy of Paul A. Godley\, MD\, PhD\, MPP\, Rush S. Dickson Distinguished Professor of Hematology/Oncology and the inaugural Vice Dean for Diversity and Inclusion at UNC SOM. We have scheduled a full day of presentations and panels on a variety of topics including our diversity\, equity\, and inclusion efforts\, community partnerships\, and updates from ACCLAIM graduates and Dr. Godley’s collaborators. Additionally\, Otis Brawley\, MD\, Bloomberg Distinguished Professor of Oncology and Epidemiology at Johns Hopkins University will join us for a keynote address. \n\n\n\n\n\n\n\nWhen\nMar 05\, 2020\nfrom 09:30 AM to 05:00 PM\n\n\nWhere\nG100 Bondurant Hall\n\n\nContact Name\nTiffani Cain\n\n\nContact Phone\n919-843-7251\n\n\nAdd Event To Calendar\n vCal\n iCal\n\n\n\n\n\n  \nThe UNC School of Medicine Dean’s Office\, the UNC Lineberger Comprehensive Cancer Center\, and the UNC Center for Health Equity Research are pleased to invite you to the Paul A. Godley Health Equity Symposium. We will take this time to honor the life and legacy of Paul A. Godley\, MD\, PhD\, MPP\, Rush S. Dickson Distinguished Professor of Hematology/Oncology and the inaugural Vice Dean for Diversity and Inclusion at UNC SOM. We have scheduled a full day of presentations and panels on a variety of topics including our diversity\, equity\, and inclusion efforts\, community partnerships\, and updates from ACCLAIM graduates and Dr. Godley’s collaborators. Additionally\, Otis Brawley\, MD\, Bloomberg Distinguished Professor of Oncology and Epidemiology at Johns Hopkins University will join us for a keynote address.  The event begins at 9:30 in Bondurant G100 and concludes with the keynote at 4 pm in the Kirkland Auditorium at the Adams School of Dentistry.  A reception will follow that session. \nPlease visit the symposium website for the complete schedule and to register. \n\nMore information about this event…
URL:https://www.med.unc.edu/oor/event/paul-a-godley-health-equity-symposium/
LOCATION:G100 Bondurant Hall
END:VEVENT
END:VCALENDAR