BEGIN:VCALENDAR
VERSION:2.0
PRODID:-//Department of Pathology and Laboratory Medicine - ECPv6.15.18//NONSGML v1.0//EN
CALSCALE:GREGORIAN
METHOD:PUBLISH
X-ORIGINAL-URL:https://www.med.unc.edu/pathology
X-WR-CALDESC:Events for Department of Pathology and Laboratory Medicine
REFRESH-INTERVAL;VALUE=DURATION:PT1H
X-Robots-Tag:noindex
X-PUBLISHED-TTL:PT1H
BEGIN:VTIMEZONE
TZID:America/New_York
BEGIN:DAYLIGHT
TZOFFSETFROM:-0500
TZOFFSETTO:-0400
TZNAME:EDT
DTSTART:20220313T070000
END:DAYLIGHT
BEGIN:STANDARD
TZOFFSETFROM:-0400
TZOFFSETTO:-0500
TZNAME:EST
DTSTART:20221106T060000
END:STANDARD
BEGIN:DAYLIGHT
TZOFFSETFROM:-0500
TZOFFSETTO:-0400
TZNAME:EDT
DTSTART:20230312T070000
END:DAYLIGHT
BEGIN:STANDARD
TZOFFSETFROM:-0400
TZOFFSETTO:-0500
TZNAME:EST
DTSTART:20231105T060000
END:STANDARD
BEGIN:DAYLIGHT
TZOFFSETFROM:-0500
TZOFFSETTO:-0400
TZNAME:EDT
DTSTART:20240310T070000
END:DAYLIGHT
BEGIN:STANDARD
TZOFFSETFROM:-0400
TZOFFSETTO:-0500
TZNAME:EST
DTSTART:20241103T060000
END:STANDARD
END:VTIMEZONE
BEGIN:VEVENT
DTSTART;TZID=America/New_York:20230919T123000
DTEND;TZID=America/New_York:20230919T133000
DTSTAMP:20260422T085515
CREATED:20230912T004351Z
LAST-MODIFIED:20230913T185614Z
UID:10000268-1695126600-1695130200@www.med.unc.edu
SUMMARY:Fall Seminar Series- "Investigating the Physiological and Pathological Role of Gfpt2 in Cardiac Fibroblasts"-Paige Takasugi
DESCRIPTION:Dr. Li Qian Lab
URL:https://www.med.unc.edu/pathology/event/fall-seminar-series-paige-takasugi/
LOCATION:MacNider 321
CATEGORIES:Events,Student Seminar Series
ATTACH;FMTTYPE=image/jpeg:https://www.med.unc.edu/pathology/wp-content/uploads/sites/646/2023/09/Paige-Takasugi.jpg
END:VEVENT
END:VCALENDAR