BEGIN:VCALENDAR
VERSION:2.0
PRODID:-//Department of Pathology and Laboratory Medicine - ECPv6.15.18//NONSGML v1.0//EN
CALSCALE:GREGORIAN
METHOD:PUBLISH
X-ORIGINAL-URL:https://www.med.unc.edu/pathology
X-WR-CALDESC:Events for Department of Pathology and Laboratory Medicine
REFRESH-INTERVAL;VALUE=DURATION:PT1H
X-Robots-Tag:noindex
X-PUBLISHED-TTL:PT1H
BEGIN:VTIMEZONE
TZID:America/New_York
BEGIN:DAYLIGHT
TZOFFSETFROM:-0500
TZOFFSETTO:-0400
TZNAME:EDT
DTSTART:20200308T070000
END:DAYLIGHT
BEGIN:STANDARD
TZOFFSETFROM:-0400
TZOFFSETTO:-0500
TZNAME:EST
DTSTART:20201101T060000
END:STANDARD
BEGIN:DAYLIGHT
TZOFFSETFROM:-0500
TZOFFSETTO:-0400
TZNAME:EDT
DTSTART:20210314T070000
END:DAYLIGHT
BEGIN:STANDARD
TZOFFSETFROM:-0400
TZOFFSETTO:-0500
TZNAME:EST
DTSTART:20211107T060000
END:STANDARD
BEGIN:DAYLIGHT
TZOFFSETFROM:-0500
TZOFFSETTO:-0400
TZNAME:EDT
DTSTART:20220313T070000
END:DAYLIGHT
BEGIN:STANDARD
TZOFFSETFROM:-0400
TZOFFSETTO:-0500
TZNAME:EST
DTSTART:20221106T060000
END:STANDARD
END:VTIMEZONE
BEGIN:VEVENT
DTSTART;TZID=America/New_York:20210601T120000
DTEND;TZID=America/New_York:20210601T130000
DTSTAMP:20260421T194325
CREATED:20210513T000541Z
LAST-MODIFIED:20210513T000541Z
UID:10000188-1622548800-1622552400@www.med.unc.edu
SUMMARY:PBTS Student Seminar Series- "Analysis of DAB2IP-deficient ER+ Breast Cancers"- Angana Mukherjee
DESCRIPTION:Angana Mukherjee\nGraduate Research Assistant\nDr. Albert Baldwin’s Lab \n  \nhttps://zoom.us/j/94774521587?pwd=enhOdlE3bDdaa1NGcDIyem1WaVFKdz09
URL:https://www.med.unc.edu/pathology/event/pbts-student-seminar-series-analysis-of-dab2ip-deficient-er-breast-cancers-angana-mukherjee/
LOCATION:Zoom
CATEGORIES:Student Seminar Series
ATTACH;FMTTYPE=image/jpeg:https://www.med.unc.edu/pathology/wp-content/uploads/sites/646/2021/05/Angana-Mukherjee.jpg
END:VEVENT
BEGIN:VEVENT
DTSTART;TZID=America/New_York:20210603T083000
DTEND;TZID=America/New_York:20210603T093000
DTSTAMP:20260421T194325
CREATED:20210513T021516Z
LAST-MODIFIED:20210513T021516Z
UID:10000191-1622709000-1622712600@www.med.unc.edu
SUMMARY:Pathology Grand Rounds-"Better Microscopy for Better Science"-Dr. Pablo Ariel
DESCRIPTION:Pablo Ariel\, PhD\nAssistant Professor\nUniversity of North Carolina at Chapel Hill \n  \nRegister in advanced for this event:\nhttps://zoom.us/webinar/register/WN_rS8teztuQXaPxi14wKcPug
URL:https://www.med.unc.edu/pathology/event/pathology-grand-rounds-better-microscopy-for-better-science-dr-pablo-ariel/
LOCATION:Zoom
CATEGORIES:Grand Rounds
ATTACH;FMTTYPE=image/png:https://www.med.unc.edu/pathology/wp-content/uploads/sites/646/2021/05/Pablo-Ariel-1-e1620872061148.png
END:VEVENT
BEGIN:VEVENT
DTSTART;TZID=America/New_York:20210610T083000
DTEND;TZID=America/New_York:20210610T093000
DTSTAMP:20260421T194325
CREATED:20210513T014145Z
LAST-MODIFIED:20210513T120719Z
UID:10000189-1623313800-1623317400@www.med.unc.edu
SUMMARY:Special Grand Rounds-"Pathology Taught in a Student Centered Integrated Curriculum"-Dr. David Elkowitz
DESCRIPTION:David Elkowitz\, DO\nAssociate Dean and Director\, Academy Medical Educators\nNorthwell Health \n  \nThe zoom link will be sent via email to the departmental listserv closer to the event date. \n 
URL:https://www.med.unc.edu/pathology/event/special-grand-rounds-pathology-taught-in-a-student-centered-integrated-curriculum-dr-david-elkowitz/
LOCATION:Zoom
CATEGORIES:Grand Rounds
ATTACH;FMTTYPE=image/jpeg:https://www.med.unc.edu/pathology/wp-content/uploads/sites/646/2021/05/David-1-e1620870417886.jpg
END:VEVENT
BEGIN:VEVENT
DTSTART;TZID=America/New_York:20210617T083000
DTEND;TZID=America/New_York:20210617T093000
DTSTAMP:20260421T194325
CREATED:20210513T015859Z
LAST-MODIFIED:20250723T183638Z
UID:10000190-1623918600-1623922200@www.med.unc.edu
SUMMARY:Departmental Meeting
DESCRIPTION:Updates on the departments ongoing DEI efforts \n  \nThe zoom link will be sent via email to the departmental listserv closer to the event date.
URL:https://www.med.unc.edu/pathology/event/departmental-dei-meeting/
LOCATION:Zoom
CATEGORIES:Events
ATTACH;FMTTYPE=image/png:https://www.med.unc.edu/pathology/wp-content/uploads/sites/646/2020/12/old-well-placeholder.png
END:VEVENT
END:VCALENDAR