BEGIN:VCALENDAR
VERSION:2.0
PRODID:-//Department of Pathology and Laboratory Medicine - ECPv6.15.18//NONSGML v1.0//EN
CALSCALE:GREGORIAN
METHOD:PUBLISH
X-ORIGINAL-URL:https://www.med.unc.edu/pathology
X-WR-CALDESC:Events for Department of Pathology and Laboratory Medicine
REFRESH-INTERVAL;VALUE=DURATION:PT1H
X-Robots-Tag:noindex
X-PUBLISHED-TTL:PT1H
BEGIN:VTIMEZONE
TZID:America/New_York
BEGIN:DAYLIGHT
TZOFFSETFROM:-0500
TZOFFSETTO:-0400
TZNAME:EDT
DTSTART:20210314T070000
END:DAYLIGHT
BEGIN:STANDARD
TZOFFSETFROM:-0400
TZOFFSETTO:-0500
TZNAME:EST
DTSTART:20211107T060000
END:STANDARD
BEGIN:DAYLIGHT
TZOFFSETFROM:-0500
TZOFFSETTO:-0400
TZNAME:EDT
DTSTART:20220313T070000
END:DAYLIGHT
BEGIN:STANDARD
TZOFFSETFROM:-0400
TZOFFSETTO:-0500
TZNAME:EST
DTSTART:20221106T060000
END:STANDARD
BEGIN:DAYLIGHT
TZOFFSETFROM:-0500
TZOFFSETTO:-0400
TZNAME:EDT
DTSTART:20230312T070000
END:DAYLIGHT
BEGIN:STANDARD
TZOFFSETFROM:-0400
TZOFFSETTO:-0500
TZNAME:EST
DTSTART:20231105T060000
END:STANDARD
END:VTIMEZONE
BEGIN:VEVENT
DTSTART;TZID=America/New_York:20220405T123000
DTEND;TZID=America/New_York:20220405T133000
DTSTAMP:20260422T110617
CREATED:20220309T223028Z
LAST-MODIFIED:20220309T223156Z
UID:10000222-1649161800-1649165400@www.med.unc.edu
SUMMARY:Spring Seminar Series- Chelsea Smith and Molly Parrish
DESCRIPTION:Chelsea Smith\, B.S.\nDr. Gaorav Gupta’s Lab\n“The Role of Polymerase Theta in DSB Repair and Resistance to Breast Cancer Therapies” \nMolly Parrish\, B.S.\nDr. Russell Broaddus and Dr. Andrew Gladden Lab\n“Investigating the Role of exon 3 CTNNB1 Mutations in Endometrial Cancer”
URL:https://www.med.unc.edu/pathology/event/spring-seminar-series-chelsea-smith-and-molly-parrish/
LOCATION:MacNider 321
CATEGORIES:Student Seminar Series
ATTACH;FMTTYPE=image/png:https://www.med.unc.edu/pathology/wp-content/uploads/sites/646/2022/03/ParrishSmith-e1646864854285.png
END:VEVENT
BEGIN:VEVENT
DTSTART;TZID=America/New_York:20220407T083000
DTEND;TZID=America/New_York:20220407T093000
DTSTAMP:20260422T110617
CREATED:20220330T212946Z
LAST-MODIFIED:20220330T212946Z
UID:10000223-1649320200-1649323800@www.med.unc.edu
SUMMARY:Virtual Grand Rounds - "The Molecular Classification of Endometrial Cancer" - Dr. Tricia Murdock
DESCRIPTION:Tricia Murdock\, M.D.\nAssistant Professor of Pathology | Division of Gynecologic Pathology\nSibley Memorial Hospital | Washington\, D.C.
URL:https://www.med.unc.edu/pathology/event/virtual-grand-rounds-the-molecular-classification-of-endometrial-cancer-dr-tricia-murdock/
LOCATION:Zoom
CATEGORIES:Grand Rounds
ATTACH;FMTTYPE=image/jpeg:https://www.med.unc.edu/pathology/wp-content/uploads/sites/646/2022/03/Tricia-Murdock.jpg
END:VEVENT
BEGIN:VEVENT
DTSTART;TZID=America/New_York:20220407T173000
DTEND;TZID=America/New_York:20220407T190000
DTSTAMP:20260422T110618
CREATED:20220401T190632Z
LAST-MODIFIED:20220401T190632Z
UID:10000225-1649352600-1649358000@www.med.unc.edu
SUMMARY:Career Stories: Celebrating Women Leaders in STEM
DESCRIPTION:Morehead Planetarium and Science Center is delighted to host Katie Mack\, PhD\, and NC STEM Hall of Fame honorees Joan D. Barber\, PhD\, Christina Hammock Koch\, and Christy L. Shaffer\, PhD\, for a celebration of women leaders in STEM as part of the 2022 North Carolina Science Festival. \nKatie Mack\, PhD\, will deliver a keynote address describing her career story\, then join guest panelists for a discussion of their professional journeys moderated by Crystal Harden\, EdD. \nRegister here for tickets.
URL:https://ncsciencefestival.org/events/career-stories-celebrating-women-leaders-stem
LOCATION:Morehead Planetarium and Science Center\, 250 E. Franklin Stree\, Chapel HIll\, NC\, 27599\, United States
CATEGORIES:Events
ATTACH;FMTTYPE=image/png:https://www.med.unc.edu/pathology/wp-content/uploads/sites/646/2022/04/nc-scifest-logo.png
END:VEVENT
BEGIN:VEVENT
DTSTART;TZID=America/New_York:20220412T123000
DTEND;TZID=America/New_York:20220412T133000
DTSTAMP:20260422T110618
CREATED:20220404T122151Z
LAST-MODIFIED:20220408T210811Z
UID:10000226-1649766600-1649770200@www.med.unc.edu
SUMMARY:Spring Seminar Series - Shea Ricketts and Hannah Hall
DESCRIPTION:Shea Ricketts\nDr. Li Qian’s Lab\n“Fibroblast Specific Ptbp1 and its Potential Role in Cardiac Function” \nHannah Hall\nDrs. Bruce Cairn’s and Rob Maile’s Lab\n“Role of mTOR in the Immune Response to Traumatic Injury”
URL:https://www.med.unc.edu/pathology/event/spring-seminar-series-shea-ricketts-and-hannah-hall/
LOCATION:MacNider 321
CATEGORIES:Student Seminar Series
ATTACH;FMTTYPE=image/png:https://www.med.unc.edu/pathology/wp-content/uploads/sites/646/2022/04/Ricketts-Hall-e1649074797337.png
END:VEVENT
BEGIN:VEVENT
DTSTART;VALUE=DATE:20220414
DTEND;VALUE=DATE:20220415
DTSTAMP:20260422T110618
CREATED:20220408T224935Z
LAST-MODIFIED:20220408T224935Z
UID:10000158-1649894400-1649980799@www.med.unc.edu
SUMMARY:UNC Wellness Day
DESCRIPTION:Wellness days are intended as breaks from the semester; faculty will be encouraged to avoid scheduling exams\, quizzes\, and other major assignments. These breaks are designed to protect students’ mental health; therefore\, students are urged to take this time to rest.
URL:https://www.med.unc.edu/pathology/event/unc-wellness-day/
LOCATION:NC
ATTACH;FMTTYPE=image/png:https://www.med.unc.edu/pathology/wp-content/uploads/sites/646/2020/12/old-well-placeholder.png
END:VEVENT
BEGIN:VEVENT
DTSTART;TZID=America/New_York:20220418T100000
DTEND;TZID=America/New_York:20220418T120000
DTSTAMP:20260422T110618
CREATED:20220404T123051Z
LAST-MODIFIED:20220408T184841Z
UID:10000227-1650276000-1650283200@www.med.unc.edu
SUMMARY:Doctoral Dissertation Defense-"A Change of Heart: Novel Approaches to Direct Cardiac Reprogramming"-Benjamin Keepers
DESCRIPTION:This seminar is based upon the doctoral dissertation of Benjamin Keepers under the direction of Dr. Li Qian. \nPlease note this event is password-protected; refer to the announcement via the departmental e-mail or contact Angel Truesdale at angel_truesdale@med.unc.edu \n  \n 
URL:https://www.med.unc.edu/pathology/event/doctoral-dissertation-defense-a-change-of-heart-novel-approaches-to-direct-cardiac-reprogramming-benjamin-keepers/
LOCATION:Bioinformatics 1131\, 130 Mason Farm Rd\, Chapel Hill\, NC\, 27599\, United States
CATEGORIES:Doctoral Dissertation Defense,Events
ATTACH;FMTTYPE=image/jpeg:https://www.med.unc.edu/pathology/wp-content/uploads/sites/646/2022/04/Ben-Keepers-e1649075379681.jpg
END:VEVENT
BEGIN:VEVENT
DTSTART;TZID=America/New_York:20220421T083000
DTEND;TZID=America/New_York:20220421T093000
DTSTAMP:20260422T110618
CREATED:20220419T171929Z
LAST-MODIFIED:20220419T171929Z
UID:10000160-1650529800-1650533400@www.med.unc.edu
SUMMARY:Virtual Grand Rounds- Dr. Ling Cai
DESCRIPTION:Ling Cai\, PhD\nAssistant Professor\nDepartment of Genetics\nUniversity of North Carolina at Chapel Hill
URL:https://www.med.unc.edu/pathology/event/virtual-grand-rounds-dr-ling-cai/
LOCATION:Zoom
CATEGORIES:Events,Grand Rounds
ATTACH;FMTTYPE=image/jpeg:https://www.med.unc.edu/pathology/wp-content/uploads/sites/646/2022/04/Ling-Cai.jpg
END:VEVENT
BEGIN:VEVENT
DTSTART;TZID=America/New_York:20220421T113000
DTEND;TZID=America/New_York:20220421T123000
DTSTAMP:20260422T110618
CREATED:20220223T153254Z
LAST-MODIFIED:20220224T191304Z
UID:10000211-1650540600-1650544200@www.med.unc.edu
SUMMARY:WHMC Spring Seminar Series - "Global Health"
DESCRIPTION:
URL:https://www.med.unc.edu/pathology/event/whmc-spring-seminar-series-global-health/
LOCATION:Hybrid Seminar\, Bondurant G100\, Zoom
ATTACH;FMTTYPE=image/png:https://www.med.unc.edu/pathology/wp-content/uploads/sites/646/2022/02/April-2022_Global-Health_Final.png
END:VEVENT
BEGIN:VEVENT
DTSTART;TZID=America/New_York:20220426T110000
DTEND;TZID=America/New_York:20220426T120000
DTSTAMP:20260422T110618
CREATED:20220330T213719Z
LAST-MODIFIED:20220330T213719Z
UID:10000224-1650970800-1650974400@www.med.unc.edu
SUMMARY:Marc J. Mass Annual Lecture-"Exercise and Plakophilin-2 Deficiency: The Double-Hit of Arrhythmogenic Right Ventricular Cardiomyopathy"- Dr. Mario Delmar
DESCRIPTION:Mario Delmar\, MD PhD\nPatricia M. and Robert H. Martinsen Professor of Cardiology\, Department of Medicine\nProfessor\, Department of Cell Biology\nNYU Grossman School of Medicine
URL:https://www.med.unc.edu/pathology/event/marc-j-mass-annual-lecture-exercise-and-plakophilin-2-deficiency-the-double-hit-of-arrhythmogenic-right-ventricular-cardiomyopathy-dr-mario-delmar/
LOCATION:Bondurant G100
CATEGORIES:Events
ATTACH;FMTTYPE=image/jpeg:https://www.med.unc.edu/pathology/wp-content/uploads/sites/646/2022/03/Delmar.jpg
END:VEVENT
END:VCALENDAR