BEGIN:VCALENDAR
VERSION:2.0
PRODID:-//Department of Pathology and Laboratory Medicine - ECPv6.15.18//NONSGML v1.0//EN
CALSCALE:GREGORIAN
METHOD:PUBLISH
X-ORIGINAL-URL:https://www.med.unc.edu/pathology
X-WR-CALDESC:Events for Department of Pathology and Laboratory Medicine
REFRESH-INTERVAL;VALUE=DURATION:PT1H
X-Robots-Tag:noindex
X-PUBLISHED-TTL:PT1H
BEGIN:VTIMEZONE
TZID:America/New_York
BEGIN:DAYLIGHT
TZOFFSETFROM:-0500
TZOFFSETTO:-0400
TZNAME:EDT
DTSTART:20210314T070000
END:DAYLIGHT
BEGIN:STANDARD
TZOFFSETFROM:-0400
TZOFFSETTO:-0500
TZNAME:EST
DTSTART:20211107T060000
END:STANDARD
BEGIN:DAYLIGHT
TZOFFSETFROM:-0500
TZOFFSETTO:-0400
TZNAME:EDT
DTSTART:20220313T070000
END:DAYLIGHT
BEGIN:STANDARD
TZOFFSETFROM:-0400
TZOFFSETTO:-0500
TZNAME:EST
DTSTART:20221106T060000
END:STANDARD
BEGIN:DAYLIGHT
TZOFFSETFROM:-0500
TZOFFSETTO:-0400
TZNAME:EDT
DTSTART:20230312T070000
END:DAYLIGHT
BEGIN:STANDARD
TZOFFSETFROM:-0400
TZOFFSETTO:-0500
TZNAME:EST
DTSTART:20231105T060000
END:STANDARD
END:VTIMEZONE
BEGIN:VEVENT
DTSTART;TZID=America/New_York:20221006T083000
DTEND;TZID=America/New_York:20221006T093000
DTSTAMP:20260419T091356
CREATED:20220928T134516Z
LAST-MODIFIED:20250723T183458Z
UID:10000231-1665045000-1665048600@www.med.unc.edu
SUMMARY:Virtual Grand Rounds-Dr. E. Nathan Thomas III
DESCRIPTION:E. Nate Thomas III\, PhD\nUniversity of North Carolina at Chapel Hill
URL:https://www.med.unc.edu/pathology/event/virtual-grand-rounds-dei-climate-survey-report/
LOCATION:Zoom
CATEGORIES:Events,Grand Rounds
ATTACH;FMTTYPE=image/jpeg:https://www.med.unc.edu/pathology/wp-content/uploads/sites/646/2022/09/Makayla-King.jpg
END:VEVENT
BEGIN:VEVENT
DTSTART;TZID=America/New_York:20221010T130000
DTEND;TZID=America/New_York:20221010T150000
DTSTAMP:20260419T091356
CREATED:20221005T141737Z
LAST-MODIFIED:20221005T141737Z
UID:10000233-1665406800-1665414000@www.med.unc.edu
SUMMARY:Dominique Munson Doctoral Dissertation Defense-"Evaluating Low- and Normal-Density Neutrophils Profile and Pathological Mechanisms in ANCA Vasculitis"
DESCRIPTION:Dominique N. Munson\nPh.D. Candidate\nDepartment of Pathology and Laboratory Medicine\nDr. Ronald Falk’s Lab- UNC Kidney Center
URL:https://www.med.unc.edu/pathology/event/dominique-munson-doctoral-dissertation-defense-evaluating-low-and-normal-density-neutrophils-profile-and-pathological-mechanisms-in-anca-vasculitis/
LOCATION:Bondurant G100
CATEGORIES:Doctoral Dissertation Defense,Events
ATTACH;FMTTYPE=image/jpeg:https://www.med.unc.edu/pathology/wp-content/uploads/sites/646/2022/10/Munson-scaled-e1664979368847.jpeg
END:VEVENT
BEGIN:VEVENT
DTSTART;TZID=America/New_York:20221012T090000
DTEND;TZID=America/New_York:20221012T150000
DTSTAMP:20260419T091356
CREATED:20220928T140501Z
LAST-MODIFIED:20220928T140501Z
UID:10000232-1665565200-1665586800@www.med.unc.edu
SUMMARY:Pathology Annual Research Symposium
DESCRIPTION:
URL:https://www.med.unc.edu/pathology/event/pathology-annual-research-symposium/
LOCATION:North Carolina Botanical Gardens\, 100 Old Mason Farm Rd\, Chapel Hill\, NC\, 27517
CATEGORIES:Events
END:VEVENT
BEGIN:VEVENT
DTSTART;TZID=America/New_York:20221018T150000
DTEND;TZID=America/New_York:20221018T163000
DTSTAMP:20260419T091356
CREATED:20221012T140833Z
LAST-MODIFIED:20221012T140833Z
UID:10000234-1666105200-1666110600@www.med.unc.edu
SUMMARY:WHMC Seminar Series - "Love Shouldn't Hurt: Consequences of Intimate Partner Violence"
DESCRIPTION:The Women’s Health Multidisciplinary Consortium cordially invites you to join us at this month’s Hot Topic Seminar\, titled “Love Shouldn’t Hurt: Consequences of Intimate Partner Violence.” This seminar is on October 18th from 3-4pm at Bondurant G100 and on Zoom and is held in honor of Domestic Violence Awareness Month\, with the goal of highlighting current UNC research on interpersonal violence. \n  \nOur fantastic speakers are: \n  \nJohna Register-Mihalik\, PhD\, LAT\, ATC  \nAssociate Professor in the Department of Exercise and Sport Science\, Core Faculty with Matthew Gfeller Center and the Injury Prevention Research Center \n  \nTalk Title: “Implications of Traumatic Brain Injury: What Sometimes Seems ‘Invisible’ Can Be Life Altering” \n  \nand   \n  \nShabbar Ranapurwala\, PhD\, MPH\, BHMS \nAssociate Professor in Epidemiology\, Core Faculty with the Injury Prevention Research Center \n  \nTalk Title: “Saving Time and Delivering Justice: Evaluations of E-Filling of Domestic Violence Protective Orders in NC” \n  \n  \nThis event will be a hybrid seminar at Bondurant G100 and on Zoom (information below)\, though in-person attendance is encouraged for robust discussion and a chance to meet others who work in women’s health. Please join us for a Meet & Greet with cookies and coffee following the seminar. \n  \nAll are welcome! Not in women’s health? Come anyway! \n  \n  \nUPCOMING EVENTS \n  \nOctober:  \nIn the spirit of providing resources and working with the community on issues surrounding interpersonal violence\, we are proud to announce that we will be partnering with Jaimie Lee and The Coalition to hold a Women’s Self Defense Seminar this month (details to follow soon). All are welcome and encouraged to attend! \n  \nNovember: \nSave the date for the first week of November for Reproductive Justice Week at UNC \, a WHMC collaboration with the Center for Health Equity Research and The SisterSong Women of Color Reproductive Justice Collective!   \n  \nDecember: \nHot Topic Seminar on Early Investigators in Endometrial Cancer! \n  \n  \nWe are excited to have you join us this semester as we tackle these important hot topics in women’s health! \nSincerely\, \n  \nThe WHMC Planning Committee
URL:https://www.med.unc.edu/pathology/event/whmc-seminar-series-love-shouldnt-hurt-consequences-of-intimate-partner-violence/
LOCATION:Bondurant G100
CATEGORIES:Events
END:VEVENT
BEGIN:VEVENT
DTSTART;TZID=America/New_York:20221020T083000
DTEND;TZID=America/New_York:20221020T093000
DTSTAMP:20260419T091356
CREATED:20221019T042341Z
LAST-MODIFIED:20221019T042504Z
UID:10000235-1666254600-1666258200@www.med.unc.edu
SUMMARY:Pathology Grand Rounds-"Utilizing ctDNA for Minimal Residual Disease Detection in HNSCC"-Dr. Siddharth Sheth
DESCRIPTION:Siddharth Sheth\, MD\nAssistant Professor\nDepartment of Mecicine| Division of Oncology\nUniversity of North Carolina at Chapel Hill
URL:https://www.med.unc.edu/pathology/event/pathology-grand-rounds-utilizing-ctdna-for-minimal-residual-disease-detection-in-hnscc-dr-siddharth-sheth/
LOCATION:Zoom
CATEGORIES:Events,Grand Rounds
ATTACH;FMTTYPE=image/jpeg:https://www.med.unc.edu/pathology/wp-content/uploads/sites/646/2022/10/Siddharth-Sheth-e1666153484546.jpg
END:VEVENT
BEGIN:VEVENT
DTSTART;TZID=America/New_York:20221025T123000
DTEND;TZID=America/New_York:20221025T133000
DTSTAMP:20260419T091356
CREATED:20221019T062137Z
LAST-MODIFIED:20221019T062137Z
UID:10000241-1666701000-1666704600@www.med.unc.edu
SUMMARY:PBTS Fall Seminar Series
DESCRIPTION:“Investigating the Impact of HIV and ART on the T-Cell Receptor Repertoire in Diffuse Large B-cell Lymphoma” \nSophia Roush (left)\nDr. Yuri Fedoriw Lab\nUniversity of North Carolina at Chapel Hill\n\n \n“Investigating the Non-Canonical Role of Hippo Kinase Serine/Threonine Kinase 3 (STK3) in Prostate Cancer” \nAmelia Schirmer (right)\nDr. Everardo Macias Lab\nDuke University
URL:https://www.med.unc.edu/pathology/event/pbts-fall-seminar-series/
LOCATION:MacNider 321
CATEGORIES:Events,Student Seminar Series
ATTACH;FMTTYPE=image/png:https://www.med.unc.edu/pathology/wp-content/uploads/sites/646/2022/10/Roush-Schirmer-e1666159188109.png
END:VEVENT
BEGIN:VEVENT
DTSTART;TZID=America/New_York:20221027T083000
DTEND;TZID=America/New_York:20221027T093000
DTSTAMP:20260419T091356
CREATED:20221019T043239Z
LAST-MODIFIED:20221019T043239Z
UID:10000236-1666859400-1666863000@www.med.unc.edu
SUMMARY:Pathology Grand Rounds-"Greening the Lab: Reducing the Environmental Footprint of Your Laboratory"- Dr. Ilyssa O. Gordon
DESCRIPTION:Ilyssa O. Gordon\, MD\, PhD\nAssociate Professor of Pathology| Co-Director\, GI/HPB Pathology\nCleveland Clinic
URL:https://www.med.unc.edu/pathology/event/pathology-grand-rounds-greening-the-lab-reducing-the-environmental-footprint-of-your-laboratory-dr-ilyssa-o-gordon/
LOCATION:Zoom
CATEGORIES:Events,Grand Rounds
ATTACH;FMTTYPE=image/jpeg:https://www.med.unc.edu/pathology/wp-content/uploads/sites/646/2022/10/Ilyssa-O.-Gordon-MD-PhD-Sept-2022-e1666153875578.jpg
END:VEVENT
END:VCALENDAR