BEGIN:VCALENDAR
VERSION:2.0
PRODID:-//Department of Pathology and Laboratory Medicine - ECPv6.15.18//NONSGML v1.0//EN
CALSCALE:GREGORIAN
METHOD:PUBLISH
X-ORIGINAL-URL:https://www.med.unc.edu/pathology
X-WR-CALDESC:Events for Department of Pathology and Laboratory Medicine
REFRESH-INTERVAL;VALUE=DURATION:PT1H
X-Robots-Tag:noindex
X-PUBLISHED-TTL:PT1H
BEGIN:VTIMEZONE
TZID:America/New_York
BEGIN:DAYLIGHT
TZOFFSETFROM:-0500
TZOFFSETTO:-0400
TZNAME:EDT
DTSTART:20210314T070000
END:DAYLIGHT
BEGIN:STANDARD
TZOFFSETFROM:-0400
TZOFFSETTO:-0500
TZNAME:EST
DTSTART:20211107T060000
END:STANDARD
BEGIN:DAYLIGHT
TZOFFSETFROM:-0500
TZOFFSETTO:-0400
TZNAME:EDT
DTSTART:20220313T070000
END:DAYLIGHT
BEGIN:STANDARD
TZOFFSETFROM:-0400
TZOFFSETTO:-0500
TZNAME:EST
DTSTART:20221106T060000
END:STANDARD
BEGIN:DAYLIGHT
TZOFFSETFROM:-0500
TZOFFSETTO:-0400
TZNAME:EDT
DTSTART:20230312T070000
END:DAYLIGHT
BEGIN:STANDARD
TZOFFSETFROM:-0400
TZOFFSETTO:-0500
TZNAME:EST
DTSTART:20231105T060000
END:STANDARD
END:VTIMEZONE
BEGIN:VEVENT
DTSTART;TZID=America/New_York:20221103T083000
DTEND;TZID=America/New_York:20221103T093000
DTSTAMP:20260419T152333
CREATED:20221019T043938Z
LAST-MODIFIED:20221019T043938Z
UID:10000237-1667464200-1667467800@www.med.unc.edu
SUMMARY:Pathology Grand Rounds-"Neuropathology of Dementia Across the Human Aging Spectrum"-Dr. S.-H. Jerry Wang
DESCRIPTION:S.-H. Jerry Wang\, MD\, PhD\nAssistant Professor of Pathology and Neurology\nDirector\, Duke Bryan Brain Bank\nAssociate Director\, Autopsy Neuropathology\nDuke University Medical Center
URL:https://www.med.unc.edu/pathology/event/pathology-grand-rounds-neuropathology-of-dementia-across-the-human-aging-spectrum-dr-s-h-jerry-wang/
LOCATION:Zoom
CATEGORIES:Events,Grand Rounds
ATTACH;FMTTYPE=image/jpeg:https://www.med.unc.edu/pathology/wp-content/uploads/sites/646/2022/10/Wang_Jerry-portrait-2018-final-proof-e1666154330180.jpg
END:VEVENT
BEGIN:VEVENT
DTSTART;TZID=America/New_York:20221103T120000
DTEND;TZID=America/New_York:20221103T130000
DTSTAMP:20260419T152333
CREATED:20221021T180459Z
LAST-MODIFIED:20221021T182811Z
UID:10000242-1667476800-1667480400@www.med.unc.edu
SUMMARY:WHMC Seminar Series - "Reproductive Justice Work at UNC"
DESCRIPTION:In collaboration with the SisterSong Women of Color Reproductive Justice Collective and the Center for Health Equity Research at UNC\, the Women’s Health Multidisciplinary Consortium cordially invites you to join us for Reproductive Justice Week at UNC. Together\, we are hosting three events that will provide a broad view of reproductive justice and reproductive health. \n  \nWHMC Seminar Event:  \n  \nThursday\, November 3rd  12-1pm \nSeminar on Reproductive Justice Work at UNC \n​This is part of the monthly Women’s Health Research Seminar Hot Topic Series presented by the WHMC. All are welcome to attend! \n  \nSpeakers and Talk Titles: \nDr. Kavita Arora: “Equitable Postpartum Permanent Contraception.”\nDr. Abigail English: “Reproductive Health\, Rights\, and Justice for Adolescents and Young Adults in a Post-Roe Era.” \nDr. Kristin Tully: “Respectful\, Equitable\, and Supportive Postpartum Care” \n  \nALL ARE WELCOME. To attend the SisterSong-led workshops\, please register using the this link: go.unc.edu/LetsTalkRJ. To ensure there is enough space for everyone\, please register ASAP to reserve your spot. \n \nReproductive Justice Week Events with SisterSong and CHER:  \n  \nWednesday November 2nd 3-5:30pm: \nSisterSong Workshop: “What is Reproductive Justice: An interactive workshop presented by SisterSong about the history\, practice\, and advocacy of reproductive justice for Black\, Indigenous\, and People of Color.” \nThis is a didactic course with Q&A included. The educational event will be in-person and led by SisterSong. \n  \nThursday November 3rd  3-5:30pm: \nSisterSong Discussion Panel:  “An informal panel discussion with birthing\, post-partum\, and abortion doulas working with diverse populations” \nThis panel is focused on person-centered reproductive health advocacy. The panel will include a diverse group of 4 doulas that support incarcerated women\, LGBTQ individuals\, abortion care\, labor\, and delivery. \nIn-person event only and led by SisterSong. \n  \n  \nThank you for your continued support of women’s health at UNC. We hope to see you at these events! \n  \nSincerely\, \n  \nThe WHMC Planning Committee
URL:https://www.med.unc.edu/pathology/event/whmc-seminar-series-reproductive-justice-work-at-unc/
LOCATION:Bondurant G100
CATEGORIES:Events
END:VEVENT
BEGIN:VEVENT
DTSTART;TZID=America/New_York:20221115T123000
DTEND;TZID=America/New_York:20221115T133000
DTSTAMP:20260419T152333
CREATED:20221104T170300Z
LAST-MODIFIED:20221109T193126Z
UID:10000243-1668515400-1668519000@www.med.unc.edu
SUMMARY:Student Seminar-Dr. Morika Williams-"Pain is Life Altering: Especially for Babies"
DESCRIPTION:Morika D. Williams\, DVM\, PhD\, DACLAM\nDirector\, Laboratory Animal Medicine Residency Training Program\nAssistant Professor\, Department of Pathology & Laboratory Medicine\nClinical Veterinarian\, Division of Comparative Medicine
URL:https://www.med.unc.edu/pathology/event/student-seminar-dr-morika-williams/
LOCATION:MacNider 321
CATEGORIES:Events,Student Seminar Series
ATTACH;FMTTYPE=image/jpeg:https://www.med.unc.edu/pathology/wp-content/uploads/sites/646/2022/11/Morika-Williams-slctsm.jpg
END:VEVENT
BEGIN:VEVENT
DTSTART;TZID=America/New_York:20221117T083000
DTEND;TZID=America/New_York:20221117T093000
DTSTAMP:20260419T152333
CREATED:20221019T045129Z
LAST-MODIFIED:20221019T045214Z
UID:10000238-1668673800-1668677400@www.med.unc.edu
SUMMARY:Pathology Grand Rounds-"Liquid Biopsies for Cancer: Opportunities and Challenges"-Dr. Steven A. Soper
DESCRIPTION:Steven A. Soper\, PhD\nFoundation Distinguished Professor\nThe University of Kansas
URL:https://www.med.unc.edu/pathology/event/pathology-grand-rounds-liquid-biopsies-for-cancer-opportunities-and-challenges-dr-steven-a-soper/
LOCATION:Bioinformatics 1131\, 130 Mason Farm Rd\, Chapel Hill\, NC\, 27599\, United States
CATEGORIES:Events,Grand Rounds
ATTACH;FMTTYPE=image/jpeg:https://www.med.unc.edu/pathology/wp-content/uploads/sites/646/2022/10/soper.jpg
END:VEVENT
END:VCALENDAR