BEGIN:VCALENDAR
VERSION:2.0
PRODID:-//Department of Pathology and Laboratory Medicine - ECPv6.15.18//NONSGML v1.0//EN
CALSCALE:GREGORIAN
METHOD:PUBLISH
X-ORIGINAL-URL:https://www.med.unc.edu/pathology
X-WR-CALDESC:Events for Department of Pathology and Laboratory Medicine
REFRESH-INTERVAL;VALUE=DURATION:PT1H
X-Robots-Tag:noindex
X-PUBLISHED-TTL:PT1H
BEGIN:VTIMEZONE
TZID:America/New_York
BEGIN:DAYLIGHT
TZOFFSETFROM:-0500
TZOFFSETTO:-0400
TZNAME:EDT
DTSTART:20210314T070000
END:DAYLIGHT
BEGIN:STANDARD
TZOFFSETFROM:-0400
TZOFFSETTO:-0500
TZNAME:EST
DTSTART:20211107T060000
END:STANDARD
BEGIN:DAYLIGHT
TZOFFSETFROM:-0500
TZOFFSETTO:-0400
TZNAME:EDT
DTSTART:20220313T070000
END:DAYLIGHT
BEGIN:STANDARD
TZOFFSETFROM:-0400
TZOFFSETTO:-0500
TZNAME:EST
DTSTART:20221106T060000
END:STANDARD
BEGIN:DAYLIGHT
TZOFFSETFROM:-0500
TZOFFSETTO:-0400
TZNAME:EDT
DTSTART:20230312T070000
END:DAYLIGHT
BEGIN:STANDARD
TZOFFSETFROM:-0400
TZOFFSETTO:-0500
TZNAME:EST
DTSTART:20231105T060000
END:STANDARD
END:VTIMEZONE
BEGIN:VEVENT
DTSTART;TZID=America/New_York:20221201T083000
DTEND;TZID=America/New_York:20221201T093000
DTSTAMP:20260422T063707
CREATED:20221019T050247Z
LAST-MODIFIED:20250723T183203Z
UID:10000240-1669883400-1669887000@www.med.unc.edu
SUMMARY:Pathology Meeting
DESCRIPTION:
URL:https://www.med.unc.edu/pathology/event/pathology-dei-meeting/
LOCATION:Zoom
END:VEVENT
BEGIN:VEVENT
DTSTART;TZID=America/New_York:20221208T083000
DTEND;TZID=America/New_York:20221208T093000
DTSTAMP:20260422T063707
CREATED:20221019T045816Z
LAST-MODIFIED:20221019T045833Z
UID:10000239-1670488200-1670491800@www.med.unc.edu
SUMMARY:Pathology Grand Rounds - "Molecular Mechanisms of Cardiac Regeneration and Maturation"-Dr. Jiandong Liu
DESCRIPTION:Jiandong Liu\, PhD\nAssociate Professor\nDepartment of Pathology and Laboratory Medicine\nUniversity of North Carolina at Chapel Hill
URL:https://www.med.unc.edu/pathology/event/pathology-grand-rounds-molecular-mechanisms-of-cardiac-regeneration-and-maturation-dr-jiandong-liu/
LOCATION:Zoom
CATEGORIES:Events,Grand Rounds
ATTACH;FMTTYPE=image/jpeg:https://www.med.unc.edu/pathology/wp-content/uploads/sites/646/2022/10/JL-e1666155460384.jpeg
END:VEVENT
BEGIN:VEVENT
DTSTART;TZID=America/New_York:20221212T150000
DTEND;TZID=America/New_York:20221212T160000
DTSTAMP:20260422T063707
CREATED:20221208T180133Z
LAST-MODIFIED:20221208T180133Z
UID:10000245-1670857200-1670860800@www.med.unc.edu
SUMMARY:WHMC Fall Seminar Series - "Early Research in Endometrial Cancer: Bench and Bedside Perspectives"
DESCRIPTION:
URL:https://www.med.unc.edu/pathology/event/whmc-fall-seminar-series-early-research-in-endometrial-cancer-bench-and-bedside-perspectives/
LOCATION:Zoom
CATEGORIES:Events
ATTACH;FMTTYPE=image/png:https://www.med.unc.edu/pathology/wp-content/uploads/sites/646/2022/12/December_2022_Endometrial.png
END:VEVENT
BEGIN:VEVENT
DTSTART;TZID=America/New_York:20221213T123000
DTEND;TZID=America/New_York:20221213T133000
DTSTAMP:20260422T063707
CREATED:20221121T180115Z
LAST-MODIFIED:20221121T180115Z
UID:10000244-1670934600-1670938200@www.med.unc.edu
SUMMARY:Student Seminar - Dr. Frank Conlon-"The Genetic and Molecular Basis of Cardiac Sex Differences"
DESCRIPTION:Frank Conlon\, PhD\nProfessor\nGenetics Director\nBiological and Genome Sciences\nUniversity of North Carolina at Chapel Hill
URL:https://www.med.unc.edu/pathology/event/student-seminar-dr-frank-conlon-the-genetic-and-molecular-basis-of-cardiac-sex-differences/
LOCATION:MacNider 321
CATEGORIES:Events,Student Seminar Series
ATTACH;FMTTYPE=image/jpeg:https://www.med.unc.edu/pathology/wp-content/uploads/sites/646/2022/11/conlon-frank-188X250.jpg
END:VEVENT
END:VCALENDAR