BEGIN:VCALENDAR
VERSION:2.0
PRODID:-//Department of Pathology and Laboratory Medicine - ECPv6.15.18//NONSGML v1.0//EN
CALSCALE:GREGORIAN
METHOD:PUBLISH
X-ORIGINAL-URL:https://www.med.unc.edu/pathology
X-WR-CALDESC:Events for Department of Pathology and Laboratory Medicine
REFRESH-INTERVAL;VALUE=DURATION:PT1H
X-Robots-Tag:noindex
X-PUBLISHED-TTL:PT1H
BEGIN:VTIMEZONE
TZID:America/New_York
BEGIN:DAYLIGHT
TZOFFSETFROM:-0500
TZOFFSETTO:-0400
TZNAME:EDT
DTSTART:20200308T070000
END:DAYLIGHT
BEGIN:STANDARD
TZOFFSETFROM:-0400
TZOFFSETTO:-0500
TZNAME:EST
DTSTART:20201101T060000
END:STANDARD
BEGIN:DAYLIGHT
TZOFFSETFROM:-0500
TZOFFSETTO:-0400
TZNAME:EDT
DTSTART:20210314T070000
END:DAYLIGHT
BEGIN:STANDARD
TZOFFSETFROM:-0400
TZOFFSETTO:-0500
TZNAME:EST
DTSTART:20211107T060000
END:STANDARD
BEGIN:DAYLIGHT
TZOFFSETFROM:-0500
TZOFFSETTO:-0400
TZNAME:EDT
DTSTART:20220313T070000
END:DAYLIGHT
BEGIN:STANDARD
TZOFFSETFROM:-0400
TZOFFSETTO:-0500
TZNAME:EST
DTSTART:20221106T060000
END:STANDARD
END:VTIMEZONE
BEGIN:VEVENT
DTSTART;TZID=America/New_York:20210204T130000
DTEND;TZID=America/New_York:20210204T170000
DTSTAMP:20260424T143815
CREATED:20210128T142147Z
LAST-MODIFIED:20210128T142147Z
UID:10000147-1612443600-1612458000@www.med.unc.edu
SUMMARY:Health Care Safe Zone Training
DESCRIPTION:Health Care Safe Zone is a four-hour alternative to Standard Safe Zone that similarly introduces concepts\, terminology\, and resources related to sexual orientation\, gender identity\, and gender expression. The curriculum also covers LGBTQ health disparities\, health resources\, and common health professional scenarios\, along with a terminology primer and strategies for allyship. This training is intended to address concerns particular to Health Care professionals. \nThe training is scheduled to be offered on February 4\, 2021; 1-5 pm and you can register here.
URL:https://www.med.unc.edu/pathology/event/health-care-safe-zone-training/
CATEGORIES:Events
ATTACH;FMTTYPE=image/png:https://www.med.unc.edu/pathology/wp-content/uploads/sites/646/2020/12/old-well-placeholder.png
END:VEVENT
END:VCALENDAR