BEGIN:VCALENDAR
VERSION:2.0
PRODID:-//Pediatric Education - ECPv6.15.18//NONSGML v1.0//EN
CALSCALE:GREGORIAN
METHOD:PUBLISH
X-ORIGINAL-URL:https://www.med.unc.edu/pediatrics/education
X-WR-CALDESC:Events for Pediatric Education
REFRESH-INTERVAL;VALUE=DURATION:PT1H
X-Robots-Tag:noindex
X-PUBLISHED-TTL:PT1H
BEGIN:VTIMEZONE
TZID:America/New_York
BEGIN:DAYLIGHT
TZOFFSETFROM:-0500
TZOFFSETTO:-0400
TZNAME:EDT
DTSTART:20200308T070000
END:DAYLIGHT
BEGIN:STANDARD
TZOFFSETFROM:-0400
TZOFFSETTO:-0500
TZNAME:EST
DTSTART:20201101T060000
END:STANDARD
BEGIN:DAYLIGHT
TZOFFSETFROM:-0500
TZOFFSETTO:-0400
TZNAME:EDT
DTSTART:20210314T070000
END:DAYLIGHT
BEGIN:STANDARD
TZOFFSETFROM:-0400
TZOFFSETTO:-0500
TZNAME:EST
DTSTART:20211107T060000
END:STANDARD
BEGIN:DAYLIGHT
TZOFFSETFROM:-0500
TZOFFSETTO:-0400
TZNAME:EDT
DTSTART:20220313T070000
END:DAYLIGHT
BEGIN:STANDARD
TZOFFSETFROM:-0400
TZOFFSETTO:-0500
TZNAME:EST
DTSTART:20221106T060000
END:STANDARD
END:VTIMEZONE
BEGIN:VEVENT
DTSTART;TZID=America/New_York:20210506T080000
DTEND;TZID=America/New_York:20210506T090000
DTSTAMP:20260423T054935
CREATED:20210428T183143Z
LAST-MODIFIED:20210428T183143Z
UID:10000156-1620288000-1620291600@www.med.unc.edu
SUMMARY:Morbidity and Mortality Conference
DESCRIPTION:  \nBenny Joyner\, MD\, MPH \nVice of Chair of Quality and Safety\nDepartment of Pediatrics\nUniversity of North Carolina at Chapel Hill
URL:https://www.med.unc.edu/pediatrics/education/event/morbidity-and-mortality-conference/
CATEGORIES:Grand Rounds
END:VEVENT
BEGIN:VEVENT
DTSTART;TZID=America/New_York:20210513T080000
DTEND;TZID=America/New_York:20210513T093000
DTSTAMP:20260423T054935
CREATED:20210428T183652Z
LAST-MODIFIED:20210428T183652Z
UID:10000157-1620892800-1620898200@www.med.unc.edu
SUMMARY:Day of Scholarship - Research and Quality Improvement Presentations
DESCRIPTION:
URL:https://www.med.unc.edu/pediatrics/education/event/day-of-scholarship-research-and-quality-improvement-presentations/
CATEGORIES:Grand Rounds
END:VEVENT
BEGIN:VEVENT
DTSTART;TZID=America/New_York:20210513T120000
DTEND;TZID=America/New_York:20210513T133000
DTSTAMP:20260423T054935
CREATED:20210428T183936Z
LAST-MODIFIED:20210428T183936Z
UID:10000158-1620907200-1620912600@www.med.unc.edu
SUMMARY:Day of Scholarship - Case Reports and Medical Education Presentations
DESCRIPTION:
URL:https://www.med.unc.edu/pediatrics/education/event/day-of-scholarship-case-reports-and-medical-education-presentations/
CATEGORIES:Grand Rounds
END:VEVENT
BEGIN:VEVENT
DTSTART;TZID=America/New_York:20210520T080000
DTEND;TZID=America/New_York:20210520T090000
DTSTAMP:20260423T054935
CREATED:20210428T184412Z
LAST-MODIFIED:20210428T184412Z
UID:10000159-1621497600-1621501200@www.med.unc.edu
SUMMARY:Transcatheter Patent Ductus Arteriosus Closure in Premature Infants
DESCRIPTION:
URL:https://www.med.unc.edu/pediatrics/education/event/transcatheter-patent-ductus-arteriosus-closure-in-premature-infants/
CATEGORIES:Grand Rounds
END:VEVENT
BEGIN:VEVENT
DTSTART;TZID=America/New_York:20210527T080000
DTEND;TZID=America/New_York:20210527T090000
DTSTAMP:20260423T054935
CREATED:20210428T184822Z
LAST-MODIFIED:20210520T173212Z
UID:10000160-1622102400-1622106000@www.med.unc.edu
SUMMARY:Using and Weaning Steroids: Rationale and Practical Issues
DESCRIPTION:
URL:https://www.med.unc.edu/pediatrics/education/event/2021-judson-van-wyk-lecture/
CATEGORIES:Grand Rounds
END:VEVENT
END:VCALENDAR