BEGIN:VCALENDAR
VERSION:2.0
PRODID:-//Pediatric Education - ECPv6.15.18//NONSGML v1.0//EN
CALSCALE:GREGORIAN
METHOD:PUBLISH
X-ORIGINAL-URL:https://www.med.unc.edu/pediatrics/education
X-WR-CALDESC:Events for Pediatric Education
REFRESH-INTERVAL;VALUE=DURATION:PT1H
X-Robots-Tag:noindex
X-PUBLISHED-TTL:PT1H
BEGIN:VTIMEZONE
TZID:America/New_York
BEGIN:DAYLIGHT
TZOFFSETFROM:-0500
TZOFFSETTO:-0400
TZNAME:EDT
DTSTART:20200308T070000
END:DAYLIGHT
BEGIN:STANDARD
TZOFFSETFROM:-0400
TZOFFSETTO:-0500
TZNAME:EST
DTSTART:20201101T060000
END:STANDARD
BEGIN:DAYLIGHT
TZOFFSETFROM:-0500
TZOFFSETTO:-0400
TZNAME:EDT
DTSTART:20210314T070000
END:DAYLIGHT
BEGIN:STANDARD
TZOFFSETFROM:-0400
TZOFFSETTO:-0500
TZNAME:EST
DTSTART:20211107T060000
END:STANDARD
BEGIN:DAYLIGHT
TZOFFSETFROM:-0500
TZOFFSETTO:-0400
TZNAME:EDT
DTSTART:20220313T070000
END:DAYLIGHT
BEGIN:STANDARD
TZOFFSETFROM:-0400
TZOFFSETTO:-0500
TZNAME:EST
DTSTART:20221106T060000
END:STANDARD
END:VTIMEZONE
BEGIN:VEVENT
DTSTART;TZID=America/New_York:20210603T080000
DTEND;TZID=America/New_York:20210603T090000
DTSTAMP:20260421T110251
CREATED:20210520T173759Z
LAST-MODIFIED:20210520T173923Z
UID:10000161-1622707200-1622710800@www.med.unc.edu
SUMMARY:Family-Based Weight Management: Evidence and Experience
DESCRIPTION:
URL:https://www.med.unc.edu/pediatrics/education/event/family-based-weight-management-evidence-and-experience/
CATEGORIES:Grand Rounds
END:VEVENT
BEGIN:VEVENT
DTSTART;TZID=America/New_York:20210610T080000
DTEND;TZID=America/New_York:20210610T090000
DTSTAMP:20260421T110251
CREATED:20210520T174223Z
LAST-MODIFIED:20210520T174223Z
UID:10000162-1623312000-1623315600@www.med.unc.edu
SUMMARY:Hemophilia in Children
DESCRIPTION:
URL:https://www.med.unc.edu/pediatrics/education/event/hemophilia-in-children/
CATEGORIES:Grand Rounds
END:VEVENT
BEGIN:VEVENT
DTSTART;TZID=America/New_York:20210617T080000
DTEND;TZID=America/New_York:20210617T090000
DTSTAMP:20260421T110251
CREATED:20210520T174319Z
LAST-MODIFIED:20210520T174319Z
UID:10000163-1623916800-1623920400@www.med.unc.edu
SUMMARY:End of Academic Year Celebration
DESCRIPTION:
URL:https://www.med.unc.edu/pediatrics/education/event/end-of-academic-year-celebration/
CATEGORIES:Grand Rounds
END:VEVENT
BEGIN:VEVENT
DTSTART;VALUE=DATE:20210624
DTEND;VALUE=DATE:20210625
DTSTAMP:20260421T110251
CREATED:20210520T174459Z
LAST-MODIFIED:20210520T174459Z
UID:10000164-1624492800-1624579199@www.med.unc.edu
SUMMARY:No Grand Rounds
DESCRIPTION:
URL:https://www.med.unc.edu/pediatrics/education/event/no-grand-rounds/
CATEGORIES:Grand Rounds
END:VEVENT
END:VCALENDAR