BEGIN:VCALENDAR
VERSION:2.0
PRODID:-//Pediatric Education - ECPv6.15.18//NONSGML v1.0//EN
CALSCALE:GREGORIAN
METHOD:PUBLISH
X-ORIGINAL-URL:https://www.med.unc.edu/pediatrics/education
X-WR-CALDESC:Events for Pediatric Education
REFRESH-INTERVAL;VALUE=DURATION:PT1H
X-Robots-Tag:noindex
X-PUBLISHED-TTL:PT1H
BEGIN:VTIMEZONE
TZID:America/New_York
BEGIN:DAYLIGHT
TZOFFSETFROM:-0500
TZOFFSETTO:-0400
TZNAME:EDT
DTSTART:20200308T070000
END:DAYLIGHT
BEGIN:STANDARD
TZOFFSETFROM:-0400
TZOFFSETTO:-0500
TZNAME:EST
DTSTART:20201101T060000
END:STANDARD
BEGIN:DAYLIGHT
TZOFFSETFROM:-0500
TZOFFSETTO:-0400
TZNAME:EDT
DTSTART:20210314T070000
END:DAYLIGHT
BEGIN:STANDARD
TZOFFSETFROM:-0400
TZOFFSETTO:-0500
TZNAME:EST
DTSTART:20211107T060000
END:STANDARD
BEGIN:DAYLIGHT
TZOFFSETFROM:-0500
TZOFFSETTO:-0400
TZNAME:EDT
DTSTART:20220313T070000
END:DAYLIGHT
BEGIN:STANDARD
TZOFFSETFROM:-0400
TZOFFSETTO:-0500
TZNAME:EST
DTSTART:20221106T060000
END:STANDARD
END:VTIMEZONE
BEGIN:VEVENT
DTSTART;VALUE=DATE:20210701
DTEND;VALUE=DATE:20210702
DTSTAMP:20260421T172420
CREATED:20210520T174744Z
LAST-MODIFIED:20210520T174744Z
UID:10000165-1625097600-1625183999@www.med.unc.edu
SUMMARY:No Grand Rounds
DESCRIPTION:
URL:https://www.med.unc.edu/pediatrics/education/event/no-grand-rounds-2/
CATEGORIES:Grand Rounds
END:VEVENT
BEGIN:VEVENT
DTSTART;VALUE=DATE:20210708
DTEND;VALUE=DATE:20210709
DTSTAMP:20260421T172420
CREATED:20210520T174840Z
LAST-MODIFIED:20210520T174907Z
UID:10000166-1625702400-1625788799@www.med.unc.edu
SUMMARY:No Grand Rounds
DESCRIPTION:
URL:https://www.med.unc.edu/pediatrics/education/event/no-grand-rounds-3/
CATEGORIES:Grand Rounds
END:VEVENT
BEGIN:VEVENT
DTSTART;VALUE=DATE:20210715
DTEND;VALUE=DATE:20210716
DTSTAMP:20260421T172420
CREATED:20210520T175303Z
LAST-MODIFIED:20210520T175303Z
UID:10000167-1626307200-1626393599@www.med.unc.edu
SUMMARY:No Grand Rounds
DESCRIPTION:
URL:https://www.med.unc.edu/pediatrics/education/event/no-grand-rounds-4/
CATEGORIES:Grand Rounds
END:VEVENT
BEGIN:VEVENT
DTSTART;VALUE=DATE:20210722
DTEND;VALUE=DATE:20210723
DTSTAMP:20260421T172420
CREATED:20210520T180136Z
LAST-MODIFIED:20210520T180136Z
UID:10000168-1626912000-1626998399@www.med.unc.edu
SUMMARY:No Grand Rounds
DESCRIPTION:
URL:https://www.med.unc.edu/pediatrics/education/event/no-grand-rounds-5/
CATEGORIES:Grand Rounds
END:VEVENT
BEGIN:VEVENT
DTSTART;VALUE=DATE:20210729
DTEND;VALUE=DATE:20210730
DTSTAMP:20260421T172420
CREATED:20210520T180454Z
LAST-MODIFIED:20210520T180454Z
UID:10000169-1627516800-1627603199@www.med.unc.edu
SUMMARY:No Grand Rounds
DESCRIPTION:
URL:https://www.med.unc.edu/pediatrics/education/event/no-grand-rounds-6/
CATEGORIES:Grand Rounds
END:VEVENT
END:VCALENDAR