BEGIN:VCALENDAR
VERSION:2.0
PRODID:-//Pediatric Education - ECPv6.15.18//NONSGML v1.0//EN
CALSCALE:GREGORIAN
METHOD:PUBLISH
X-ORIGINAL-URL:https://www.med.unc.edu/pediatrics/education
X-WR-CALDESC:Events for Pediatric Education
REFRESH-INTERVAL;VALUE=DURATION:PT1H
X-Robots-Tag:noindex
X-PUBLISHED-TTL:PT1H
BEGIN:VTIMEZONE
TZID:America/New_York
BEGIN:DAYLIGHT
TZOFFSETFROM:-0500
TZOFFSETTO:-0400
TZNAME:EDT
DTSTART:20200308T070000
END:DAYLIGHT
BEGIN:STANDARD
TZOFFSETFROM:-0400
TZOFFSETTO:-0500
TZNAME:EST
DTSTART:20201101T060000
END:STANDARD
BEGIN:DAYLIGHT
TZOFFSETFROM:-0500
TZOFFSETTO:-0400
TZNAME:EDT
DTSTART:20210314T070000
END:DAYLIGHT
BEGIN:STANDARD
TZOFFSETFROM:-0400
TZOFFSETTO:-0500
TZNAME:EST
DTSTART:20211107T060000
END:STANDARD
BEGIN:DAYLIGHT
TZOFFSETFROM:-0500
TZOFFSETTO:-0400
TZNAME:EDT
DTSTART:20220313T070000
END:DAYLIGHT
BEGIN:STANDARD
TZOFFSETFROM:-0400
TZOFFSETTO:-0500
TZNAME:EST
DTSTART:20221106T060000
END:STANDARD
END:VTIMEZONE
BEGIN:VEVENT
DTSTART;TZID=America/New_York:20210902T080000
DTEND;TZID=America/New_York:20210902T090000
DTSTAMP:20260423T042451
CREATED:20210722T175057Z
LAST-MODIFIED:20210901T171550Z
UID:10000174-1630569600-1630573200@www.med.unc.edu
SUMMARY:Muscle From a Bottle: Challenges Involving Doping in Sports
DESCRIPTION:
URL:https://www.med.unc.edu/pediatrics/education/event/grand-rounds-4/
CATEGORIES:Grand Rounds
END:VEVENT
BEGIN:VEVENT
DTSTART;TZID=America/New_York:20210909T080000
DTEND;TZID=America/New_York:20210909T090000
DTSTAMP:20260423T042451
CREATED:20210722T174909Z
LAST-MODIFIED:20210820T175859Z
UID:10000173-1631174400-1631178000@www.med.unc.edu
SUMMARY:Spinal Fluid Diversion - Something Old\, Something New
DESCRIPTION:
URL:https://www.med.unc.edu/pediatrics/education/event/grand-rounds-3/
CATEGORIES:Grand Rounds
END:VEVENT
BEGIN:VEVENT
DTSTART;VALUE=DATE:20210916
DTEND;VALUE=DATE:20210917
DTSTAMP:20260423T042451
CREATED:20210722T195515Z
LAST-MODIFIED:20210722T195710Z
UID:10000175-1631750400-1631836799@www.med.unc.edu
SUMMARY:No Grand Rounds
DESCRIPTION:
URL:https://www.med.unc.edu/pediatrics/education/event/no-grand-rounds-7/
CATEGORIES:Grand Rounds
END:VEVENT
BEGIN:VEVENT
DTSTART;TZID=America/New_York:20210923T080000
DTEND;TZID=America/New_York:20210923T090000
DTSTAMP:20260423T042451
CREATED:20210722T200440Z
LAST-MODIFIED:20210923T143640Z
UID:10000176-1632384000-1632387600@www.med.unc.edu
SUMMARY:Health Inequities\, Health Policy and Pediatric Chronic Disease: Can We Improve Outcomes?
DESCRIPTION:
URL:https://www.med.unc.edu/pediatrics/education/event/grand-rounds-6/
CATEGORIES:Grand Rounds
END:VEVENT
BEGIN:VEVENT
DTSTART;TZID=America/New_York:20210930T080000
DTEND;TZID=America/New_York:20210930T090000
DTSTAMP:20260423T042451
CREATED:20210722T201236Z
LAST-MODIFIED:20210923T143721Z
UID:10000178-1632988800-1632992400@www.med.unc.edu
SUMMARY:Decisions\, Decisions: Engaging Families in the Care of Hypospadias Patients
DESCRIPTION:
URL:https://www.med.unc.edu/pediatrics/education/event/grand-rounds-7/
CATEGORIES:Grand Rounds
END:VEVENT
END:VCALENDAR