BEGIN:VCALENDAR
VERSION:2.0
PRODID:-//Pediatric Education - ECPv6.15.18//NONSGML v1.0//EN
CALSCALE:GREGORIAN
METHOD:PUBLISH
X-ORIGINAL-URL:https://www.med.unc.edu/pediatrics/education
X-WR-CALDESC:Events for Pediatric Education
REFRESH-INTERVAL;VALUE=DURATION:PT1H
X-Robots-Tag:noindex
X-PUBLISHED-TTL:PT1H
BEGIN:VTIMEZONE
TZID:America/New_York
BEGIN:DAYLIGHT
TZOFFSETFROM:-0500
TZOFFSETTO:-0400
TZNAME:EDT
DTSTART:20210314T070000
END:DAYLIGHT
BEGIN:STANDARD
TZOFFSETFROM:-0400
TZOFFSETTO:-0500
TZNAME:EST
DTSTART:20211107T060000
END:STANDARD
BEGIN:DAYLIGHT
TZOFFSETFROM:-0500
TZOFFSETTO:-0400
TZNAME:EDT
DTSTART:20220313T070000
END:DAYLIGHT
BEGIN:STANDARD
TZOFFSETFROM:-0400
TZOFFSETTO:-0500
TZNAME:EST
DTSTART:20221106T060000
END:STANDARD
BEGIN:DAYLIGHT
TZOFFSETFROM:-0500
TZOFFSETTO:-0400
TZNAME:EDT
DTSTART:20230312T070000
END:DAYLIGHT
BEGIN:STANDARD
TZOFFSETFROM:-0400
TZOFFSETTO:-0500
TZNAME:EST
DTSTART:20231105T060000
END:STANDARD
END:VTIMEZONE
BEGIN:VEVENT
DTSTART;TZID=America/New_York:20220505T080000
DTEND;TZID=America/New_York:20220505T090000
DTSTAMP:20260419T111454
CREATED:20211221T185740Z
LAST-MODIFIED:20211221T185740Z
UID:10000119-1651737600-1651741200@www.med.unc.edu
SUMMARY:Practical Approaches to Addressing the Social Determinants in Healthcare Settings
DESCRIPTION:
URL:https://www.med.unc.edu/pediatrics/education/event/practical-approaches-to-addressing-the-social-determinants-in-healthcare-settings/
CATEGORIES:Grand Rounds
END:VEVENT
END:VCALENDAR